BEGIN:VCALENDAR
VERSION:2.0
PRODID:-//Jugend-, Kultur- und Bürgerzentrum &quot;Zweite Heimat&quot; - ECPv6.15.20//NONSGML v1.0//EN
CALSCALE:GREGORIAN
METHOD:PUBLISH
X-WR-CALNAME:Jugend-, Kultur- und Bürgerzentrum &quot;Zweite Heimat&quot;
X-ORIGINAL-URL:https://juz-zweiteheimat.de
X-WR-CALDESC:Veranstaltungen für Jugend-, Kultur- und Bürgerzentrum &quot;Zweite Heimat&quot;
REFRESH-INTERVAL;VALUE=DURATION:PT1H
X-Robots-Tag:noindex
X-PUBLISHED-TTL:PT1H
BEGIN:VTIMEZONE
TZID:Europe/Berlin
BEGIN:DAYLIGHT
TZOFFSETFROM:+0100
TZOFFSETTO:+0200
TZNAME:CEST
DTSTART:20230326T010000
END:DAYLIGHT
BEGIN:STANDARD
TZOFFSETFROM:+0200
TZOFFSETTO:+0100
TZNAME:CET
DTSTART:20231029T010000
END:STANDARD
BEGIN:DAYLIGHT
TZOFFSETFROM:+0100
TZOFFSETTO:+0200
TZNAME:CEST
DTSTART:20240331T010000
END:DAYLIGHT
BEGIN:STANDARD
TZOFFSETFROM:+0200
TZOFFSETTO:+0100
TZNAME:CET
DTSTART:20241027T010000
END:STANDARD
BEGIN:DAYLIGHT
TZOFFSETFROM:+0100
TZOFFSETTO:+0200
TZNAME:CEST
DTSTART:20250330T010000
END:DAYLIGHT
BEGIN:STANDARD
TZOFFSETFROM:+0200
TZOFFSETTO:+0100
TZNAME:CET
DTSTART:20251026T010000
END:STANDARD
END:VTIMEZONE
BEGIN:VEVENT
DTSTART;TZID=Europe/Berlin:20240405T200000
DTEND;TZID=Europe/Berlin:20240405T200000
DTSTAMP:20260422T201052
CREATED:20230918T093251Z
LAST-MODIFIED:20240404T205907Z
UID:10000280-1712347200-1712347200@juz-zweiteheimat.de
SUMMARY:Christopher Köhlers Jubiläumsprogramm „Rock´n´Magic LIVE“
DESCRIPTION:Ob riskante Tricks mit messerscharfen Rasierklingen\, rostigen Nägeln und unzähligen Glasscherben oder waghalsige Stunts\, bei denen einem allein beim Zusehen der Atem stockt: Seit mittlerweile 15 Jahren steht der Bad Boy der deutschen Zauberszene auf den großen Bühnen der Nation. In seinem Jubiläumsprogramm „Rock´n´Magic LIVE“ legt er nun noch eine Schippe drauf: Noch extremer\, noch gefährlicher\, noch ekeliger – diese Show ist definitiv nichts für schwache Nerven. Mehr als je zuvor lässt Christopher Köhler die Grenzen zwischen Magie und Wirklichkeit verschwimmen. Er versteht es\, mit Extremen zu spielen und seine Zuschauer*innen wahrhaftig zu schockieren. Hat er das wirklich getan? Und vor allem: WARUM hat er das getan? \nÜber seine Shows sagt Zauberkünstler Christopher Köhler selbst: „Meine Tricks sind ein bisschen extremer. Mit ein bisschen Blut und ein bisschen schockierender.“ Schnell\, spontan und unzensiert – dafür steht Köhlers Programm. Aber auch für seine Interaktion mit einem Publikum\, das kaum hinschauen\, aber auch nicht weggucken kann\, wenn der Entertainer sein waghalsiges\nProgramm abliefert. Kaum jemandem gelingt es so gut wie ihm\, Illusion und Realität derart miteinander verschwimmen zu lassen. Gekonnt kombiniert er die Magie mit seiner Leidenschaft für Rockmusik und zeigt\, dass Zauberei weitaus mehr Bass hat\, als das angestaubte Image vermuten lässt – „Rock´n´Magic“ halt. Als Bad Boy der deutschen Zauberszene hat er damit eine Nische gefunden\, die den aktuellen Zeitgeist trifft. 08/15 Taschenspielertricks? Nicht mit ihm. Seit über 15 Jahren „rockt“ Köhler im großen Stil die deutschen (Fernseh-)Bühnen. \n \nAm Freitag\, 05. April 2024 um 20.00 Uhr im Kulturzentrum “Zweite Heimat”\, Mittelstr. 7 in Höhr-Grenzhausen. Karten sind erhältlich unter Tel.: 02624/7257 oder online unter www.juz-zweiteheimat.de und kosten im VVK: 25\,- Euro\, an der AK: 28\,- Euro. \nDie Veranstaltung fällt leider kurzfristig aus!
URL:https://juz-zweiteheimat.de/event/christopher-koehlers-jubilaeumsprogramm-rocknmagic-live/
LOCATION:Rheinland-Pfalz
ATTACH;FMTTYPE=image/jpeg:https://juz-zweiteheimat.de/wp-content/uploads/2023/09/RocknMagic-LIVE-Plakat-web.jpg
ORGANIZER;CN="Jugend-%2C Kultur- und B%C3%BCrgerzentrum 'Zweite Heimat'":MAILTO:info@juz-zweiteheimat.de
END:VEVENT
END:VCALENDAR