BEGIN:VCALENDAR
VERSION:2.0
PRODID:-//Jugend-, Kultur- und Bürgerzentrum &quot;Zweite Heimat&quot; - ECPv6.15.20//NONSGML v1.0//EN
CALSCALE:GREGORIAN
METHOD:PUBLISH
X-WR-CALNAME:Jugend-, Kultur- und Bürgerzentrum &quot;Zweite Heimat&quot;
X-ORIGINAL-URL:https://juz-zweiteheimat.de
X-WR-CALDESC:Veranstaltungen für Jugend-, Kultur- und Bürgerzentrum &quot;Zweite Heimat&quot;
REFRESH-INTERVAL;VALUE=DURATION:PT1H
X-Robots-Tag:noindex
X-PUBLISHED-TTL:PT1H
BEGIN:VTIMEZONE
TZID:Europe/Berlin
BEGIN:DAYLIGHT
TZOFFSETFROM:+0100
TZOFFSETTO:+0200
TZNAME:CEST
DTSTART:20230326T010000
END:DAYLIGHT
BEGIN:STANDARD
TZOFFSETFROM:+0200
TZOFFSETTO:+0100
TZNAME:CET
DTSTART:20231029T010000
END:STANDARD
BEGIN:DAYLIGHT
TZOFFSETFROM:+0100
TZOFFSETTO:+0200
TZNAME:CEST
DTSTART:20240331T010000
END:DAYLIGHT
BEGIN:STANDARD
TZOFFSETFROM:+0200
TZOFFSETTO:+0100
TZNAME:CET
DTSTART:20241027T010000
END:STANDARD
BEGIN:DAYLIGHT
TZOFFSETFROM:+0100
TZOFFSETTO:+0200
TZNAME:CEST
DTSTART:20250330T010000
END:DAYLIGHT
BEGIN:STANDARD
TZOFFSETFROM:+0200
TZOFFSETTO:+0100
TZNAME:CET
DTSTART:20251026T010000
END:STANDARD
END:VTIMEZONE
BEGIN:VEVENT
DTSTART;TZID=Europe/Berlin:20240406T150000
DTEND;TZID=Europe/Berlin:20240406T150000
DTSTAMP:20260422T201040
CREATED:20240323T070317Z
LAST-MODIFIED:20240323T070317Z
UID:10000314-1712415600-1712415600@juz-zweiteheimat.de
SUMMARY:Höhr-Grenzhausen steht auf für Demokratie\, Toleranz und Vielfalt
DESCRIPTION:
URL:https://juz-zweiteheimat.de/event/hoehr-grenzhausen-steht-auf-fuer-demokratie-toleranz-und-vielfalt/
LOCATION:Platz der Begegnung\, Rathausstraße 30\, Höhr-Grenzhausen\, 56203\, Deutschland
ATTACH;FMTTYPE=image/jpeg:https://juz-zweiteheimat.de/wp-content/uploads/2024/03/2024-Plakat-Demokratie-web.jpg
END:VEVENT
BEGIN:VEVENT
DTSTART;TZID=Europe/Berlin:20240406T200000
DTEND;TZID=Europe/Berlin:20240406T200000
DTSTAMP:20260422T201040
CREATED:20230920T121311Z
LAST-MODIFIED:20240322T121703Z
UID:10000283-1712433600-1712433600@juz-zweiteheimat.de
SUMMARY:Konzert „Jazz for Fun“
DESCRIPTION:Zurücklehnen und genießen.\nMusikalische Leckerbissen\, angefangen bei Jazz-Klassikern bis hin zu bekannten und verjazzten Pop-Songs\, angerichtet à la Jazz for fun\, lassen die Seele des Zuhörers baumeln. Joachim Marmann (git)\, Bernhard Rath (sax)\, Ansgar Sauerborn (bass) und Andreas Berg (drums) bieten einen unvergleichbaren und vielsaitigen musikalischen Teppich\, dem Ilona Sauerborn mit ihrer ausdrucksstarken Stimme eine besondere Note gibt. Das besondere Bukett liegt in der Reife und der jahrzehntelangen Erfahrung aller Musiker. \nAm Samstag\, 06. April 2024 um 20 Uhr im Kulturzentrum “Zweite Heimat”\, Mittelstr. 7 in Höhr-Grenzhausen. Karten sind erhältlich unter Tel.: 02624/7257 oder online unter www.juz-zweiteheimat.de und kosten im VVK: 18\,- Euro\, an der AK: 20\,- Euro. \nKartenreservierung Jazz for Fun am 06. April 2024Bitte aktiviere JavaScript in deinem Browser\, um dieses Formular fertigzustellen.VeranstaltungstitelAnzahl der Karten *12345678910Name *Telefon *E-Mail *StraßePLZ/OrtNewsletterJa\, ich möchte den Newsletter mit regelmäßigen Informationen über Veranstaltungen des Jugend- und Kulturzentrum "Zweite Heimat" erhalten.Datenschutz *Mit dem Absenden Ihrer Anfrage erklären Sie sich mit der Verarbeitung Ihrer angegebenen Daten zum Zweck der Bearbeitung Ihrer Anfrage einverstanden.https://www.juz-zweiteheimat.de/datenschutzerklaerungJetzt reservieren
URL:https://juz-zweiteheimat.de/event/konzert-jazz-for-fun-2/
LOCATION:Rheinland-Pfalz
ATTACH;FMTTYPE=image/jpeg:https://juz-zweiteheimat.de/wp-content/uploads/2022/05/Jazz-for-fun.jpg
ORGANIZER;CN="Jugend-%2C Kultur- und B%C3%BCrgerzentrum 'Zweite Heimat'":MAILTO:info@juz-zweiteheimat.de
END:VEVENT
END:VCALENDAR