BEGIN:VCALENDAR
VERSION:2.0
PRODID:-//Jugend-, Kultur- und Bürgerzentrum &quot;Zweite Heimat&quot; - ECPv6.15.20//NONSGML v1.0//EN
CALSCALE:GREGORIAN
METHOD:PUBLISH
X-ORIGINAL-URL:https://juz-zweiteheimat.de
X-WR-CALDESC:Veranstaltungen für Jugend-, Kultur- und Bürgerzentrum &quot;Zweite Heimat&quot;
REFRESH-INTERVAL;VALUE=DURATION:PT1H
X-Robots-Tag:noindex
X-PUBLISHED-TTL:PT1H
BEGIN:VTIMEZONE
TZID:Europe/Berlin
BEGIN:DAYLIGHT
TZOFFSETFROM:+0100
TZOFFSETTO:+0200
TZNAME:CEST
DTSTART:20230326T010000
END:DAYLIGHT
BEGIN:STANDARD
TZOFFSETFROM:+0200
TZOFFSETTO:+0100
TZNAME:CET
DTSTART:20231029T010000
END:STANDARD
BEGIN:DAYLIGHT
TZOFFSETFROM:+0100
TZOFFSETTO:+0200
TZNAME:CEST
DTSTART:20240331T010000
END:DAYLIGHT
BEGIN:STANDARD
TZOFFSETFROM:+0200
TZOFFSETTO:+0100
TZNAME:CET
DTSTART:20241027T010000
END:STANDARD
BEGIN:DAYLIGHT
TZOFFSETFROM:+0100
TZOFFSETTO:+0200
TZNAME:CEST
DTSTART:20250330T010000
END:DAYLIGHT
BEGIN:STANDARD
TZOFFSETFROM:+0200
TZOFFSETTO:+0100
TZNAME:CET
DTSTART:20251026T010000
END:STANDARD
END:VTIMEZONE
BEGIN:VEVENT
DTSTART;TZID=Europe/Berlin:20240426T200000
DTEND;TZID=Europe/Berlin:20240426T200000
DTSTAMP:20260423T041441
CREATED:20231215T190948Z
LAST-MODIFIED:20240319T102128Z
UID:10000301-1714161600-1714161600@juz-zweiteheimat.de
SUMMARY:Lulo Reinhardt Accoustic Lounge - Latin Swing Project am 26. April 2024
DESCRIPTION:Lulo Reinhardt\, Träger des „Deutschen Schallplatten Preises 2019“ gründete 2002 das Latin Swing Project. Seitdem spielte die Band bereits 13 mal in Australien\, USA\, China\, Marokko\, Großbritannien und Europa. \nVoller Eleganz\, ausgelassener Spielfreude und meisterlichem Können kombinieren sie traditionelle Swing-Jazz-Elemente\, temperamentvolle Flamencoklänge und mitreißenden Latin-Jazz – von Bossa-Nova bis hin zum Tango – zu einem inspiriert fließenden Ganzen. Mal sanft verträumt\, dann wieder mit faszinierender Kraft und atemberaubender Geschwindigkeit vorgetragen\, warten Lulo Reinhardt\, sein Ensemble und einige Gäste mit einem harmonisch rhythmischem Latin-Swing- Feuerwerk der Sonderklasse auf. \nLulo Reinhardt\, Guitar\nHarald Becher\, Bass\nUli Krämer\, Drums\nChristoph König\, Violin\nJürgen Schuld\, Percussion\nWinfried Schuld\, Piano \nAm Freitag\, 26. April 2024 um 20.00 Uhr im Kulturzentrum “Zweite Heimat”\, Mittelstr. 7 in Höhr-Grenzhausen. Karten sind erhältlich unter Tel.: 02624/7257 oder online unter www.juz-zweiteheimat.de und kosten im VVK: 20\,- Euro\, an der AK: 22\,- Euro. \nKartenreservierung Lulo Reinhardt Accoustic Lounge - Latin Swing Project am 26. April 2024Bitte aktiviere JavaScript in deinem Browser\, um dieses Formular fertigzustellen.VeranstaltungstitelAnzahl der Karten *12345678910Name *Telefon *E-Mail *StraßePLZ/OrtNewsletterJa\, ich möchte den Newsletter mit regelmäßigen Informationen über Veranstaltungen des Jugend- und Kulturzentrum "Zweite Heimat" erhalten.Datenschutz *Mit dem Absenden Ihrer Anfrage erklären Sie sich mit der Verarbeitung Ihrer angegebenen Daten zum Zweck der Bearbeitung Ihrer Anfrage einverstanden.https://www.juz-zweiteheimat.de/datenschutzerklaerungJetzt reservieren
URL:https://juz-zweiteheimat.de/event/lulo-reinhardt-accoustic-lounge-am-26-april-2024/
LOCATION:Jugend-\, Kultur- und Bürgerzentrum “Zweite Heimat”\, Mittelstraße 7\, Höhr-Grenzhausen\, Rheinland-Pfalz\, 56203\, Germany
ATTACH;FMTTYPE=image/jpeg:https://juz-zweiteheimat.de/wp-content/uploads/2023/12/Lulo-Reinhardt-Latin-Swing-Project.jpg
ORGANIZER;CN="Jugend-%2C Kultur- und B%C3%BCrgerzentrum 'Zweite Heimat'":MAILTO:info@juz-zweiteheimat.de
END:VEVENT
END:VCALENDAR