BEGIN:VCALENDAR
VERSION:2.0
PRODID:-//Jugend-, Kultur- und Bürgerzentrum &quot;Zweite Heimat&quot; - ECPv6.15.20//NONSGML v1.0//EN
CALSCALE:GREGORIAN
METHOD:PUBLISH
X-ORIGINAL-URL:https://juz-zweiteheimat.de
X-WR-CALDESC:Veranstaltungen für Jugend-, Kultur- und Bürgerzentrum &quot;Zweite Heimat&quot;
REFRESH-INTERVAL;VALUE=DURATION:PT1H
X-Robots-Tag:noindex
X-PUBLISHED-TTL:PT1H
BEGIN:VTIMEZONE
TZID:Europe/Berlin
BEGIN:DAYLIGHT
TZOFFSETFROM:+0100
TZOFFSETTO:+0200
TZNAME:CEST
DTSTART:20230326T010000
END:DAYLIGHT
BEGIN:STANDARD
TZOFFSETFROM:+0200
TZOFFSETTO:+0100
TZNAME:CET
DTSTART:20231029T010000
END:STANDARD
BEGIN:DAYLIGHT
TZOFFSETFROM:+0100
TZOFFSETTO:+0200
TZNAME:CEST
DTSTART:20240331T010000
END:DAYLIGHT
BEGIN:STANDARD
TZOFFSETFROM:+0200
TZOFFSETTO:+0100
TZNAME:CET
DTSTART:20241027T010000
END:STANDARD
BEGIN:DAYLIGHT
TZOFFSETFROM:+0100
TZOFFSETTO:+0200
TZNAME:CEST
DTSTART:20250330T010000
END:DAYLIGHT
BEGIN:STANDARD
TZOFFSETFROM:+0200
TZOFFSETTO:+0100
TZNAME:CET
DTSTART:20251026T010000
END:STANDARD
END:VTIMEZONE
BEGIN:VEVENT
DTSTART;TZID=Europe/Berlin:20240505T130000
DTEND;TZID=Europe/Berlin:20240505T180000
DTSTAMP:20260423T134241
CREATED:20231207T163454Z
LAST-MODIFIED:20240411T100313Z
UID:10000299-1714914000-1714932000@juz-zweiteheimat.de
SUMMARY:Kreisfamilienfest - Wäller Spiele(n) am 05. Mai 2024
DESCRIPTION:Geballter Familienspaß beim 8. Kreisfamilienfest \nIn diesem Jahr wieder in Hachenburg im Burggarten \nRiesen-Hüpfburgen\, Bullriding\, Kreativ- und Digitalangebote sowie jede Menge Spaß und Abenteuer für jedes Alter\, das garantiert auch wieder das 8. Kreisfamilienfest in Hachenburg im Buggarten. Bereits im Jahr 2015 fand dort die erste Ausgabe des stetig wachsenden Festes statt\, damals meinte es Petrus nicht gut mit den Veranstaltern und es regnete fast den ganzen Tag. Das soll 2024 anders werden. Nachdem in den vergangenen Jahren das beliebte Familienfest in den anderen Verbandsgemeinden im Westerwald gastierte\, dürfen sich bei der 8. Ausgabe vor allem alle Kinder\, Jugendlichen und deren Familien aus dem Raum Hachenburg (und auch aus dem gesamten Westerwald) auf eine weitere Auflage dieser Veranstaltung freuen. Der Burggarten-Park wird am 05. Mai 2024 zum Mega-Spielplatz und die Jugendzentren aus dem Westerwald zeigen\, was sie alles so „im Peto“ haben. Die Kreisjugendpflege der Kreisverwaltung Westerwald unterstützt dabei die Jugendhäuser aus Bad Marienberg\, Wallmerod\, Wirges\, Höhr-Grenzhausen\, Ransbach-Baumbach\, Selters\, Westerburg\, Montabaur\, Rennerod und eben Hachenburg selbst. Highlight sind neben den Riesen-Hüpfburgen sicherlich das Bullriding\, die Kreativ- und Bastelangebote sowie die Green-Lounge uvm. Zahlreiche weitere Spielangebote für jedes Alter warten von 13 bis 18 Uhr auf begeisterte Besucher. \nAuch für das leibliche Wohl ist selbstverständlich Bestens gesorgt und der Eintritt zu allen Angeboten und zu der Veranstaltung selbst ist frei!
URL:https://juz-zweiteheimat.de/event/kreisfamilienfest-waeller-spielen-am-05-mai-2024/
LOCATION:Hachenburg Burggarten\, Am Burggarten\, Hachenburg\, 57627\, Deutschland
ATTACH;FMTTYPE=image/jpeg:https://juz-zweiteheimat.de/wp-content/uploads/2023/12/Plakat-Kreisfamilienfest-2024-web.jpg
END:VEVENT
END:VCALENDAR