BEGIN:VCALENDAR
VERSION:2.0
PRODID:-//Jugend-, Kultur- und Bürgerzentrum &quot;Zweite Heimat&quot; - ECPv6.15.20//NONSGML v1.0//EN
CALSCALE:GREGORIAN
METHOD:PUBLISH
X-ORIGINAL-URL:https://juz-zweiteheimat.de
X-WR-CALDESC:Veranstaltungen für Jugend-, Kultur- und Bürgerzentrum &quot;Zweite Heimat&quot;
REFRESH-INTERVAL;VALUE=DURATION:PT1H
X-Robots-Tag:noindex
X-PUBLISHED-TTL:PT1H
BEGIN:VTIMEZONE
TZID:Europe/Berlin
BEGIN:DAYLIGHT
TZOFFSETFROM:+0100
TZOFFSETTO:+0200
TZNAME:CEST
DTSTART:20230326T010000
END:DAYLIGHT
BEGIN:STANDARD
TZOFFSETFROM:+0200
TZOFFSETTO:+0100
TZNAME:CET
DTSTART:20231029T010000
END:STANDARD
BEGIN:DAYLIGHT
TZOFFSETFROM:+0100
TZOFFSETTO:+0200
TZNAME:CEST
DTSTART:20240331T010000
END:DAYLIGHT
BEGIN:STANDARD
TZOFFSETFROM:+0200
TZOFFSETTO:+0100
TZNAME:CET
DTSTART:20241027T010000
END:STANDARD
BEGIN:DAYLIGHT
TZOFFSETFROM:+0100
TZOFFSETTO:+0200
TZNAME:CEST
DTSTART:20250330T010000
END:DAYLIGHT
BEGIN:STANDARD
TZOFFSETFROM:+0200
TZOFFSETTO:+0100
TZNAME:CET
DTSTART:20251026T010000
END:STANDARD
END:VTIMEZONE
BEGIN:VEVENT
DTSTART;TZID=Europe/Berlin:20240508T200000
DTEND;TZID=Europe/Berlin:20240508T200000
DTSTAMP:20260423T041532
CREATED:20230717T135842Z
LAST-MODIFIED:20240507T065504Z
UID:10000279-1715198400-1715198400@juz-zweiteheimat.de
SUMMARY:Simply the Bätz - "Alles gut ist auch scheiße"
DESCRIPTION:Mittlerweile ist St. Pauli sein zu Hause und auch seinen Platz in der deutschen Comedy- und Musiklandschaft hat Bätz endlich gefunden. Doch wenn er von seiner Suche\, den Sackgassen und Irrwegen berichtet\, die ihn aus einem kleinen Eifeldorf in seine neue Heimat gebracht haben\, dann provoziert das bei den Zuschauer*innen ungenierte Lachanfälle sowie ertapptes Schmunzeln. \nAusgerüstet mit Bart\, Gitarre und einem leichten Hang zu enttäuschten Erwartungen  unterhält der Comedian und Musiker mit eigenen Songs und losem Mundwerk\, dabei beweist er stets viel Gespür für wenig Zurückhaltung. Mal sanftmütig und mal ungehobelt findet er die Komik im Tragischen und versteht es damit wie kein zweiter\, sein Publikum zu schütteln und zu rühren. \nDeshalb ist der empathische Zyniker auch zu Recht gern gesehener Gast auf Songwriter-und Comedy-Bühnen in ganz Deutschland (u.a. Nightwash\, Quatsch Comedy Club) oder zum privaten Ständchen\, während die Welt um uns versinkt. \nwww.simplythebaetz.de \nAm Mittwoch\, 08. Mai 2024 um 20 Uhr im Kulturzentrum “Zweite Heimat”\, Mittelstrasse 7 in Höhr-Grenzhausen. Karten sind erhältlich unter Tel.: 02624/7257 oder online unter www.juz-zweiteheimat.de und kosten im VVK: 18\,- Euro\, an der AK: 20\,- Euro. \nDie Veranstaltung fällt kurzfristig aus!
URL:https://juz-zweiteheimat.de/event/simply-the-baetz-alles-gut-ist-auch-scheisse-2/
LOCATION:Rheinland-Pfalz
ATTACH;FMTTYPE=image/jpeg:https://juz-zweiteheimat.de/wp-content/uploads/2023/07/Baetz-Pressebild-Andreas-Weller-web.jpg
ORGANIZER;CN="Jugend-%2C Kultur- und B%C3%BCrgerzentrum 'Zweite Heimat'":MAILTO:info@juz-zweiteheimat.de
END:VEVENT
END:VCALENDAR