BEGIN:VCALENDAR
VERSION:2.0
PRODID:-//Jugend-, Kultur- und Bürgerzentrum &quot;Zweite Heimat&quot; - ECPv6.15.20//NONSGML v1.0//EN
CALSCALE:GREGORIAN
METHOD:PUBLISH
X-WR-CALNAME:Jugend-, Kultur- und Bürgerzentrum &quot;Zweite Heimat&quot;
X-ORIGINAL-URL:https://juz-zweiteheimat.de
X-WR-CALDESC:Veranstaltungen für Jugend-, Kultur- und Bürgerzentrum &quot;Zweite Heimat&quot;
REFRESH-INTERVAL;VALUE=DURATION:PT1H
X-Robots-Tag:noindex
X-PUBLISHED-TTL:PT1H
BEGIN:VTIMEZONE
TZID:Europe/Berlin
BEGIN:DAYLIGHT
TZOFFSETFROM:+0100
TZOFFSETTO:+0200
TZNAME:CEST
DTSTART:20230326T010000
END:DAYLIGHT
BEGIN:STANDARD
TZOFFSETFROM:+0200
TZOFFSETTO:+0100
TZNAME:CET
DTSTART:20231029T010000
END:STANDARD
BEGIN:DAYLIGHT
TZOFFSETFROM:+0100
TZOFFSETTO:+0200
TZNAME:CEST
DTSTART:20240331T010000
END:DAYLIGHT
BEGIN:STANDARD
TZOFFSETFROM:+0200
TZOFFSETTO:+0100
TZNAME:CET
DTSTART:20241027T010000
END:STANDARD
BEGIN:DAYLIGHT
TZOFFSETFROM:+0100
TZOFFSETTO:+0200
TZNAME:CEST
DTSTART:20250330T010000
END:DAYLIGHT
BEGIN:STANDARD
TZOFFSETFROM:+0200
TZOFFSETTO:+0100
TZNAME:CET
DTSTART:20251026T010000
END:STANDARD
END:VTIMEZONE
BEGIN:VEVENT
DTSTART;TZID=Europe/Berlin:20240517T200000
DTEND;TZID=Europe/Berlin:20240517T200000
DTSTAMP:20260423T052604
CREATED:20231215T191046Z
LAST-MODIFIED:20240509T194710Z
UID:10000302-1715976000-1715976000@juz-zweiteheimat.de
SUMMARY:Lulo Reinhardt Accoustic Lounge feat. Kristin Shey am 17. Mai 2024
DESCRIPTION:Kristin Shey ist eine Künstlerin\, die mit einer großen Portion Charme und Originalität brilliert. Die Kraft und die Flexibilität ihrer unverkennbaren Stimme sind ihr Markenzeichen und unterlegt mit ihrem außerordentlich groovigen Gitarrenspiel bringt sie ihre eingängigen Songs zum glänzen. Es ist das Verwegene und doch Zarte\, das Rhythmusgefühl und ihr Sinn für Melodien und Dynamik\, was Kristin Shey so besonders und einzigartig macht. So verbindet sie Soul\, Blues und Jazz mit einer Menge Spielfreude und einer Art\, die immer und einzig nach ihr klingt. \nGemeinsam mit Lulo Reinhardt spielt Sie in der Accoustic Lounge am 17. Mai 2024. \nAm Freitag\, 17. Mai 2024 um 20.00 Uhr im Kulturzentrum “Zweite Heimat”\, Mittelstr. 7 in Höhr-Grenzhausen. Karten sind erhältlich unter Tel.: 02624/7257 oder online unter www.juz-zweiteheimat.de und kosten im VVK: 20\,- Euro\, an der AK: 22\,- Euro. \nKartenreservierung Lulo Reinhardt Accoustic Lounge feat. Kristin Shey am 17. Mai 2024Bitte aktiviere JavaScript in deinem Browser\, um dieses Formular fertigzustellen.VeranstaltungstitelAnzahl der Karten *12345678910Name *Telefon *E-Mail *StraßePLZ/OrtNewsletterJa\, ich möchte den Newsletter mit regelmäßigen Informationen über Veranstaltungen des Jugend- und Kulturzentrum "Zweite Heimat" erhalten.Datenschutz *Mit dem Absenden Ihrer Anfrage erklären Sie sich mit der Verarbeitung Ihrer angegebenen Daten zum Zweck der Bearbeitung Ihrer Anfrage einverstanden.https://www.juz-zweiteheimat.de/datenschutzerklaerungJetzt reservieren
URL:https://juz-zweiteheimat.de/event/lulo-reinhardt-accoustic-lounge-feat-kristin-shey-am-17-mai-2024/
LOCATION:Jugend-\, Kultur- und Bürgerzentrum “Zweite Heimat”\, Mittelstraße 7\, Höhr-Grenzhausen\, Rheinland-Pfalz\, 56203\, Germany
ATTACH;FMTTYPE=image/jpeg:https://juz-zweiteheimat.de/wp-content/uploads/2023/12/Kristin-Shey-scaled.jpg
ORGANIZER;CN="Jugend-%2C Kultur- und B%C3%BCrgerzentrum 'Zweite Heimat'":MAILTO:info@juz-zweiteheimat.de
END:VEVENT
END:VCALENDAR