BEGIN:VCALENDAR
VERSION:2.0
PRODID:-//Jugend-, Kultur- und Bürgerzentrum &quot;Zweite Heimat&quot; - ECPv6.15.20//NONSGML v1.0//EN
CALSCALE:GREGORIAN
METHOD:PUBLISH
X-ORIGINAL-URL:https://juz-zweiteheimat.de
X-WR-CALDESC:Veranstaltungen für Jugend-, Kultur- und Bürgerzentrum &quot;Zweite Heimat&quot;
REFRESH-INTERVAL;VALUE=DURATION:PT1H
X-Robots-Tag:noindex
X-PUBLISHED-TTL:PT1H
BEGIN:VTIMEZONE
TZID:Europe/Berlin
BEGIN:DAYLIGHT
TZOFFSETFROM:+0100
TZOFFSETTO:+0200
TZNAME:CEST
DTSTART:20230326T010000
END:DAYLIGHT
BEGIN:STANDARD
TZOFFSETFROM:+0200
TZOFFSETTO:+0100
TZNAME:CET
DTSTART:20231029T010000
END:STANDARD
BEGIN:DAYLIGHT
TZOFFSETFROM:+0100
TZOFFSETTO:+0200
TZNAME:CEST
DTSTART:20240331T010000
END:DAYLIGHT
BEGIN:STANDARD
TZOFFSETFROM:+0200
TZOFFSETTO:+0100
TZNAME:CET
DTSTART:20241027T010000
END:STANDARD
BEGIN:DAYLIGHT
TZOFFSETFROM:+0100
TZOFFSETTO:+0200
TZNAME:CEST
DTSTART:20250330T010000
END:DAYLIGHT
BEGIN:STANDARD
TZOFFSETFROM:+0200
TZOFFSETTO:+0100
TZNAME:CET
DTSTART:20251026T010000
END:STANDARD
END:VTIMEZONE
BEGIN:VEVENT
DTSTART;TZID=Europe/Berlin:20240607T200000
DTEND;TZID=Europe/Berlin:20240607T200000
DTSTAMP:20260422T074451
CREATED:20230509T090744Z
LAST-MODIFIED:20240516T111427Z
UID:10000271-1717790400-1717790400@juz-zweiteheimat.de
SUMMARY:Matthias Jung  - "Erziehungsstatus: Kompliziert! - Pubertät im Anmarsch"
DESCRIPTION:Wer hat Kinder am Anfang der Pubertät?\nWer war selbst mal in der Pubertät?\nUnd wer ist der Meinung\, dass die Pubertät eines Mannes niemals endet? \nDer ist richtig im Programm vom Matthias Jung\, Deutschlands erfolgreichstem Familien- und Pubertätscoach\, Diplom-Pädagoge\, zweifachem Vater und SPIEGEL Bestseller Autor von „Chill mal – am Ende der Geduld ist noch viel Pubertät übrig!“ \nUnser Kind verändert sich: Eltern nerven mit Hausaufgaben. Ständige Widerworte und endlose Diskussionen. Nur noch Bildschirm auf dem Schirm. Das Kind will oft Geld und zieht sich aufs Zimmer zurück. Willkommen zur Show: Bares und Rares!\nDer Beginn der Pubertät ist eine Phase zwischen Kindheit und Jugend. Weniger Lego\, dafür mehr Ego. Es „hormoniert“ prächtig. Wir erkennen unser eigenes Kind oft nicht mehr wieder. Es ist wie bei einer 2. Geburt. Und wer hätte gedacht\, dass man die Atemübungen aus dem Geburtsvorbereitungskurs 10 Jahre später noch einmal braucht. Aber keine Sorge: Matthias Jung kommt im vorpubertären Sturm der Gefühle den Erwachsenen und Eltern erneut zu Hilfe. Er findet eine Balance zwischen Liebe\, Geborgenheit & Stabilität. Er möchte aber auch Freiheiten geben\, um unsere Kinder auf dem Weg zu einem selbstbewussten Jugendlichen zu unterstützen.\nAlso: Der kluge Mann (und die kluge Frau) chillt vor! Denn Unwissenheit schützt vor Pubertät nicht.\nDas Programm ist eine einzigartige Mischung aus Sachverstand und Humor\, faktenreich und äußerst unterhaltsam!\nSo kommen ihr Kind und Sie entspannt durch die Pubertät.\nNah an den Eltern. Nah an den Kindern. Nah an der Pubertät. \nVITA\nMatthias Jung ist seit 2005 eine feste Größe auf den Bühnen Deutschlands. 2018 erschien mit “Chill mal – Am Ende der Geduld ist noch viel Pubertät übrig” der erfolgreichste Pubertäts-Ratgeber des Jahres\, der mehrere Monate in der SPIEGEL Bestseller Liste vertreten war. 2019 erschien sein Buch “Dein Ernst\, Mama? So peinlich kommen wir nicht mehr zusammen – Das Pubertätsbuch für Eltern”. Zum Thema Vorpubertät veröffentlicht Matthias im Frühjahr 2022 ein neues Buch und geht mit neuem Programm auf Tour.\nMatthias hat regelmäßig TV-Auftritte\, er hält Vorträge und gibt Coachings und Seminare. Er ist Leiter der größten Pubertäts Facebook Gruppe “Keep Cool Mama”\, in der 13.000 Mütter im ständigen Dialog die Probleme der Pubertät analysieren und er produziert seit 2021 den erfolgreichen Podcast “Chill mal – Der Pubertäts AllTalk”. \nAm Freitag\, 07. Juni 2024 um 20.00 Uhr im Jugend- und Kulturzentrum “Zweite Heimat” in der Mittelstrasse 7 in Höhr-Grenzhausen. Tickets sind erhältlich unter Tel.: 02624/7257 oder online unter www.juz-zweiteheimat.de und kosten im VVK: 20\,- Euro\, an der AK: 22\,- Euro. \nKartenreservierungBitte aktiviere JavaScript in deinem Browser\, um dieses Formular fertigzustellen.VeranstaltungstitelAnzahl der Karten *12345678910Name *Telefon *E-Mail *StraßePLZ/OrtVerbindliche Reservierung *Mit Absenden Ihrer Reservierung über unser Onlineformular erklären Sie sich mit der verbindlichen Buchung der ausgewählten Tickets einverstanden. Bitte beachten Sie\, dass Ihre Reservierung zahlungspflichtig ist und nach erfolgreicher Bestätigung nicht mehr kostenfrei storniert werden kann.NewsletterJa\, ich möchte den Newsletter mit regelmäßigen Informationen über Veranstaltungen des Jugend- und Kulturzentrum "Zweite Heimat" erhalten.Datenschutz *Mit dem Absenden Ihrer Anfrage erklären Sie sich mit der Verarbeitung Ihrer angegebenen Daten zum Zweck der Bearbeitung Ihrer Anfrage einverstanden.https://www.juz-zweiteheimat.de/datenschutzerklaerungJetzt reservieren
URL:https://juz-zweiteheimat.de/event/matthias-jung-erziehungsstatus-kompliziert-pubertaet-im-anmarsch/
LOCATION:Rheinland-Pfalz
ATTACH;FMTTYPE=image/jpeg:https://juz-zweiteheimat.de/wp-content/uploads/2023/05/Matthias-Jung-Erziehungsstatus-kompliziert-web.jpg
ORGANIZER;CN="Jugend-%2C Kultur- und B%C3%BCrgerzentrum 'Zweite Heimat'":MAILTO:info@juz-zweiteheimat.de
END:VEVENT
END:VCALENDAR