BEGIN:VCALENDAR
VERSION:2.0
PRODID:-//Jugend-, Kultur- und Bürgerzentrum &quot;Zweite Heimat&quot; - ECPv6.15.20//NONSGML v1.0//EN
CALSCALE:GREGORIAN
METHOD:PUBLISH
X-ORIGINAL-URL:https://juz-zweiteheimat.de
X-WR-CALDESC:Veranstaltungen für Jugend-, Kultur- und Bürgerzentrum &quot;Zweite Heimat&quot;
REFRESH-INTERVAL;VALUE=DURATION:PT1H
X-Robots-Tag:noindex
X-PUBLISHED-TTL:PT1H
BEGIN:VTIMEZONE
TZID:Europe/Berlin
BEGIN:DAYLIGHT
TZOFFSETFROM:+0100
TZOFFSETTO:+0200
TZNAME:CEST
DTSTART:20230326T010000
END:DAYLIGHT
BEGIN:STANDARD
TZOFFSETFROM:+0200
TZOFFSETTO:+0100
TZNAME:CET
DTSTART:20231029T010000
END:STANDARD
BEGIN:DAYLIGHT
TZOFFSETFROM:+0100
TZOFFSETTO:+0200
TZNAME:CEST
DTSTART:20240331T010000
END:DAYLIGHT
BEGIN:STANDARD
TZOFFSETFROM:+0200
TZOFFSETTO:+0100
TZNAME:CET
DTSTART:20241027T010000
END:STANDARD
BEGIN:DAYLIGHT
TZOFFSETFROM:+0100
TZOFFSETTO:+0200
TZNAME:CEST
DTSTART:20250330T010000
END:DAYLIGHT
BEGIN:STANDARD
TZOFFSETFROM:+0200
TZOFFSETTO:+0100
TZNAME:CET
DTSTART:20251026T010000
END:STANDARD
END:VTIMEZONE
BEGIN:VEVENT
DTSTART;TZID=Europe/Berlin:20240622T200000
DTEND;TZID=Europe/Berlin:20240622T200000
DTSTAMP:20260421T201201
CREATED:20240319T085018Z
LAST-MODIFIED:20240520T152416Z
UID:10000312-1719086400-1719086400@juz-zweiteheimat.de
SUMMARY:Lulo Reinhardt Accoustic Lounge feat. Absinto Orkestra am 22. Juni 2024
DESCRIPTION:LIBERTÉ! SVOBODA! VOLNOST! ALHARI! LIBERDAD!\nSeit 20 Jahren erzählt das Absinto Orkestra seine großen und kleinen Geschichten von der Freiheit\, gemeinsam und jeder Musiker auf seine Weise: der Geiger pendelt zwischen Gershwin und Grapelli\, der Gitarrist zupft Django Reinhardt am Schnorres\, das Saxophon rast durch die Bebop Achterbahn\, und der singende Mandolinenspieler hat seine bessarabischen Wurzeln tief eingegraben in den Boden der russischen Heimat des Mannes am Kontrabass.\nDie Gedanken sind frei\, wohin die Reise geht. Lunaaaa! Manchmal Gipsy\, meistens tanzbar\, immer frei im Hier und Jetzt. \nOhne Freiheit ist alles nichts.\nWir spielen immer um die Freiheit. Hinter Gittern im Knast\, hinter den Flaggen auf der Demo\, hinterm Mond im Sonnenschein. Also machen wir uns mal frei – obenrum und untenrum\, in den Köpfen und in den Herzen.\nVirtuos treiben wir uns durch die Balkan-Metropolen\, drehen eine Runde durch den Mittelmeerraum\, biegen kurz vor dem Ural ab\, und mischen dabei die Epochen\, Sprachen\, Eigenes mit Geliehenem\, Gassenhauer mit Improvisationskunst. Wir können die Freiheit hören\, und mit ihr spüren wir Liebe und Vergänglichkeit\, Witz und Sehnsucht\, Melancholie und Rausch.\nFreiheit ist\, wenn die vier Viertel eines Taktes freundlich zusammenrücken und Platz machen für ein fünftes oder sechstes Viertel. Wenn die Harmonien des Abendlandes im Klezmertal von Jazz-Skalen umarmt werden. Wenn Texte sich aus den Fesseln der Sprache befreien und wir sie dennoch verstehen. Wir sind so frei – Fulitschai! \nGemeinsam mit Lulo Reinhardt spielt das Absinto Orkestra am 22. Juni 2024 in der Accoustic Lounge. \nAm Samstag\, 22. Juni 2024 um 20.00 Uhr im Kulturzentrum “Zweite Heimat”\, Mittelstr. 7 in Höhr-Grenzhausen. Karten sind erhältlich unter Tel.: 02624/7257 oder online unter www.juz-zweiteheimat.de und kosten im VVK: 20\,- Euro\, an der AK: 22\,- Euro. \nKartenreservierung Lulo Reinhardt Accoustic Lounge feat. Absinto Orkestra am 22. Juni 2024Bitte aktiviere JavaScript in deinem Browser\, um dieses Formular fertigzustellen.VeranstaltungstitelAnzahl der Karten *12345678910Name *Telefon *E-Mail *StraßePLZ/OrtNewsletterJa\, ich möchte den Newsletter mit regelmäßigen Informationen über Veranstaltungen des Jugend- und Kulturzentrum "Zweite Heimat" erhalten.Datenschutz *Mit dem Absenden Ihrer Anfrage erklären Sie sich mit der Verarbeitung Ihrer angegebenen Daten zum Zweck der Bearbeitung Ihrer Anfrage einverstanden.https://www.juz-zweiteheimat.de/datenschutzerklaerungJetzt reservieren
URL:https://juz-zweiteheimat.de/event/lulo-reinhardt-accoustic-lounge-feat-absinto-orkestra-am-22-juni-2024/
LOCATION:Jugend-\, Kultur- und Bürgerzentrum “Zweite Heimat”\, Mittelstraße 7\, Höhr-Grenzhausen\, Rheinland-Pfalz\, 56203\, Germany
ATTACH;FMTTYPE=image/jpeg:https://juz-zweiteheimat.de/wp-content/uploads/2024/03/Absinto-Orkestra-Pressefoto-Sebastian-Dingler-Kreis.jpg
ORGANIZER;CN="Jugend-%2C Kultur- und B%C3%BCrgerzentrum 'Zweite Heimat'":MAILTO:info@juz-zweiteheimat.de
END:VEVENT
END:VCALENDAR