BEGIN:VCALENDAR
VERSION:2.0
PRODID:-//Jugend-, Kultur- und Bürgerzentrum &quot;Zweite Heimat&quot; - ECPv6.15.20//NONSGML v1.0//EN
CALSCALE:GREGORIAN
METHOD:PUBLISH
X-ORIGINAL-URL:https://juz-zweiteheimat.de
X-WR-CALDESC:Veranstaltungen für Jugend-, Kultur- und Bürgerzentrum &quot;Zweite Heimat&quot;
REFRESH-INTERVAL;VALUE=DURATION:PT1H
X-Robots-Tag:noindex
X-PUBLISHED-TTL:PT1H
BEGIN:VTIMEZONE
TZID:Europe/Berlin
BEGIN:DAYLIGHT
TZOFFSETFROM:+0100
TZOFFSETTO:+0200
TZNAME:CEST
DTSTART:20230326T010000
END:DAYLIGHT
BEGIN:STANDARD
TZOFFSETFROM:+0200
TZOFFSETTO:+0100
TZNAME:CET
DTSTART:20231029T010000
END:STANDARD
BEGIN:DAYLIGHT
TZOFFSETFROM:+0100
TZOFFSETTO:+0200
TZNAME:CEST
DTSTART:20240331T010000
END:DAYLIGHT
BEGIN:STANDARD
TZOFFSETFROM:+0200
TZOFFSETTO:+0100
TZNAME:CET
DTSTART:20241027T010000
END:STANDARD
BEGIN:DAYLIGHT
TZOFFSETFROM:+0100
TZOFFSETTO:+0200
TZNAME:CEST
DTSTART:20250330T010000
END:DAYLIGHT
BEGIN:STANDARD
TZOFFSETFROM:+0200
TZOFFSETTO:+0100
TZNAME:CET
DTSTART:20251026T010000
END:STANDARD
END:VTIMEZONE
BEGIN:VEVENT
DTSTART;TZID=Europe/Berlin:20240626T193000
DTEND;TZID=Europe/Berlin:20240626T220000
DTSTAMP:20260422T024125
CREATED:20230921T125400Z
LAST-MODIFIED:20240614T075421Z
UID:10000287-1719430200-1719439200@juz-zweiteheimat.de
SUMMARY:Treffpunkt Kannofen am 26. Juni 2024 mit "Birds Out"
DESCRIPTION:Finale am Kannofen: Das vierte Konzert bedeutet für diesen Sommer zugleich den letzten Abend am historischen Kannofen in Höhr-Grenzhausen am Töpferplatz. Eine hervorragende Kombination von regionalen Bands und Musikern bei kostenfreiem Eintritt und guter Musik mitten im Sommer im Herzen der Innenstadt von Höhr-Grenzhausen – das war auch 2024 der „Treffpunkt Kannofen“. \nDie Veranstaltung findet am historischen Kannofen am Töpferplatz in Höhr-Grenzhausen statt und bietet somit eine einzigartige Kulisse für die Sommerkonzerte. Das abwechslungsreiche Musikprogramm bietet für jeden Geschmack etwas. Von Pop über Rock bis hin zu Jazz ist für jeden etwas dabei. Die Konzerte finden an ausgewählten Terminen im Sommer statt – Beginn ist immer um 19.30 Uhr. \nNeben dem musikalischen Genuss steht aber vor allem auch die Geselligkeit im Vordergrund. Beim “Treffpunkt Kannofen” treffen sich Freunde\, Nachbarn und Bekannte\, um gemeinsam einen wunderbaren Sommerabend zu erleben. Bei erfrischenden Getränken und einer leckeren Bratwurst vom Restaurant „Till Eulenspiegel“ lässt es sich im Kannofen gemütlich verweilen und die Musik genießen. Das Jugend- und Kulturzentrum „Zweite Heimat“ verspricht auch für diesen Sommer eine stimmungsvolle Atmosphäre und freut sich darauf\, Gäste aus der Region und darüber hinaus begrüßen zu dürfen. “Treffpunkt Kannofen” ist eine Veranstaltung\, die man nicht verpassen sollte! \n\nBirds Out! ist ein Americana\, Acoustik-Rock Duo aus Koblenz\, “das seit einigen Jahren mit cleverem Songwriting\, sympathischer Bühnen-Performance und geschmackssicheren Biertastings auf sich aufmerksam macht” (so die Musiker-Initiative Koblenz Music Live e.V. zu den Promenadenkonzerten 2023). André Rheinbay (voc\, git) und Volkart Schneider (git\, voc) spielen selbst geschriebene Lieder vom Kneipenrocker über Mitsingsongs bis zur Tom Waits-mäßigen Ballade … vielschichtig\, eigenständig\, teils mehrstimmig gesungen\, vor allem aber groovig und catchy. So universell musikverrückt die beiden sind\, so vielfältig sind auch die Einflüsse\, die sie beim Songwriting verarbeiten: Rock und Folk\, Country und Blues – Americana eben – manchmal blitzt sogar ein bisschen Funk\, Ska oder Punk hervor. Und genau deshalb haben die Songs dieser beiden bunten Vögel immer eine eigene Linie und einen mindestens ebenso hohen Wiedererkennungswert wie ihre obligatorischen Melonen. \nAm Mittwoch\, 26. Juni 2024 um 19.30 Uhr live am Kannofen (Töpferplatz) in Höhr-Grenzhausen. Der Eintritt ist frei. Für das leibliche Wohl sorgt das Team vom Restaurant “Till Eulenspiegel”. Bei schlechtem Wetter wird ein Hinweis über einen möglichen Ausweichort auf der Internetseite des Jugend- und Kulturzentrum „Zweite Heimat“ veröffentlicht (www.juz-zweiteheimat.de).
URL:https://juz-zweiteheimat.de/event/treffpunkt-kannofen-am-26-juni-2024/
LOCATION:Töpferplatz Höhr-Grenzhausen\, Töpferstrasse\, Höhr-Grenzhausen\, 56203\, Deutschland
ATTACH;FMTTYPE=image/jpeg:https://juz-zweiteheimat.de/wp-content/uploads/2023/06/2023-06-Treffpunkt-Kannofen-Blueside.jpg
ORGANIZER;CN="Jugend-%2C Kultur- und B%C3%BCrgerzentrum 'Zweite Heimat'":MAILTO:info@juz-zweiteheimat.de
END:VEVENT
END:VCALENDAR