BEGIN:VCALENDAR
VERSION:2.0
PRODID:-//Jugend-, Kultur- und Bürgerzentrum &quot;Zweite Heimat&quot; - ECPv6.15.20//NONSGML v1.0//EN
CALSCALE:GREGORIAN
METHOD:PUBLISH
X-WR-CALNAME:Jugend-, Kultur- und Bürgerzentrum &quot;Zweite Heimat&quot;
X-ORIGINAL-URL:https://juz-zweiteheimat.de
X-WR-CALDESC:Veranstaltungen für Jugend-, Kultur- und Bürgerzentrum &quot;Zweite Heimat&quot;
REFRESH-INTERVAL;VALUE=DURATION:PT1H
X-Robots-Tag:noindex
X-PUBLISHED-TTL:PT1H
BEGIN:VTIMEZONE
TZID:Europe/Berlin
BEGIN:DAYLIGHT
TZOFFSETFROM:+0100
TZOFFSETTO:+0200
TZNAME:CEST
DTSTART:20230326T010000
END:DAYLIGHT
BEGIN:STANDARD
TZOFFSETFROM:+0200
TZOFFSETTO:+0100
TZNAME:CET
DTSTART:20231029T010000
END:STANDARD
BEGIN:DAYLIGHT
TZOFFSETFROM:+0100
TZOFFSETTO:+0200
TZNAME:CEST
DTSTART:20240331T010000
END:DAYLIGHT
BEGIN:STANDARD
TZOFFSETFROM:+0200
TZOFFSETTO:+0100
TZNAME:CET
DTSTART:20241027T010000
END:STANDARD
BEGIN:DAYLIGHT
TZOFFSETFROM:+0100
TZOFFSETTO:+0200
TZNAME:CEST
DTSTART:20250330T010000
END:DAYLIGHT
BEGIN:STANDARD
TZOFFSETFROM:+0200
TZOFFSETTO:+0100
TZNAME:CET
DTSTART:20251026T010000
END:STANDARD
END:VTIMEZONE
BEGIN:VEVENT
DTSTART;TZID=Europe/Berlin:20240629T130000
DTEND;TZID=Europe/Berlin:20240629T170000
DTSTAMP:20260422T155040
CREATED:20240604T160325Z
LAST-MODIFIED:20240605T102409Z
UID:10000330-1719666000-1719680400@juz-zweiteheimat.de
SUMMARY:"Tag der Offenen Tür" im neuen Jugend- und Kulturzentrum "Zweite Heimat"
DESCRIPTION:Tag der Offenen Tür im neuen Jugend- und Kulturzentrum “Zweite Heimat” in Höhr-Grenzhausen \nDas neue Jugend- und Kulturzentrum “Zweite Heimat” mitten in der Innenstadt von Höhr-Grenzhausen öffnet seine Türen und lädt alle Bürgerinnen und Bürger zum “Tag der Offenen Tür” ein.\nNach zwei Jahren Bauzeit sind seit Februar 2024 diesen Jahres Teile des neuen Zentrums bereits im Betrieb. Ein umfangreicher Wasserschaden hat vier Tage vor Eröffnung diese verhindert. Nun\, nach weiteren drei Monaten\, ist das neue Jugend- und Kulturzentrum „Zweite Heimat“ seit Pfingsten im Vollbetreib und die Eröffnung kann gebührend gefeiert werden. Dazu hat das Jugend- und Kulturzentrum „Zweite Heimat“ neben dem “Tag der Offenen Tür” eine ganze Woche voller Events und Angebote im Programm. \nSamstag\, 29. Juni 2024 – Tag der Offenen Tür & Konzert mit „Bärenspiel“\nTag der offenen Tür:\nDer Höhepunkt der Woche ist der “Tag der Offenen Tür”. Alle Räume und Angebote des Zentrums stehen zur Besichtigung offen. Das Jugendzentrum\, der Kinderhort\, der Veranstaltungssaal\, der große Raum für Tanz und Bewegung\, die Ludothek (der Spieleverleih) und der Bereich der Musikkurse\, alles ist geöffnet und kann besichtigt werden. Kleine Mitmachangebote runden den Tag ab.\nAm Abend spielt die Band „Bärenspiel“\, Infos und Tickets gibt es hier. \n\nAußerdem in der Woche: \nMittwoch\, 26. Juni 2024 – Offizielle Eröffnung für geladene Gäste:\nDie Woche beginnt mit einer feierlichen Eröffnung für geladene Gäste. \nMittwoch\, 26. Juni 2024 – “Treffpunkt Kannofen mit Birds Out” \nFreitag\, 28. Juni 2024 – Musikalische Lesung: „Franz Kafka: Ein Bericht für eine Akademie“\nGemein mit „Denkbares“ findet am Abend eine musikalische Lesung unter dem Titel: „Franz Kafka: Ein Bericht für eine Akademie“ mit  Thomas Schweikert (Text) und Charles Herrig (Musik) statt. \nSonntag\, 30. Juni 2024 – „Höhr-Grenzhausen frühstückt“\nSonntags wird die ganze Eröffnungswoche abgerundet mit der seit Jahren beliebten und großen Veranstaltung „Höhr-Grenzhausen frühstückt“. Anmeldungen dafür sind bereits über die Internetseite möglich. \nDas ganze Team des Jugend- und Kulturzentrum „Zweite Heimat“ freut sich auf eine spannende Woche und einen tollen Tag der Offenen Tür am 29. Juni 2024. \n  \n  \n 
URL:https://juz-zweiteheimat.de/event/tag-der-offenen-tuer-im-neuen-jugend-und-kulturzentrum-zweite-heimat/
LOCATION:Jugend-\, Kultur- und Bürgerzentrum “Zweite Heimat”\, Mittelstraße 7\, Höhr-Grenzhausen\, Rheinland-Pfalz\, 56203\, Germany
ATTACH;FMTTYPE=image/jpeg:https://juz-zweiteheimat.de/wp-content/uploads/2024/06/2024-Tag-der-Offenen-Tuer.jpg
ORGANIZER;CN="Jugend-%2C Kultur- und B%C3%BCrgerzentrum 'Zweite Heimat'":MAILTO:info@juz-zweiteheimat.de
END:VEVENT
BEGIN:VEVENT
DTSTART;TZID=Europe/Berlin:20240629T190000
DTEND;TZID=Europe/Berlin:20240629T210000
DTSTAMP:20260422T155040
CREATED:20240328T055233Z
LAST-MODIFIED:20240624T093658Z
UID:10000315-1719687600-1719694800@juz-zweiteheimat.de
SUMMARY:Konzert mit BÄRENSPIEL am 29. Juni 2024
DESCRIPTION:(ACHTUNG: AUF GRUND DES ACHTELFINAL-SPIELS DER DEUTSCHEN NATIONALMANNSCHAFT BEI DER EM 2024 HABEN WIR DAS KONZERT AUF 19.00 UHR VORVERLEGT) \nTiefsinnige Texte und handgemachte Popmusik in auditiv-visueller Atmosphäre \nDa sind sie wieder. Kreative Texte und Noten Köpfe umgarnt mit Top Musikern\, wie dem Koblenzer Drummer Alex Sauerländer\, dem Bassisten Mätti Wendels und dem genialen Neuwieder Gitarristen und Produzenten Peter Dümmler. Bärenspiel sind wieder startklar für eine kleine\, frische\, visuell\,- auditive Reise in die Welt ihrer rockig-romantischen Popmusik. \nMarkus Fischer und Patrick Bühler haben sich wieder neue Interpretationen in Zusammenarbeit mit den engagierten Musikern einfallen lassen\, um den Zuhörern einen unvergesslichen Abend zu bieten. \nKult- und alte Klassiker der Band\, vermischt mit frisch gedruckten Liedern. Neu und doch irgendwie vertraut. \nLebensbejahend und transparent nehmen Sie Euch mit auf eine wunderbare Zeitreise durch die Musik der Bärenspielwelt. \nErfrischend und einmalig anders. \nAm Samstag\, 29. Juni 2024 um 19.00 Uhr (ACHTUNG: AUF GRUND DES ACHTELFINAL-SPIELS DER DEUTSCHEN NATIONALMANNSCHAFT BEI DER EM 2024 HABEN WIR DAS KONZERT AUF 19.00 UHR VORVERLEGT) im Kulturzentrum “Zweite Heimat”\, Mittelstr. 7 in Höhr-Grenzhausen. Karten sind erhältlich unter Tel.: 02624/7257 oder online unter www.juz-zweiteheimat.de und kosten im VVK: 18\,- Euro\, an der AK: 20\,- Euro. \nKartenreservierung Konzert mit BÄRENSPIEL am 29. Juni 2024Bitte aktiviere JavaScript in deinem Browser\, um dieses Formular fertigzustellen.VeranstaltungstitelAnzahl der Karten *12345678910Name *Telefon *E-Mail *StraßePLZ/OrtNewsletterJa\, ich möchte den Newsletter mit regelmäßigen Informationen über Veranstaltungen des Jugend- und Kulturzentrum "Zweite Heimat" erhalten.Datenschutz *Mit dem Absenden Ihrer Anfrage erklären Sie sich mit der Verarbeitung Ihrer angegebenen Daten zum Zweck der Bearbeitung Ihrer Anfrage einverstanden.https://www.juz-zweiteheimat.de/datenschutzerklaerungJetzt reservieren
URL:https://juz-zweiteheimat.de/event/konzert-mit-baerenspiel-am-29-juni-2024/
LOCATION:Jugend-\, Kultur- und Bürgerzentrum “Zweite Heimat”\, Mittelstraße 7\, Höhr-Grenzhausen\, Rheinland-Pfalz\, 56203\, Germany
ATTACH;FMTTYPE=image/jpeg:https://juz-zweiteheimat.de/wp-content/uploads/2024/03/Baerenspiel-19-Uhr-scaled.jpg
ORGANIZER;CN="Jugend-%2C Kultur- und B%C3%BCrgerzentrum 'Zweite Heimat'":MAILTO:info@juz-zweiteheimat.de
END:VEVENT
END:VCALENDAR