BEGIN:VCALENDAR
VERSION:2.0
PRODID:-//Jugend-, Kultur- und Bürgerzentrum &quot;Zweite Heimat&quot; - ECPv6.15.20//NONSGML v1.0//EN
CALSCALE:GREGORIAN
METHOD:PUBLISH
X-ORIGINAL-URL:https://juz-zweiteheimat.de
X-WR-CALDESC:Veranstaltungen für Jugend-, Kultur- und Bürgerzentrum &quot;Zweite Heimat&quot;
REFRESH-INTERVAL;VALUE=DURATION:PT1H
X-Robots-Tag:noindex
X-PUBLISHED-TTL:PT1H
BEGIN:VTIMEZONE
TZID:Europe/Berlin
BEGIN:DAYLIGHT
TZOFFSETFROM:+0100
TZOFFSETTO:+0200
TZNAME:CEST
DTSTART:20230326T010000
END:DAYLIGHT
BEGIN:STANDARD
TZOFFSETFROM:+0200
TZOFFSETTO:+0100
TZNAME:CET
DTSTART:20231029T010000
END:STANDARD
BEGIN:DAYLIGHT
TZOFFSETFROM:+0100
TZOFFSETTO:+0200
TZNAME:CEST
DTSTART:20240331T010000
END:DAYLIGHT
BEGIN:STANDARD
TZOFFSETFROM:+0200
TZOFFSETTO:+0100
TZNAME:CET
DTSTART:20241027T010000
END:STANDARD
BEGIN:DAYLIGHT
TZOFFSETFROM:+0100
TZOFFSETTO:+0200
TZNAME:CEST
DTSTART:20250330T010000
END:DAYLIGHT
BEGIN:STANDARD
TZOFFSETFROM:+0200
TZOFFSETTO:+0100
TZNAME:CET
DTSTART:20251026T010000
END:STANDARD
END:VTIMEZONE
BEGIN:VEVENT
DTSTART;TZID=Europe/Berlin:20240831T200000
DTEND;TZID=Europe/Berlin:20240831T200000
DTSTAMP:20260421T063542
CREATED:20231215T191137Z
LAST-MODIFIED:20240709T071323Z
UID:10000303-1725134400-1725134400@juz-zweiteheimat.de
SUMMARY:Lulo Reinhardt Accoustic Lounge feat. Daniel Stelter & Yuliya Lonskaya am 31. August 2024
DESCRIPTION:Musikalisches Spitzentreffen dreier Weltklassegitarrist*innen! \nLULO REINHARDT\, DANIEL STELTER und YULIYA LONSKAYA zeigen\, wie gut Gypsy\, Jazz und Flamenco zusammenpassen. Drei international bekannte Gitarristen unterschiedlicher Stilrichtung treffen sich auf der Bühne. Der charismatische Gitarrist LULO REINHARDT\, eine der wichtigsten und authentischsten Stimmen der Musik der Sinti und Roma\, glänzt mit seiner Mischung aus Gypsy\, Jazz\, Flamenco und südamerikanischen Rhythmen. Brillant und vielseitig beeindruckt die weißrussische Künstlerin YULIYA LONSKAYA mit eigenen Classic-\, Folk-\, Jazz- und Bossa- Nova-Arrangements. Und mit seinem unnachahmlich unaufgeregten und doch einprägsamen Stil hat DANIEL STELTER sich schon längst einen Namen in der deutschen Jazz-Szene gemacht. Sein Sound mäandert irgendwo zwischen Jazz\, Pop und Klassik hin und her. Im Trio zeigen sie\, wie gut die verschiedenen Stile zusammenpassen ohne das die Einzelkünstler an Strahlkraft verlieren. \nAm Samstag\, 31. August 2024 um 20.00 Uhr im Kulturzentrum “Zweite Heimat”\, Mittelstr. 7 in Höhr-Grenzhausen. Karten sind erhältlich unter Tel.: 02624/7257 oder online unter www.juz-zweiteheimat.de und kosten im VVK: 20\,- Euro\, an der AK: 22\,- Euro. \nKartenreservierung Lulo Reinhardt Accoustic Lounge feat. Stelter und Lonskaya am 31. August 2024Bitte aktiviere JavaScript in deinem Browser\, um dieses Formular fertigzustellen.VeranstaltungstitelAnzahl der Karten *12345678910Name *Telefon *E-Mail *StraßePLZ/OrtNewsletterJa\, ich möchte den Newsletter mit regelmäßigen Informationen über Veranstaltungen des Jugend- und Kulturzentrum "Zweite Heimat" erhalten.Datenschutz *Mit dem Absenden Ihrer Anfrage erklären Sie sich mit der Verarbeitung Ihrer angegebenen Daten zum Zweck der Bearbeitung Ihrer Anfrage einverstanden.https://www.juz-zweiteheimat.de/datenschutzerklaerungJetzt reservieren
URL:https://juz-zweiteheimat.de/event/lulo-reinhardt-accoustic-lounge-feat-daniel-stelter-yuliya-lonskaya-am-31-august-2024/
LOCATION:Jugend-\, Kultur- und Bürgerzentrum “Zweite Heimat”\, Mittelstraße 7\, Höhr-Grenzhausen\, Rheinland-Pfalz\, 56203\, Germany
ATTACH;FMTTYPE=image/jpeg:https://juz-zweiteheimat.de/wp-content/uploads/2023/12/Lulo-Reinhardt-Daniel-Stelter-Yulyia-Lonskaya.jpg
ORGANIZER;CN="Jugend-%2C Kultur- und B%C3%BCrgerzentrum 'Zweite Heimat'":MAILTO:info@juz-zweiteheimat.de
END:VEVENT
END:VCALENDAR