BEGIN:VCALENDAR
VERSION:2.0
PRODID:-//Jugend-, Kultur- und Bürgerzentrum &quot;Zweite Heimat&quot; - ECPv6.15.20//NONSGML v1.0//EN
CALSCALE:GREGORIAN
METHOD:PUBLISH
X-ORIGINAL-URL:https://juz-zweiteheimat.de
X-WR-CALDESC:Veranstaltungen für Jugend-, Kultur- und Bürgerzentrum &quot;Zweite Heimat&quot;
REFRESH-INTERVAL;VALUE=DURATION:PT1H
X-Robots-Tag:noindex
X-PUBLISHED-TTL:PT1H
BEGIN:VTIMEZONE
TZID:Europe/Berlin
BEGIN:DAYLIGHT
TZOFFSETFROM:+0100
TZOFFSETTO:+0200
TZNAME:CEST
DTSTART:20230326T010000
END:DAYLIGHT
BEGIN:STANDARD
TZOFFSETFROM:+0200
TZOFFSETTO:+0100
TZNAME:CET
DTSTART:20231029T010000
END:STANDARD
BEGIN:DAYLIGHT
TZOFFSETFROM:+0100
TZOFFSETTO:+0200
TZNAME:CEST
DTSTART:20240331T010000
END:DAYLIGHT
BEGIN:STANDARD
TZOFFSETFROM:+0200
TZOFFSETTO:+0100
TZNAME:CET
DTSTART:20241027T010000
END:STANDARD
BEGIN:DAYLIGHT
TZOFFSETFROM:+0100
TZOFFSETTO:+0200
TZNAME:CEST
DTSTART:20250330T010000
END:DAYLIGHT
BEGIN:STANDARD
TZOFFSETFROM:+0200
TZOFFSETTO:+0100
TZNAME:CET
DTSTART:20251026T010000
END:STANDARD
END:VTIMEZONE
BEGIN:VEVENT
DTSTART;TZID=Europe/Berlin:20240906T200000
DTEND;TZID=Europe/Berlin:20240906T200000
DTSTAMP:20260421T080247
CREATED:20240618T135232Z
LAST-MODIFIED:20240818T154231Z
UID:10000333-1725652800-1725652800@juz-zweiteheimat.de
SUMMARY:Vorpremiere mit Sia Korthaus „Wilder Wechsel“ am 06. September 2024
DESCRIPTION:Die Wechseljahre heißen Wechseljahre\, weil die Hormone jahrelang die Temperatur\, die Körperfülle oder die Stimmung wechseln. Aber es geht im neuen Programm von Sia Korthaus nicht nur um dieses Thema. Wir wechseln alle täglich etwas: Manche wechseln die Partner öfter als die Kleidung\, andere wechseln lieber die Wohnung als die Lebensweise. Die Regierung wechselt die Meinung\, die Deutsche Bahn ihren Standpunkt und zu wenig Männer die Windeln. Manche wechseln niemals den Urlaubsort oder die Biersorte. Sia Korthaus lässt uns öfter die Perspektive wechseln. Sie tauscht die Rollen und die Lieder im fliegenden Wechsel und durch verschiedene Jahrzehnte. Unser Alltag bietet so viel Comedy\, das kann man sich alleine gar nicht ausdenken! Ein Wechselbad der Gefühle: lustig\, nachdenklich\, hintergründig\, unterhaltsam\, lohnenswert und definitiv abwechslungsreich. \nAm Freitag\, 06. September 2024 um 20.00 Uhr im Kulturzentrum “Zweite Heimat”\, Mittelstr. 7 in Höhr-Grenzhausen. Karten sind erhältlich unter Tel.: 02624/7257 oder online unter www.juz-zweiteheimat.de und kosten im VVK: 18\,- Euro\, an der AK: 20\,- Euro. \nKartenreservierung Vorpremiere Sia Korthaus am 06. September 2024Bitte aktiviere JavaScript in deinem Browser\, um dieses Formular fertigzustellen.VeranstaltungstitelAnzahl der Karten *12345678910Name *Telefon *E-Mail *StraßePLZ/OrtNewsletterJa\, ich möchte den Newsletter mit regelmäßigen Informationen über Veranstaltungen des Jugend- und Kulturzentrum "Zweite Heimat" erhalten.Datenschutz *Mit dem Absenden Ihrer Anfrage erklären Sie sich mit der Verarbeitung Ihrer angegebenen Daten zum Zweck der Bearbeitung Ihrer Anfrage einverstanden.https://www.juz-zweiteheimat.de/datenschutzerklaerungJetzt reservieren
URL:https://juz-zweiteheimat.de/event/vorpremiere-mit-sia-korthaus-wilder-wechsel-am-06-september-2024/
LOCATION:Jugend-\, Kultur- und Bürgerzentrum “Zweite Heimat”\, Mittelstraße 7\, Höhr-Grenzhausen\, Rheinland-Pfalz\, 56203\, Germany
ATTACH;FMTTYPE=image/jpeg:https://juz-zweiteheimat.de/wp-content/uploads/2024/06/Pressefoto-Wilder-Wechsel_1_Sia-Korthaus_Quelle-Sia-Korthaus-scaled.jpeg
ORGANIZER;CN="Jugend-%2C Kultur- und B%C3%BCrgerzentrum 'Zweite Heimat'":MAILTO:info@juz-zweiteheimat.de
END:VEVENT
END:VCALENDAR