BEGIN:VCALENDAR
VERSION:2.0
PRODID:-//Jugend-, Kultur- und Bürgerzentrum &quot;Zweite Heimat&quot; - ECPv6.15.20//NONSGML v1.0//EN
CALSCALE:GREGORIAN
METHOD:PUBLISH
X-WR-CALNAME:Jugend-, Kultur- und Bürgerzentrum &quot;Zweite Heimat&quot;
X-ORIGINAL-URL:https://juz-zweiteheimat.de
X-WR-CALDESC:Veranstaltungen für Jugend-, Kultur- und Bürgerzentrum &quot;Zweite Heimat&quot;
REFRESH-INTERVAL;VALUE=DURATION:PT1H
X-Robots-Tag:noindex
X-PUBLISHED-TTL:PT1H
BEGIN:VTIMEZONE
TZID:Europe/Berlin
BEGIN:DAYLIGHT
TZOFFSETFROM:+0100
TZOFFSETTO:+0200
TZNAME:CEST
DTSTART:20230326T010000
END:DAYLIGHT
BEGIN:STANDARD
TZOFFSETFROM:+0200
TZOFFSETTO:+0100
TZNAME:CET
DTSTART:20231029T010000
END:STANDARD
BEGIN:DAYLIGHT
TZOFFSETFROM:+0100
TZOFFSETTO:+0200
TZNAME:CEST
DTSTART:20240331T010000
END:DAYLIGHT
BEGIN:STANDARD
TZOFFSETFROM:+0200
TZOFFSETTO:+0100
TZNAME:CET
DTSTART:20241027T010000
END:STANDARD
BEGIN:DAYLIGHT
TZOFFSETFROM:+0100
TZOFFSETTO:+0200
TZNAME:CEST
DTSTART:20250330T010000
END:DAYLIGHT
BEGIN:STANDARD
TZOFFSETFROM:+0200
TZOFFSETTO:+0100
TZNAME:CET
DTSTART:20251026T010000
END:STANDARD
END:VTIMEZONE
BEGIN:VEVENT
DTSTART;TZID=Europe/Berlin:20240923T190000
DTEND;TZID=Europe/Berlin:20240923T190000
DTSTAMP:20260421T053901
CREATED:20240711T141030Z
LAST-MODIFIED:20240818T154530Z
UID:10000337-1727118000-1727118000@juz-zweiteheimat.de
SUMMARY:Weltkulturerbe Tango Argentino: Kultur\, Musik und Tanz aus einer anderen Welt
DESCRIPTION:Tango Argentino Abend unter dem Motto: „Weltkulturerbe Tango Argentino: Kultur\, Musik und Tanz aus einer anderen Welt“. \nTangolehrer Rolf Neiß nimmt sie zu Beginn mit auf einen Streifzug durch Buenos Aires\, die Geburts- und Weltstadt des Tangos. Anschliesend erfahren sie\, immer in kleinen Bildfolgen kurzweilg dargestellt\, die spannende Entstehungsgeschichte der drei Tangospielarten Tango\, Milonga und Vals und vieles mehr über das große südamerikanische Land Argentinien. Tangotänzer zeigen Ihnen in den Vortragspausen die drei Tänze und laden dazu ein\, den ursprüglichen Tango zu lernen. Erfahren Sie\, was die Magie des Tangos ist und warum wurde er zum Weltkulturerbe wurde. Tauchen Sie für 90 Minuten in eine andere Welt ein und geniessen den Zauber des Tangos. Selbstverständlich erhalten Sie zum Abschluss alle Informationen über Tanz\,- Unterrichts- und Übungsmöglichkeiten des Tango Argentino in unserer Region. Ferner wird im Anschluss den Tangotänzern die Möglichkeit gegeben bei ein paar schönen Tango\,-Vals und Milonga-Tandas den Abend tanzend ausklingen zu lassen. \nAm Montag\, 23. September 2024 um 19 Uhr im Kulturzentrum “Zweite Heimat”\, Mitelstr. 7 in Höhr-Grenzhausen.\nDer Eintritt ist frei\, um Platzreservierung wird gebeten. \nPlatzeservierung Weltkulturerbe Tango Argentino am 23. September 2024Bitte aktiviere JavaScript in deinem Browser\, um dieses Formular fertigzustellen.VeranstaltungstitelAnzahl der Karten *12345678910Name *Telefon *E-Mail *StraßePLZ/OrtNewsletterJa\, ich möchte den Newsletter mit regelmäßigen Informationen über Veranstaltungen des Jugend- und Kulturzentrum "Zweite Heimat" erhalten.Datenschutz *Mit dem Absenden Ihrer Anfrage erklären Sie sich mit der Verarbeitung Ihrer angegebenen Daten zum Zweck der Bearbeitung Ihrer Anfrage einverstanden.https://www.juz-zweiteheimat.de/datenschutzerklaerungJetzt reservieren  \n 
URL:https://juz-zweiteheimat.de/event/weltkulturerbe-tango-argentino-kultur-musik-und-tanz-aus-einer-anderen-welt/
LOCATION:Jugend-\, Kultur- und Bürgerzentrum “Zweite Heimat”\, Mittelstraße 7\, Höhr-Grenzhausen\, Rheinland-Pfalz\, 56203\, Germany
ATTACH;FMTTYPE=image/jpeg:https://juz-zweiteheimat.de/wp-content/uploads/2024/07/tango-190026_1280.jpg
ORGANIZER;CN="Jugend-%2C Kultur- und B%C3%BCrgerzentrum 'Zweite Heimat'":MAILTO:info@juz-zweiteheimat.de
END:VEVENT
END:VCALENDAR