BEGIN:VCALENDAR
VERSION:2.0
PRODID:-//Jugend-, Kultur- und Bürgerzentrum &quot;Zweite Heimat&quot; - ECPv6.15.20//NONSGML v1.0//EN
CALSCALE:GREGORIAN
METHOD:PUBLISH
X-WR-CALNAME:Jugend-, Kultur- und Bürgerzentrum &quot;Zweite Heimat&quot;
X-ORIGINAL-URL:https://juz-zweiteheimat.de
X-WR-CALDESC:Veranstaltungen für Jugend-, Kultur- und Bürgerzentrum &quot;Zweite Heimat&quot;
REFRESH-INTERVAL;VALUE=DURATION:PT1H
X-Robots-Tag:noindex
X-PUBLISHED-TTL:PT1H
BEGIN:VTIMEZONE
TZID:Europe/Berlin
BEGIN:DAYLIGHT
TZOFFSETFROM:+0100
TZOFFSETTO:+0200
TZNAME:CEST
DTSTART:20230326T010000
END:DAYLIGHT
BEGIN:STANDARD
TZOFFSETFROM:+0200
TZOFFSETTO:+0100
TZNAME:CET
DTSTART:20231029T010000
END:STANDARD
BEGIN:DAYLIGHT
TZOFFSETFROM:+0100
TZOFFSETTO:+0200
TZNAME:CEST
DTSTART:20240331T010000
END:DAYLIGHT
BEGIN:STANDARD
TZOFFSETFROM:+0200
TZOFFSETTO:+0100
TZNAME:CET
DTSTART:20241027T010000
END:STANDARD
BEGIN:DAYLIGHT
TZOFFSETFROM:+0100
TZOFFSETTO:+0200
TZNAME:CEST
DTSTART:20250330T010000
END:DAYLIGHT
BEGIN:STANDARD
TZOFFSETFROM:+0200
TZOFFSETTO:+0100
TZNAME:CET
DTSTART:20251026T010000
END:STANDARD
END:VTIMEZONE
BEGIN:VEVENT
DTSTART;TZID=Europe/Berlin:20240928T110000
DTEND;TZID=Europe/Berlin:20240928T140000
DTSTAMP:20260421T003558
CREATED:20230309T102243Z
LAST-MODIFIED:20240924T144842Z
UID:10000259-1727521200-1727532000@juz-zweiteheimat.de
SUMMARY:Frauensachenflohmarkt am 28. September 2024
DESCRIPTION:Das Highlight für trendige Second-Hand-Mode in der Region\n29. Höhr-Grenzhäuser Frauensachenflohmarkt\nDer Countdown läuft: Der 29. Höhr-Grenzhäuser Frauensachenflohmarkt steht in den Startlöchern und verspricht am Samstag\, den 28. September 2024 von 11.00 – 14.00 Uhr erneut ein Shopping-Erlebnis der besonderen Art zu werden. Als bekanntester Basar für trendige Second-Hand-Kleidung in der Region hat sich der Flohmarkt in der Aula der Ernst Barlach Realschule Plus in Höhr-Grenzhausen längst als Pflichttermin für Modebegeisterte etabliert.\nAls ein Paradies für Modefans\, Schnäppchenjägerinnen und nachhaltig denkender Menschen\nfinden Besucherinnen hier eine riesige Auswahl an modischer\, aktueller und stylischer Second-Hand-Kleidung für Herbst und Winter\, Schuhen\, Accessoires und vielem mehr. Von Vintage-Schätzen über Designerstücke bis hin zu Alltagsmode – der Flohmarkt deckt die gesamte\nBandbreite ab und hält für jeden Geschmack etwas bereit. Der Frauensachenflohmarkt setzt\nnicht nur auf bezahlbare Mode\, sondern auch auf Nachhaltigkeit. Durch die Weiterverwendung\nvon Kleidung leistet das Event einen wertvollen Beitrag zur Reduzierung von Textilabfällen und\nfördert ein bewussteres Konsumverhalten. Die BesucherInnen können sich also nicht nur über schicke Neuanschaffungen freuen\, sondern auch stolz darauf sein\, Teil eines umweltbewussten Events zu sein. Markieren Sie sich das Datum dick im Kalender und seien Sie am 28. September von 11.00 – 14.00 Uhr dabei\, wenn es wieder heißt: Stöbern\, entdecken\, genießen – auf dem Höhr-Grenzhäuser Frauensachenflohmarkt! \nWeitere Infos unter info@juz-zweiteheimat.de oder telefonisch unter 02624/7257. Der Frauensachenflohmarkt ist eine gemeinsame Veranstaltung vom Jugend- und Kulturzentrum “Zweite Heimat” und dem AWO Ortsverein Höhr-Grenzhausen \n\nInfo zum Start der Nummernvergabe für den 29. Höhr-Grenzhäuser Frauensachenflohmarkt am Samstag\, den 28. September 2024:\nAb Dienstag\, den 27. August 2024 ist eine Anmeldung zum Frauensachenflohmarkt für Herbst – und Winterkleidung möglich. \nWICHTIG – KOMPLETT LESEN !!!\nMit der Teilnahme am Basar erklären Sie sich mit den folgenden Regeln einverstanden.\nBitte nehmen Sie am Basar nur teil\, wenn Sie alles wie vorgegeben umsetzen können!\n\nSo funktioniert der Frauensachenflohmarkt des Jugend- und Kulturzentrum “Zweite Heimat” und des AWO Ortsverein Höhr-Grenzhausen: \nWir nehmen nur aktuelle\, einwandfreie und saubere Herbst- und Winterkleidung an.\nDarunter fallen: Damenbekleidung in allen Größen\, Bekleidung für weibliche Teenies\, Handtaschen\, Accessoires und Schuhe. Offensichtlich verschmutzte\, unangenehm riechende\, beschädigte\, defekte oder unvollständige Artikel werden vom Verkauf ausgeschlossen und nicht aufgelegt! \n\n\nDrucken Sie die Etiketten aus und befestigen Sie diese mit einem reißfesten Bändchen (z.B. Geschenkband) gut an dem Kleidungsstück.\nAm besten verstärken Sie die Etiketten\, indem Sie diese zuvor auf Pappe o.ä. aufkleben. Der QR-Code muss immer gut zu erkennen sein\, deshalb nicht mit fast leerer Patrone drucken. Ebenso sollte das Etikett nicht verkleinert werden. Achten Sie darauf\, dass beim Befestigen des Etiketts der QR-Code nicht beschädigt wird. Bei Unleserlichkeit des QR-Codes kann der Artikel nicht verkauft werden.\nBitte beachten Sie\, dass wir nur die Verwendung unserer Etiketten akzeptieren.\nEbenso kommen Kleidungsstücke\, deren Etiketten mit Stecknadeln befestigt sind auf Grund des Verletzungsrisikos NICHT zum Verkauf.\nLegen Sie die Sachen in Wäschekörbe oder Kisten ( Deckel bitte nicht abgeben!) und kennzeichnen sie deutlich mit dem von basarlino.de erstellten Verkäufernummern-Label. Kleidung in Tüten oder Taschen wird nicht angenommen!\nZudem akzeptieren wir keine echten Pelze.\nBei der Abgabe benötigen wir die von Ihnen ausgedruckte und unterschriebene Artikelliste.Nicht mehr benötigte Kleidung sowie nicht abgeholte Kleidung wird an das Second-Hand-Lädchen „OASE“ in Höhr-Grenzhausen gespendet. Nicht abgeholtes Geld kommt den Veranstaltern zugute.\nFremdartikel können bei Abholung der nicht verkauften Ware direkt zurückgegeben werden. Zudem können Fremdartikel und Fundsachen nach telefonischer Absprache unter Tel. 02624 / 7159 im Pavillon des AWO Ortsverein Höhr-Grenzhausen\, Parkstraße 8 abgegeben oder abgeholt werden.\nDie abgegebenen Artikel sind Kommissionsware\, für die wir keinerlei Haftung bei Verlust\, Beschädigung oder Diebstahl übernehmen. Wir garantieren unsererseits\, dass wir jederzeit ordentlich und sorgsam mit Ihren Artikeln umgehen.\nSollten Sie Ihre Verkäufernummer doch nicht benötigen\, geben Sie diese bitte (zeitnah!) zurück\, damit noch Teilnehmer von der Warteliste nachrutschen können.\nBei weiteren Fragen stehen wir Ihnen jederzeit gerne zur Verfügung!\nEingabefrist\n\nBis 10.09.2024 müssen mindestens 20 Artikel erfasst sein. Andernfalls wird die Verkäufernummer kommentarlos gelöscht und die Verkäufernummer freigegeben\, damit Interessenten von der Warteliste nachrücken können.\nFür „Nachrücker“ (alle\, die nach dem 10.09.2024 freigeschaltet werden) gilt zur Erfassung der geforderten Mindestartikelanzahl eine Frist von 7 Tagen ab dem Datum der Freischaltung (Tag der Freischaltung zählt bereits mit!)\, ansonsten verfahren wir analog wie oben beschrieben!\n\n\nDaten / Termine:\nAbgabe: Freitag\, 27.09.2024\, 16.00 – 19.00 Uhr\nVerkauf: Samstag\, 28.09.2024\, 11.00 – 14.00 Uhr\nRückgabe: Sonntag\, 29.09.2024\, 10.00 – 11.00 Uhr\n\nLink basarlino: basarlino.de/EB76\nWir freuen uns auf viele Ver- und EinkäuferInnen!
URL:https://juz-zweiteheimat.de/event/frauensachenflohmarkt-am-28-september-2024/
LOCATION:Aula der Ernst-Barlach-Realschule plus\, Am Scheidberg 2\, Höhr-Grenzhausen\, 56203\, Deutschland
ATTACH;FMTTYPE=image/jpeg:https://juz-zweiteheimat.de/wp-content/uploads/2022/05/Frauensachen-web.jpg
ORGANIZER;CN="Jugend-%2C Kultur- und B%C3%BCrgerzentrum 'Zweite Heimat'":MAILTO:info@juz-zweiteheimat.de
END:VEVENT
BEGIN:VEVENT
DTSTART;TZID=Europe/Berlin:20240928T200000
DTEND;TZID=Europe/Berlin:20240928T200000
DTSTAMP:20260421T003558
CREATED:20230215T144317Z
LAST-MODIFIED:20240924T101542Z
UID:10000254-1727553600-1727553600@juz-zweiteheimat.de
SUMMARY:Andreas Langsch - Der Liebesalgorithmus - Klavierkabarett 2.0
DESCRIPTION:In seinem ersten Soloprogramm „Der Liebesalgorithmus“ kreiert Andreas Langsch ein Bild über seine Generation und versucht zu vermitteln: Zwischen Alt und Jung. Zwischen internetsüchtig und naturfanatisch. Zwischen Liebe und Liebesalgorithmus. \nAndreas gehört der Generation Y an. Das sind die Leute\, die nichts mit ihrem Leben anfangen können und den ganzen Tag auf ihr Handy starren. Nach der Schule geht es immer erstmal ein Jahr nach… richtig: Australien. Und dann? \nStudieren\, Startup gründen\, arbeiten ohne Pause und rein ins Sabbatical oder Burnout. \nDie Welt rast! Andreas versucht mitzukommen. Doch die Perfektion im Internet\, die perfekte Partnerschaft und die hoch gezüchteten Selbstoptimierer treiben ihn in den Wahnsinn. Also macht er sich auf die Suche nach einer Lösung. Wie kann man nur diesem Stress entkommen? \nNach langen Spaziergängen im Park\, bei denen er einen Mord beobachtet\, der wohl niemals aufgeklärt wird\, philosophischen Gedanken über Superkräfte und einer ungewollten Brieffreundschaft\, scheint er eine Lösung für alles gefunden zu haben… \nWelche das ist? Das sehen sie am besten selbst. \nAnfang 2023 wurde Andreas Langsch mit dem Bielefelder Kabarettpreis (1. Preis + Publikumspreis) ausgezeichnet. Desweiteres gewann er im selben Jahr einen der höchstdotierten Kleinkunstpreise in Deutschland: Die „St. Ingberter Pfanne 2023“ (Jurypreis + Publikumspreis). \n\nAm Samstag\, 28. September 2024 um 20 Uhr im Kulturzentrum “Zweite Heimat”\, Mittelstr. 7 in Höhr-Grenzhausen. Karten sind erhältlich unter Tel.: 02624/7257 oder online unter www.juz-zweiteheimat.de und kosten im VVK: 18\,- Euro\, an der AK: 20\,- Euro. \nDie Veranstaltung fällt leider aus!
URL:https://juz-zweiteheimat.de/event/andreas-langsch-der-liebesalgorithmus/
LOCATION:Jugend-\, Kultur- und Bürgerzentrum “Zweite Heimat”\, Mittelstraße 7\, Höhr-Grenzhausen\, Rheinland-Pfalz\, 56203\, Germany
ATTACH;FMTTYPE=image/jpeg:https://juz-zweiteheimat.de/wp-content/uploads/2023/02/Andreas-Langsch-web.jpg
ORGANIZER;CN="Jugend-%2C Kultur- und B%C3%BCrgerzentrum 'Zweite Heimat'":MAILTO:info@juz-zweiteheimat.de
END:VEVENT
END:VCALENDAR