BEGIN:VCALENDAR
VERSION:2.0
PRODID:-//Jugend-, Kultur- und Bürgerzentrum &quot;Zweite Heimat&quot; - ECPv6.15.20//NONSGML v1.0//EN
CALSCALE:GREGORIAN
METHOD:PUBLISH
X-ORIGINAL-URL:https://juz-zweiteheimat.de
X-WR-CALDESC:Veranstaltungen für Jugend-, Kultur- und Bürgerzentrum &quot;Zweite Heimat&quot;
REFRESH-INTERVAL;VALUE=DURATION:PT1H
X-Robots-Tag:noindex
X-PUBLISHED-TTL:PT1H
BEGIN:VTIMEZONE
TZID:Europe/Berlin
BEGIN:DAYLIGHT
TZOFFSETFROM:+0100
TZOFFSETTO:+0200
TZNAME:CEST
DTSTART:20230326T010000
END:DAYLIGHT
BEGIN:STANDARD
TZOFFSETFROM:+0200
TZOFFSETTO:+0100
TZNAME:CET
DTSTART:20231029T010000
END:STANDARD
BEGIN:DAYLIGHT
TZOFFSETFROM:+0100
TZOFFSETTO:+0200
TZNAME:CEST
DTSTART:20240331T010000
END:DAYLIGHT
BEGIN:STANDARD
TZOFFSETFROM:+0200
TZOFFSETTO:+0100
TZNAME:CET
DTSTART:20241027T010000
END:STANDARD
BEGIN:DAYLIGHT
TZOFFSETFROM:+0100
TZOFFSETTO:+0200
TZNAME:CEST
DTSTART:20250330T010000
END:DAYLIGHT
BEGIN:STANDARD
TZOFFSETFROM:+0200
TZOFFSETTO:+0100
TZNAME:CET
DTSTART:20251026T010000
END:STANDARD
END:VTIMEZONE
BEGIN:VEVENT
DTSTART;TZID=Europe/Berlin:20241005T190000
DTEND;TZID=Europe/Berlin:20241005T190000
DTSTAMP:20260420T232717
CREATED:20240506T123954Z
LAST-MODIFIED:20240506T123954Z
UID:10000327-1728154800-1728154800@juz-zweiteheimat.de
SUMMARY:Robert Menasse: Die Erweiterung - Lesung und Gespräch
DESCRIPTION:Robert Menasse: Die Erweiterung – Lesung und Gespräch \nModeration: Martin W. Ramb & Prof. Dr. Dr. Holger Zaborowski \nWie kann man die EU erzählen? Robert Menasse gelingt mit diesem Roman\, der 2023 mit dem europäischen Buchpreis ausgezeichnet wurde\, ein packendes Stück Literatur: ästhetisches Lesevergnügen und gleichzeitig politisches Lehrstück. Zwei »Blutsbrüder«\, verbunden durch einen Schwur\, den sie im polnischen Untergrundkampf gegen das kommunistische Regime geleistet haben\, gehen nach dessen Zusammenbruch getrennte Wege. Der eine\, Mateusz\, steigt in höchste Ämter auf und wird schließlich polnischer Ministerpräsident. Der andere\, Adam\, macht nach dem EU-Beitritt Polens in der Europäischen Kommission Karriere\, in Brüssel ist er zuständig für die Erweiterungs-Politik. Während die Vorbereitungen für die Westbalkankonferenz im polnischen Poznan auf Hochtouren laufen\, bittet Adam Mateusz um Unterstützung\, doch der beginnt das Beitrittsgesuch Albaniens zu unterminieren. Ein fesselnder Roman über die Westbalkan – Politik der EU. \nPressestimmen:\n»Der schnelle Wechsel der Schauplätze\, die rasanten und gerade in der Übertreibung so realistischen Szenen\, der spannende Plot\, die historische Dimension der gegenwärtigen Machtgier\, ein verrücktes Ziegenhelm-Symbol und nicht zuletzt die zahlreichen im besten Sinne einprägsamen Charaktere zeigen eine nahezu cineastische Qualität dieser Prosa. (…) Die Erweiterung muss verfilmt werden.«\nCarsten Otte\, taz am wochenende \n»Es ist\, wie immer bei Menasse\, ein literarisch unheimlich versiertes Buch und es ist gesättigt vom Geist der Gegenwart. (…) Ein Gesellschaftsroman im allerbesten Sinne.«\nJuli Zeh\, ZDF – Das Literarische Quartett \nRobert Menasse\, 1954 in Wien geboren und dort aufgewachsen. Er studierte Germanistik\, Philosophie sowie Politikwissenschaft in Wien\, Salzburg und Messina und promovierte im Jahr 1980 mit einer Arbeit über den »Typus des Außenseiters im Literaturbetrieb«. Menasse lehrte anschließend sechs Jahre am Institut für Literaturtheorie der Universität São Paulo. Seit seiner Rückkehr aus Brasilien 1988 lebt Robert Menasse als Literat und kulturkritischer Essayist hauptsächlich in Wien. 2017 erhielt er den Deutschen Buchpreis für seinen ersten Europa-Roman „Die Hauptstadt“\, danach u.a. den Bruno-Kreisky-Preis für das Politische Buch 2022 und den Prix du livre européen (Europäischer Buchpreis) 2023. \nMusikalische Begleitung: Henriette (Horn) und Xanten Wolf (Posaune) \nVVK: www.ticket-regional.de / 18 €\, Abendkasse: 22 € \nDer Veranstaltungsort ist barrierefrei. \nEine Platzreservierung ist erforderlich: denkbares@online.de \nAm Samstag\, 05. Oktober 2024 um 19:00 Uhr im Jugend- und Kulturzentrum „Zweite Heimat“\, Mittelstraße 7 in 56203 Höhr-Grenzhausen. \nVeranstalter: DENKBARES (www.denkbares.org.) in Zusammenarbeit mit den Westerwälder Literaturtagen (www.ww-lit.de) \nMit freundlicher Unterstützung:\n– Jugend- und Kultur- und Bürgerzentrum „Zweite Heimat“\n– Verbandsgemeinde Höhr-Grenzhausen\n– Naspa\n– Kultursommer Rheinland-Pfalz
URL:https://juz-zweiteheimat.de/event/robert-menasse-die-erweiterung-lesung-und-gespraech/
LOCATION:Jugend-\, Kultur- und Bürgerzentrum “Zweite Heimat”\, Mittelstraße 7\, Höhr-Grenzhausen\, Rheinland-Pfalz\, 56203\, Germany
ATTACH;FMTTYPE=image/jpeg:https://juz-zweiteheimat.de/wp-content/uploads/2024/05/MENASSE@RAFAELA-PROELL_SV-web.jpg
ORGANIZER;CN="denkbares":MAILTO:denkbares@online.de
END:VEVENT
END:VCALENDAR