BEGIN:VCALENDAR
VERSION:2.0
PRODID:-//Jugend-, Kultur- und Bürgerzentrum &quot;Zweite Heimat&quot; - ECPv6.15.20//NONSGML v1.0//EN
CALSCALE:GREGORIAN
METHOD:PUBLISH
X-ORIGINAL-URL:https://juz-zweiteheimat.de
X-WR-CALDESC:Veranstaltungen für Jugend-, Kultur- und Bürgerzentrum &quot;Zweite Heimat&quot;
REFRESH-INTERVAL;VALUE=DURATION:PT1H
X-Robots-Tag:noindex
X-PUBLISHED-TTL:PT1H
BEGIN:VTIMEZONE
TZID:Europe/Berlin
BEGIN:DAYLIGHT
TZOFFSETFROM:+0100
TZOFFSETTO:+0200
TZNAME:CEST
DTSTART:20230326T010000
END:DAYLIGHT
BEGIN:STANDARD
TZOFFSETFROM:+0200
TZOFFSETTO:+0100
TZNAME:CET
DTSTART:20231029T010000
END:STANDARD
BEGIN:DAYLIGHT
TZOFFSETFROM:+0100
TZOFFSETTO:+0200
TZNAME:CEST
DTSTART:20240331T010000
END:DAYLIGHT
BEGIN:STANDARD
TZOFFSETFROM:+0200
TZOFFSETTO:+0100
TZNAME:CET
DTSTART:20241027T010000
END:STANDARD
BEGIN:DAYLIGHT
TZOFFSETFROM:+0100
TZOFFSETTO:+0200
TZNAME:CEST
DTSTART:20250330T010000
END:DAYLIGHT
BEGIN:STANDARD
TZOFFSETFROM:+0200
TZOFFSETTO:+0100
TZNAME:CET
DTSTART:20251026T010000
END:STANDARD
END:VTIMEZONE
BEGIN:VEVENT
DTSTART;TZID=Europe/Berlin:20241116T200000
DTEND;TZID=Europe/Berlin:20241116T200000
DTSTAMP:20260420T191323
CREATED:20240419T080642Z
LAST-MODIFIED:20241030T112555Z
UID:10000325-1731787200-1731787200@juz-zweiteheimat.de
SUMMARY:Konzert mit Mannijo am 16. November 2024
DESCRIPTION:Als Jo Nousse und Manfred Pohlmann sich zum ersten Mal trafen\, gab es noch eine richtige Grenze zwischen Frankreich und Deutschland. Mit Schlagbaum\, Ausweiskontrollen und dem ständigen illegalen Ein- und Ausführen von Instrumenten und Schallplatten. In dieser Zeit\, als das Liebesverhältnis zu der Dame namens Europa bei vielen noch nicht einmal platonisch war\, ist es bei Mannijo schon ein leidenschaftliches gewesen. Mit dem Wissen um ihre Vergangenheit (auch “Geschichte” genannt)\, mit dem Erleben des Augenblicks und der Zuversicht einer gemeinsamen Zukunft. Wen wundert es\, dass sich Europa Mannijo als ihre Minnesänger gewünscht hat. Seit damals singt Mannijo für Europa. Für ein buntes\, vielfältiges Regenbogen-Europa. Multikulturell und doch tief in der eigenen Erde verwurzelt. Über alle Grenzen hinweg. Ein lebendiger Dorfplatz\, auf dem jeder sein Lied singen und jeder in seiner eigenen Sprooch sprechen darf und auch kann. Ein Ort\, an dem Menschen- und Tierrechte geachtet werden. Ein Ort\, an dem die tägliche Arbeit aller mit Würde erledigt werden kann. Heute ist diese Grenze zwischen Frankreich und Deutschland verschwunden; die Grenze in den Köpfen und Herzen noch nicht überall. Deshalb spielt\, singt und wirbt Mannijo für Europa. \nHier ist ein deutsch-französisches Rezept\, mit Zutaten\, die Ihnen das europäische Lied schmackhaft machen können:\nMan nehme einen Lothringer aus dem Dreiländereck und einen Moselfranken vom mittleren Mittelrhein und verbinde die beiden durch eine solide Freundschaft mit insgesamt sechzig Jahren Bühnenerfahrung. Dann tauche man die vielen Jahre künstlerischer Tätigkeit des ersten – Jo NOUSSE – in eine (vegetarische) Bouillon traditioneller Musik mit “Geeschtemat?” und in einen Rock-Cocktail mit “Tutti Futti”. Ebenso verfahre man mit dem zweiten – Manfred POHLMANN – und lege seine frühen Jahre in eine Chanson & Folk Mischung ein. Gewürzt wird das Ganze von Patrick RIOLLET (Piano) und einer ordentlichen Prise herzerfrischendem Humor… Eine Sauce Sprachengemisch\, gemixt aus Französisch\, Deutsch und vor allem Moselfränkisch\, (ihrer gemeinsamen Muttersprache) dazugeben\, und mit einigen Messerspitzen Chanson auf Katalanisch\, Bretonisch\, Okzitanisch\, Englisch\, Elsässisch und Jiddisch abrunden… Erhitzt wird alles durch kräftigen Applaus\, und fertig ist das Menü: Chansons Transfrontières – Lidder iwer d´Grenzen\, bestehend aus traditioneller Musik\, eigenen Kompositionen und Chansonklassikern. \nDie Veranstaltung findet in Kooperation mit dem Deutsch-Französischen Freundschaftskreis Höhr-Grenzhausen – Semur-en-Auxois statt.  \nAm Samstag\, 16. November 2024 um 20 Uhr im Jugend-\, Kultur- und Bürgerzentrum “Zweite Heimat”\, Mittelstraße 7 in Höhr-Grenzhausen. Karten sind erhältlich unter Tel.: 02624/7257 oder online unter www.juz-zweiteheimat.de und kosten im VVK: 18\,- Euro\, an der AK: 20\,- Euro. \nKartenreservierung Konzert mit Mannijo am 16. November 2024Bitte aktiviere JavaScript in deinem Browser\, um dieses Formular fertigzustellen.VeranstaltungstitelAnzahl der Karten *12345678910Name *Telefon *E-Mail *StraßePLZ/OrtNewsletterJa\, ich möchte den Newsletter mit regelmäßigen Informationen über Veranstaltungen des Jugend- und Kulturzentrum "Zweite Heimat" erhalten.Datenschutz *Mit dem Absenden Ihrer Anfrage erklären Sie sich mit der Verarbeitung Ihrer angegebenen Daten zum Zweck der Bearbeitung Ihrer Anfrage einverstanden.https://www.juz-zweiteheimat.de/datenschutzerklaerungJetzt reservieren
URL:https://juz-zweiteheimat.de/event/konzert-mit-mannijo-am-16-november-2024/
LOCATION:Jugend-\, Kultur- und Bürgerzentrum “Zweite Heimat”\, Mittelstraße 7\, Höhr-Grenzhausen\, Rheinland-Pfalz\, 56203\, Germany
ATTACH;FMTTYPE=image/jpeg:https://juz-zweiteheimat.de/wp-content/uploads/2024/04/mannijo-A6-recto-HD-copie.jpg
ORGANIZER;CN="Jugend-%2C Kultur- und B%C3%BCrgerzentrum 'Zweite Heimat'":MAILTO:info@juz-zweiteheimat.de
END:VEVENT
END:VCALENDAR