BEGIN:VCALENDAR
VERSION:2.0
PRODID:-//Jugend-, Kultur- und Bürgerzentrum &quot;Zweite Heimat&quot; - ECPv6.15.20//NONSGML v1.0//EN
CALSCALE:GREGORIAN
METHOD:PUBLISH
X-ORIGINAL-URL:https://juz-zweiteheimat.de
X-WR-CALDESC:Veranstaltungen für Jugend-, Kultur- und Bürgerzentrum &quot;Zweite Heimat&quot;
REFRESH-INTERVAL;VALUE=DURATION:PT1H
X-Robots-Tag:noindex
X-PUBLISHED-TTL:PT1H
BEGIN:VTIMEZONE
TZID:Europe/Berlin
BEGIN:DAYLIGHT
TZOFFSETFROM:+0100
TZOFFSETTO:+0200
TZNAME:CEST
DTSTART:20230326T010000
END:DAYLIGHT
BEGIN:STANDARD
TZOFFSETFROM:+0200
TZOFFSETTO:+0100
TZNAME:CET
DTSTART:20231029T010000
END:STANDARD
BEGIN:DAYLIGHT
TZOFFSETFROM:+0100
TZOFFSETTO:+0200
TZNAME:CEST
DTSTART:20240331T010000
END:DAYLIGHT
BEGIN:STANDARD
TZOFFSETFROM:+0200
TZOFFSETTO:+0100
TZNAME:CET
DTSTART:20241027T010000
END:STANDARD
BEGIN:DAYLIGHT
TZOFFSETFROM:+0100
TZOFFSETTO:+0200
TZNAME:CEST
DTSTART:20250330T010000
END:DAYLIGHT
BEGIN:STANDARD
TZOFFSETFROM:+0200
TZOFFSETTO:+0100
TZNAME:CET
DTSTART:20251026T010000
END:STANDARD
END:VTIMEZONE
BEGIN:VEVENT
DTSTART;TZID=Europe/Berlin:20241130T170000
DTEND;TZID=Europe/Berlin:20241130T190000
DTSTAMP:20260420T174423
CREATED:20241030T093049Z
LAST-MODIFIED:20241125T133223Z
UID:10000353-1732986000-1732993200@juz-zweiteheimat.de
SUMMARY:Historische Einblicke in Höhr-Grenzhausen
DESCRIPTION:Am 30. November 2024 lädt die Fotogruppe der Gesellschaft für Stadtgeschichte und Kultur zu einer besonderen Veranstaltung ein\, die die Geschichte und Kultur unserer Stadt lebendig werden lässt. Ab 17 Uhr im neuen Jugend\,- Kultur- und Bürgerzentrum „Zweite Heimat“ in der Mittelstraße 7 erwartet die Besucher ein unterhaltsamer Abend\, der sich ganz den historischen Fotos und der Mundart von Höhr-Grenzhausen widmet. \nIm Mittelpunkt der Veranstaltung stehen verschiedene Themen\, die die Identität unserer Stadt prägen. \nDie Hermann-Geisen-Straße\, ein bedeutender Teil unserer Stadtgeschichte\, wird durch eindrucksvolle Fotografien in Erinnerung gerufen. \nDer „Lügendores von Grenzau“\, erzählt wird eine spannende Geschichte und Anekdoten einer lokalen Legende. \nEin weiterer Höhepunkt ist eine Präsentation von der Geschichte der Eisenbahn\, oder wie wir hier sagen\, „oose Zuch“. \nDarüber hinaus wird die Mundart durch das Gedicht „Oos Moddersprooch“ in den Fokus rücken. Die lokale Sprache ist doch ein wertvolles Kulturgut\, das es zu bewahren gilt. \nDiverse Fundstücke aus dem Foto-Archiv runden das Programm ab. Diese visuelle Zeitreise wird sicherlich viele Erinnerungen wecken und die Verbundenheit zur Heimat stärken. \n \nDer Eintritt zu dieser Veranstaltung ist frei\, und alle Interessierten sind herzlich eingeladen\, einen Abend voller Geschichte und Kultur zu erleben. \nAm Samstag\, 30. November 2024 um 17 Uhr im Jugend-\, Kultur- und Bürgerzentrum “Zweite Heimat”\, Mittelstraßé 7\, 56203 Höhr-Grenzhausen. Der Eintritt ist frei!
URL:https://juz-zweiteheimat.de/event/historische-einblicke-in-hoehr-grenzhausen/
LOCATION:Jugend-\, Kultur- und Bürgerzentrum “Zweite Heimat”\, Mittelstraße 7\, Höhr-Grenzhausen\, Rheinland-Pfalz\, 56203\, Germany
ATTACH;FMTTYPE=image/jpeg:https://juz-zweiteheimat.de/wp-content/uploads/2024/10/Fotogruppe-GSK-1550-web.jpg
END:VEVENT
END:VCALENDAR