BEGIN:VCALENDAR
VERSION:2.0
PRODID:-//Jugend-, Kultur- und Bürgerzentrum &quot;Zweite Heimat&quot; - ECPv6.15.20//NONSGML v1.0//EN
CALSCALE:GREGORIAN
METHOD:PUBLISH
X-WR-CALNAME:Jugend-, Kultur- und Bürgerzentrum &quot;Zweite Heimat&quot;
X-ORIGINAL-URL:https://juz-zweiteheimat.de
X-WR-CALDESC:Veranstaltungen für Jugend-, Kultur- und Bürgerzentrum &quot;Zweite Heimat&quot;
REFRESH-INTERVAL;VALUE=DURATION:PT1H
X-Robots-Tag:noindex
X-PUBLISHED-TTL:PT1H
BEGIN:VTIMEZONE
TZID:Europe/Berlin
BEGIN:DAYLIGHT
TZOFFSETFROM:+0100
TZOFFSETTO:+0200
TZNAME:CEST
DTSTART:20230326T010000
END:DAYLIGHT
BEGIN:STANDARD
TZOFFSETFROM:+0200
TZOFFSETTO:+0100
TZNAME:CET
DTSTART:20231029T010000
END:STANDARD
BEGIN:DAYLIGHT
TZOFFSETFROM:+0100
TZOFFSETTO:+0200
TZNAME:CEST
DTSTART:20240331T010000
END:DAYLIGHT
BEGIN:STANDARD
TZOFFSETFROM:+0200
TZOFFSETTO:+0100
TZNAME:CET
DTSTART:20241027T010000
END:STANDARD
BEGIN:DAYLIGHT
TZOFFSETFROM:+0100
TZOFFSETTO:+0200
TZNAME:CEST
DTSTART:20250330T010000
END:DAYLIGHT
BEGIN:STANDARD
TZOFFSETFROM:+0200
TZOFFSETTO:+0100
TZNAME:CET
DTSTART:20251026T010000
END:STANDARD
END:VTIMEZONE
BEGIN:VEVENT
DTSTART;TZID=Europe/Berlin:20241207T140000
DTEND;TZID=Europe/Berlin:20241207T220000
DTSTAMP:20260420T214707
CREATED:20240918T074109Z
LAST-MODIFIED:20241129T165123Z
UID:10000344-1733580000-1733608800@juz-zweiteheimat.de
SUMMARY:Weihnachtszauber 2024
DESCRIPTION:“Lassen Sie sich wieder verweihnachtszaubern”\nWeihnachtszauber auf dem Töpferplatz in Höhr-Grenzhausen \nBereits zum 18. Mal laden wir Sie wieder recht herzlich ein\, unseren Weihnachtszauber am Samstag\, 07. Dezember 2024\, zwischen 14 und 22 Uhr zu besuchen\, um mit Familie\, Freunden und Bekannten einen stimmungsvollen und gemütlichen Nachmittag in unserer Stadt auf dem Töpferplatz zu verbringen. \nWir\, die Stadt Höhr-Grenzhausen\, vertreten durch Stadtbürgermeister Wolfgang Letschert\, das Jugend-\, Kultur- und Bürgerzentrum „Zweite Heimat“ und das Quartiersmanagement Höhr sowie der Gewerbeverein Pro Höhr-Grenzhausen e.V. haben uns wieder sehr viel Mühe gegeben\, Ihnen ein breites Angebot an schönen selbst gemachten Weihnachtsgeschenken und leckeren Speisen anbieten zu können. Auch in diesem Jahr werden wir rund 20 weihnachtlich geschmückte Holzhütten auf dem Töpferplatz für den Weihnachtszauber aufstellen können. Freuen Sie sich auf rund 25 Teilnehmer auf unserem Weihnachtszauber. Viele alt-bekannte Gesichter und Stände warten auf Sie liebe Besucher und auch einige neue Teilnehmer konnten wir gewinnen. Zahlreiche Stände mit selbst gebasteltem\, Kunsthandwerk und weiteren tollen Einkaufsideen für Weihnachten warten auf Sie\, liebe Gäste. Auf der weihnachtlichen Bühne mitten im Markt wird der Posaunenchor und die Goethe-Grundschule das Rahmenprogramm bereichern. Der Nikolaus kommt für die kleinsten Besucher schon am Nachmittag und hält kleine Präsente bereit. Für Ihr leibliches Wohl wird ebenfalls wieder bestens gesorgt sein. \nWir freuen uns sehr auf Sie und Ihre Teilnahme an unserer schönen\, besinnlichen Veranstaltung\, die inzwischen zur festen Tradition im Herzen unserer schönen Innenstadt geworden ist. \nWeihnachtszauber in Höhr-Grenzhausen am Samstag\, 7. Dezember 2024\, von 14.00 bis 22.00 Uhr.               \nMit herzlichen Grüßen\nWolfgang Letschert – Bürgermeister der Stadt Höhr-Grenzhausen\nGuido Kröff – 1. Vorsitzender Pro Höhr-Grenzhausen\nWerner Bayer – Jugend-\, Kultur- und Bürgerzentrum „Zweite Heimat“\nDas Team des Quartiersmanagement Höhr-Grenzhausen
URL:https://juz-zweiteheimat.de/event/weihnachtszauber-2024/
LOCATION:Töpferplatz Höhr-Grenzhausen\, Töpferstrasse\, Höhr-Grenzhausen\, 56203\, Deutschland
ATTACH;FMTTYPE=image/jpeg:https://juz-zweiteheimat.de/wp-content/uploads/2024/09/Plakat-Weihnachtszauber-2024-web.jpg
END:VEVENT
END:VCALENDAR