BEGIN:VCALENDAR
VERSION:2.0
PRODID:-//Jugend-, Kultur- und Bürgerzentrum &quot;Zweite Heimat&quot; - ECPv6.15.20//NONSGML v1.0//EN
CALSCALE:GREGORIAN
METHOD:PUBLISH
X-ORIGINAL-URL:https://juz-zweiteheimat.de
X-WR-CALDESC:Veranstaltungen für Jugend-, Kultur- und Bürgerzentrum &quot;Zweite Heimat&quot;
REFRESH-INTERVAL;VALUE=DURATION:PT1H
X-Robots-Tag:noindex
X-PUBLISHED-TTL:PT1H
BEGIN:VTIMEZONE
TZID:Europe/Berlin
BEGIN:DAYLIGHT
TZOFFSETFROM:+0100
TZOFFSETTO:+0200
TZNAME:CEST
DTSTART:20240331T010000
END:DAYLIGHT
BEGIN:STANDARD
TZOFFSETFROM:+0200
TZOFFSETTO:+0100
TZNAME:CET
DTSTART:20241027T010000
END:STANDARD
BEGIN:DAYLIGHT
TZOFFSETFROM:+0100
TZOFFSETTO:+0200
TZNAME:CEST
DTSTART:20250330T010000
END:DAYLIGHT
BEGIN:STANDARD
TZOFFSETFROM:+0200
TZOFFSETTO:+0100
TZNAME:CET
DTSTART:20251026T010000
END:STANDARD
BEGIN:DAYLIGHT
TZOFFSETFROM:+0100
TZOFFSETTO:+0200
TZNAME:CEST
DTSTART:20260329T010000
END:DAYLIGHT
BEGIN:STANDARD
TZOFFSETFROM:+0200
TZOFFSETTO:+0100
TZNAME:CET
DTSTART:20261025T010000
END:STANDARD
END:VTIMEZONE
BEGIN:VEVENT
DTSTART;TZID=Europe/Berlin:20251117T100000
DTEND;TZID=Europe/Berlin:20251117T170000
DTSTAMP:20260422T114533
CREATED:20251110T185005Z
LAST-MODIFIED:20251110T185005Z
UID:10000429-1763373600-1763398800@juz-zweiteheimat.de
SUMMARY:#HöhrHinaus - BÜRGERDIALOG & EXPERTENFORUM am 17. November 2025
DESCRIPTION:Die Stadt Höhr-Grenzhausen lädt herzlich ein\, das Modellvorhaben „Innenstadt-Impulse“ zu entdecken\, das hier unter dem Titel STADT.IDEE.WIRKUNG durchgeführt wird. Die Auftaktveranstaltung steht unter dem Motto #HöhrHinaus und bietet an vier zentralen Schauplätzen spannende Einblicke in die vielfältigen Möglichkeiten der Stadtentwicklung. \nHerzstück des Tages ist das Expertenforum & Bürgerdialog. Hier haben Sie die Gelegenheit\, gemeinsam mit Bürger:innen und Fachleuten aus den Bereichen Wirtschaft\, Kultur\, Bildung und Politik zu diskutieren\, was unsere Stadt ausmacht und wie wir ihr Potenzial nachhaltig nutzen können. Den Link zum Anmeldeformular finden Sie am Ende dieser E-Mail. \n\n\n\n\n\n\n17. November Expertenforum & Bürgerdialog\nDas Jugend-\, Kultur- und Bürgerzentrum wird an diesem Montag zum pulsierenden Treffpunkt für Netzwerk\, Diskussion und Mitgestaltung.\n \nVorläufiger Ablauf (Änderungen vorbehalten)\n\n10:00 Begrüßung durch den Stadtbürgermeister Wolfgang Letschert\n\n10:10 Vorstellung des Modellvorhabens\, Projektergebnisse\, Ablauf des Tages \n11:10 kurze Pause \n\n\n\n11:40 Uhr – Chancen in der Entwicklung\, Stärken und Innovationen.  \nKurze Statements und Podium mit: \nSimone Schneider\, Staatssekretärin im Ministerium des Inneren und für Sport Rheinland-Pfalz \n\nLisa Bauer und Franziska Jeltsch\, “Mäander” Kulturwerk Weißenseifen\, Allerland Bundesprojekt Regionalentwicklung Eifel\nDr. Nele van Wieringen\, Museumsleitung Keramikmuseum HG\, UNESCO-Netzwerke und Verband der Industriekultur RLP \nProf. Dr. Pascal Seffern\, Hochschule Koblenz Campus HG\, BKW – Reallabor Stadt \nJulia Palotas\, Great Spa Towns of Europe Bad Ems – UNESCO im internationalen Netzwerk\n\n\n\nWirtschaft: \n14:10 Uhr – Kreativität\, Tourismus\, Ausbildung.  \n\n\nKurze Statements und Podium mit: \n\nPetra Dick-Walther\, Staatssekretärin im Ministerium für Wirtschaft\, Verkehr\, Landwirtschaft und Weinbau Rheinland-Pfalz \n\n\nBartel Meyer\, Kulturberatung RLP\, “Smart City\, INSITU Entwicklung Ländlicher Raum” \nPaul Dluschnewski\, “Sichtweise Architektur und Bauindustrie auf die zukünftige Baukultur” \nProf. Dr. Pascal Seffern\, Hochschule Koblenz Campus HG\, Study and Stay\n\n\n\nKultur: \n15:10 Uhr – Kultur als Cluster und Chance im digitalen Zeitalter\, Smart City im ländlichen Raum.  \n\n\nKurze Statements und Podium mit:  \n\nProf. Dr. Jürgen Hardeck\, Staatssekretär im Ministerium für Familie\, Frauen\, Kultur und Integration des Landes Rheinland-Pfalz. \n\n\nProf. Dr. Pascal Seffern\, Hochschule Koblenz Campus HG – Kultur als Cluster und Smart-City-Motor im ländlichen Raum\nNN\nNN\n\n\n\nModeration: Dominique Macri \nNach jedem der drei Themenblöcke laden wir Sie ein\, die Räume des Atelierhauses K² STUDIOS zu erkunden sowie die leerstehende Volksbank\, die mit Projekten von Hochschule\, Künstler:innen\, Handwerk und Bürger:innen lebendig wird.“ \nFür den reibungslosen Ablauf der Veranstaltung bitten wir um Anmeldung über das Online-Formular. https://cloud.hoehr-grenzhausen.de/index.php/apps/forms/s/3faLRx9NmsBX7jyMskGCJHYE \n\nDas ganze Programm der Veranstaltung #HöhrHinaus und Informationen über das Modellvorhaben „Innenstadt-Impulse“ finden Sie hier: https://natur-kultur-keramik.de/hoehrhinaus/\n\n\n\nWir freuen uns auf einen ereignisreichen Tag mit Ihnen!\n\n\nKontakt: Magret Müller\nVerbandsgemeindeverwaltung – Wirtschaftsförderung\ninfo@ceratechcenter.de\, (0 26 24) 94 73 0
URL:https://juz-zweiteheimat.de/event/hoehrhinaus-buergerdialog-expertenforum-am-17-november-2025/
LOCATION:Jugend-\, Kultur- und Bürgerzentrum “Zweite Heimat”\, Mittelstraße 7\, Höhr-Grenzhausen\, Rheinland-Pfalz\, 56203\, Germany
ATTACH;FMTTYPE=image/jpeg:https://juz-zweiteheimat.de/wp-content/uploads/2025/11/HoehrHinaus2025.jpg
END:VEVENT
END:VCALENDAR