BEGIN:VCALENDAR
VERSION:2.0
PRODID:-//Jugend-, Kultur- und Bürgerzentrum &quot;Zweite Heimat&quot; - ECPv6.15.20//NONSGML v1.0//EN
CALSCALE:GREGORIAN
METHOD:PUBLISH
X-ORIGINAL-URL:https://juz-zweiteheimat.de
X-WR-CALDESC:Veranstaltungen für Jugend-, Kultur- und Bürgerzentrum &quot;Zweite Heimat&quot;
REFRESH-INTERVAL;VALUE=DURATION:PT1H
X-Robots-Tag:noindex
X-PUBLISHED-TTL:PT1H
BEGIN:VTIMEZONE
TZID:Europe/Berlin
BEGIN:DAYLIGHT
TZOFFSETFROM:+0100
TZOFFSETTO:+0200
TZNAME:CEST
DTSTART:20250330T010000
END:DAYLIGHT
BEGIN:STANDARD
TZOFFSETFROM:+0200
TZOFFSETTO:+0100
TZNAME:CET
DTSTART:20251026T010000
END:STANDARD
BEGIN:DAYLIGHT
TZOFFSETFROM:+0100
TZOFFSETTO:+0200
TZNAME:CEST
DTSTART:20260329T010000
END:DAYLIGHT
BEGIN:STANDARD
TZOFFSETFROM:+0200
TZOFFSETTO:+0100
TZNAME:CET
DTSTART:20261025T010000
END:STANDARD
BEGIN:DAYLIGHT
TZOFFSETFROM:+0100
TZOFFSETTO:+0200
TZNAME:CEST
DTSTART:20270328T010000
END:DAYLIGHT
BEGIN:STANDARD
TZOFFSETFROM:+0200
TZOFFSETTO:+0100
TZNAME:CET
DTSTART:20271031T010000
END:STANDARD
END:VTIMEZONE
BEGIN:VEVENT
DTSTART;TZID=Europe/Berlin:20260227T200000
DTEND;TZID=Europe/Berlin:20260227T200000
DTSTAMP:20260420T003354
CREATED:20241217T142138Z
LAST-MODIFIED:20260126T124306Z
UID:10000369-1772222400-1772222400@juz-zweiteheimat.de
SUMMARY:Daniel Helfrich - "Trennkost ist kein Abschiedsessen" am 27. Februar 2026
DESCRIPTION:Was wäre passiert\, wenn Adam sich von Eva getrennt hätte? Wäre uns allen dadurch viel erspart geblieben? Oder wie trennt sich eigentlich ein Informatiker? Durch Steuerung – Alt – Entfernen? In seinem neuen Programm „Trennkost ist kein Abschiedsessen“ befreit Daniel Helfrich das Thema „Trennung“ von seinem schlechten Ruf und entdeckt darin vor allem eines: riesengroßen Spaß. Helfrichs Trennungsgedanken können vielfältiger Natur sein: Ob Partner\, Essen\, Müll oder\, wie in Van Goghs Fall\, vom eigenen Ohr. In diesem Programm wird jede Form der Trennung köstlich zelebriert. Nichts bleibt dem humorvollsten Trennungsexperten seit Heinrich dem 8. verborgen. Denn eigentlich macht Trennen so richtig Spaß\, wenn man nicht gerade ein Paar-Tattoo besitzt. „Trennkost ist kein Abschiedsessen“ ist ein Programm über Mütter\, die auf Handys starren\, moderne Männer\, missglückte Kommunikation und weitere „Erste-Welt-Probleme“. Ein geistreiches Programm nicht nur für Petersiliensafttrinker und Bambusbecherbesitzer\, sondern auch für Menschen mit nicht ganz ernst gemeinten Trennungsabsichten oder übertriebener Trennungsangst. Ein Programm für alle\, die Lust auf urkomische Lieder und gehobenen Blödsinn haben. In seinem fünften Programm deutet uns Daniel Helfrich die Trennungszeichen der Zeit und offenbart\, was in seinem Musiker-leben Musik-erleben bedeutet. Sich selbst wie gewohnt virtuos am Klavier begleitend durchstreift er vielfältigste Musikstile und zeigt\, wie man unfallfrei durch Konsumfalltüren fällt\, denn seine Pointen besitzen immer einen doppelten Boden. Skurriles gesellschaftskritisches Klavierkabarett mit absoluter Lachgarantie\, das Sie auch musikalisch mitreißen wird. „Trennkost ist kein Abschiedsessen“. Guten Appetit. \nAm Freitag\, 27. Februar 2026 um 20 Uhr im Jugend-\, Kultur- und Bürgerzentrum “Zweite Heimat”\, Mittelstraße 7 in Höhr-Grenzhausen. Karten sind erhältlich unter www.juz-zweiteheimat.de und kosten im VVK: 22\,- Euro\, an der AK: 25\,- Euro. \nNach der Reservierung vermerken wir Ihren Namen auf unserer Vorverkaufsliste. Sie zahlen den Eintritt an der Abendkasse vor Ort. Freie Platzwahl. Wir freuen uns auf Ihren Besuch! \nKartenreservierungBitte aktiviere JavaScript in deinem Browser\, um dieses Formular fertigzustellen.VeranstaltungstitelAnzahl der Karten *12345678910Name *Telefon *E-Mail *StraßePLZ/OrtVerbindliche Reservierung *Mit Absenden Ihrer Reservierung über unser Onlineformular erklären Sie sich mit der verbindlichen Buchung der ausgewählten Tickets einverstanden. Bitte beachten Sie\, dass Ihre Reservierung zahlungspflichtig ist und nach erfolgreicher Bestätigung nicht mehr kostenfrei storniert werden kann.NewsletterJa\, ich möchte den Newsletter mit regelmäßigen Informationen über Veranstaltungen des Jugend- und Kulturzentrum "Zweite Heimat" erhalten.Datenschutz *Mit dem Absenden Ihrer Anfrage erklären Sie sich mit der Verarbeitung Ihrer angegebenen Daten zum Zweck der Bearbeitung Ihrer Anfrage einverstanden.https://www.juz-zweiteheimat.de/datenschutzerklaerungJetzt reservieren
URL:https://juz-zweiteheimat.de/event/daniel-helfrich-trennkost-ist-kein-abschiedsessen-am-27-februar-2026/
LOCATION:Jugend-\, Kultur- und Bürgerzentrum “Zweite Heimat”\, Mittelstraße 7\, Höhr-Grenzhausen\, Rheinland-Pfalz\, 56203\, Germany
CATEGORIES:Kabarett,Musik
ATTACH;FMTTYPE=image/jpeg:https://juz-zweiteheimat.de/wp-content/uploads/2024/12/Daniel-Helfrich-Pressefoto-1-2-1-scaled-1.jpg
ORGANIZER;CN="Jugend-%2C Kultur- und B%C3%BCrgerzentrum 'Zweite Heimat'":MAILTO:info@juz-zweiteheimat.de
END:VEVENT
END:VCALENDAR