BEGIN:VCALENDAR
VERSION:2.0
PRODID:-//Jugend-, Kultur- und Bürgerzentrum &quot;Zweite Heimat&quot; - ECPv6.15.20//NONSGML v1.0//EN
CALSCALE:GREGORIAN
METHOD:PUBLISH
X-ORIGINAL-URL:https://juz-zweiteheimat.de
X-WR-CALDESC:Veranstaltungen für Jugend-, Kultur- und Bürgerzentrum &quot;Zweite Heimat&quot;
REFRESH-INTERVAL;VALUE=DURATION:PT1H
X-Robots-Tag:noindex
X-PUBLISHED-TTL:PT1H
BEGIN:VTIMEZONE
TZID:Europe/Berlin
BEGIN:DAYLIGHT
TZOFFSETFROM:+0100
TZOFFSETTO:+0200
TZNAME:CEST
DTSTART:20250330T010000
END:DAYLIGHT
BEGIN:STANDARD
TZOFFSETFROM:+0200
TZOFFSETTO:+0100
TZNAME:CET
DTSTART:20251026T010000
END:STANDARD
BEGIN:DAYLIGHT
TZOFFSETFROM:+0100
TZOFFSETTO:+0200
TZNAME:CEST
DTSTART:20260329T010000
END:DAYLIGHT
BEGIN:STANDARD
TZOFFSETFROM:+0200
TZOFFSETTO:+0100
TZNAME:CET
DTSTART:20261025T010000
END:STANDARD
BEGIN:DAYLIGHT
TZOFFSETFROM:+0100
TZOFFSETTO:+0200
TZNAME:CEST
DTSTART:20270328T010000
END:DAYLIGHT
BEGIN:STANDARD
TZOFFSETFROM:+0200
TZOFFSETTO:+0100
TZNAME:CET
DTSTART:20271031T010000
END:STANDARD
END:VTIMEZONE
BEGIN:VEVENT
DTSTART;TZID=Europe/Berlin:20260309T173000
DTEND;TZID=Europe/Berlin:20260309T173000
DTSTAMP:20260419T231556
CREATED:20260203T100403Z
LAST-MODIFIED:20260223T213259Z
UID:10000462-1773077400-1773077400@juz-zweiteheimat.de
SUMMARY:Klangschalen mit Vandu im Rahmen der 3. Friedenswoche der Tibetinitiative am 09. März 2026
DESCRIPTION:Im Rahmen der 3. Friedenswoche der Tibet-Initiative findet am 09. März 2026 um 17.30 Uhr eine besondere Klangschalen-Session mit Vandu statt. Die Veranstaltung ist eine Kooperation der Tibet Initiative Höhr-Grenzhausen und des Jugend-\, Kultur- und Bürgerzentrums „Zweite Heimat“. \nDie Teilnehmenden erwartet ein meditativer Klangraum\, der Ruhe\, Achtsamkeit und innere Balance fördert. Mit dieser offenen Begegnung möchten die Veranstalter ein Zeichen für Frieden\, Respekt und interkulturellen Austausch setzen. \nAnmeldung: Tibet Initiative Deutschland – Regionalgruppe WesterwaldE-Mail: westerwald@tibet-initiative.de
URL:https://juz-zweiteheimat.de/event/klangschalen-mit-vandu-im-rahmen-der-3-friedenswoche-der-tibetinitiative-am-09-maerz-2026/
LOCATION:Jugend-\, Kultur- und Bürgerzentrum “Zweite Heimat”\, Mittelstraße 7\, Höhr-Grenzhausen\, Rheinland-Pfalz\, 56203\, Germany
ATTACH;FMTTYPE=image/jpeg:https://juz-zweiteheimat.de/wp-content/uploads/2026/02/2026-Mandala-Tibetwoche.jpg
ORGANIZER;CN="Jugend-%2C Kultur- und B%C3%BCrgerzentrum 'Zweite Heimat'":MAILTO:info@juz-zweiteheimat.de
END:VEVENT
END:VCALENDAR