BEGIN:VCALENDAR
VERSION:2.0
PRODID:-//Jugend-, Kultur- und Bürgerzentrum &quot;Zweite Heimat&quot; - ECPv6.15.20//NONSGML v1.0//EN
CALSCALE:GREGORIAN
METHOD:PUBLISH
X-WR-CALNAME:Jugend-, Kultur- und Bürgerzentrum &quot;Zweite Heimat&quot;
X-ORIGINAL-URL:https://juz-zweiteheimat.de
X-WR-CALDESC:Veranstaltungen für Jugend-, Kultur- und Bürgerzentrum &quot;Zweite Heimat&quot;
REFRESH-INTERVAL;VALUE=DURATION:PT1H
X-Robots-Tag:noindex
X-PUBLISHED-TTL:PT1H
BEGIN:VTIMEZONE
TZID:Europe/Berlin
BEGIN:DAYLIGHT
TZOFFSETFROM:+0100
TZOFFSETTO:+0200
TZNAME:CEST
DTSTART:20250330T010000
END:DAYLIGHT
BEGIN:STANDARD
TZOFFSETFROM:+0200
TZOFFSETTO:+0100
TZNAME:CET
DTSTART:20251026T010000
END:STANDARD
BEGIN:DAYLIGHT
TZOFFSETFROM:+0100
TZOFFSETTO:+0200
TZNAME:CEST
DTSTART:20260329T010000
END:DAYLIGHT
BEGIN:STANDARD
TZOFFSETFROM:+0200
TZOFFSETTO:+0100
TZNAME:CET
DTSTART:20261025T010000
END:STANDARD
BEGIN:DAYLIGHT
TZOFFSETFROM:+0100
TZOFFSETTO:+0200
TZNAME:CEST
DTSTART:20270328T010000
END:DAYLIGHT
BEGIN:STANDARD
TZOFFSETFROM:+0200
TZOFFSETTO:+0100
TZNAME:CET
DTSTART:20271031T010000
END:STANDARD
END:VTIMEZONE
BEGIN:VEVENT
DTSTART;TZID=Europe/Berlin:20260310T193000
DTEND;TZID=Europe/Berlin:20260310T220000
DTSTAMP:20260419T201812
CREATED:20260218T122411Z
LAST-MODIFIED:20260218T122411Z
UID:10000527-1773171000-1773180000@juz-zweiteheimat.de
SUMMARY:Public Viewing der "SWR-Elefantenrunde" – Die „Zweite Heimat“ lädt zur großen politischen Live-Veranstaltung ein
DESCRIPTION:Das Jugend-\, Kultur- und Bürgerzentrum „Zweite Heimat“ richtet am Dienstag\, den 10. März 2026\, ein öffentliches Public Viewing der “SWR-Elefantenrunde” zur Landtagswahl in Rheinland-Pfalz aus. Beginn der Live-Übertragung ist um 20.15 Uhr (Einlass 19.30 Uhr). \nAls Gastgeber lädt die Zweite Heimat Bürger:innen aus Höhr-Grenzhausen und der gesamten Region ein\, die zentrale Diskussionssendung der Spitzenkandidat:innen für das Amt des/der Ministerpräsident:in gemeinsam zu verfolgen und miteinander ins Gespräch zu kommen. \nDer Südwestrundfunk (SWR) ist an diesem Abend als übertragender Sender präsent – und zusätzlich mit einem Fernsehteam vor Ort: Während der anschließenden Übertragung der Analyse (21.15 – 21.45 Uhr) ist eine Live-Schalte nach Höhr-Grenzhausen geplant. Dabei sollen kurze Statements und spontane Publikumsreaktionen live aufgenommen werden. Damit erhält die „Zweite Heimat“ die besondere Gelegenheit\, Teil der landesweiten Wahlberichterstattung zu werden und Stimmen direkt aus dem Publikum einzubringen. \nDie Elefantenrunde gilt als eines der wichtigsten Formate im Vorfeld der Landtagswahl Rheinland-Pfalz am 22. März 2026. Die Veranstaltung bietet fundierte Informationen\, politische Einordnung und die Möglichkeit\, das Geschehen gemeinsam zu diskutieren. Der Eintritt ist frei; Getränke werden vor Ort angeboten.
URL:https://juz-zweiteheimat.de/event/public-viewing-der-swr-elefantenrunde-die-zweite-heimat-laedt-zur-grossen-politischen-live-veranstaltung-ein/
LOCATION:Jugend-\, Kultur- und Bürgerzentrum “Zweite Heimat”\, Mittelstraße 7\, Höhr-Grenzhausen\, Rheinland-Pfalz\, 56203\, Germany
ATTACH;FMTTYPE=image/jpeg:https://juz-zweiteheimat.de/wp-content/uploads/2026/02/2026-Public-Viewing-Landtagswahl-Elefantenrunde.jpg
ORGANIZER;CN="Jugend-%2C Kultur- und B%C3%BCrgerzentrum 'Zweite Heimat'":MAILTO:info@juz-zweiteheimat.de
END:VEVENT
END:VCALENDAR