BEGIN:VCALENDAR
VERSION:2.0
PRODID:-//Jugend-, Kultur- und Bürgerzentrum &quot;Zweite Heimat&quot; - ECPv6.15.20//NONSGML v1.0//EN
CALSCALE:GREGORIAN
METHOD:PUBLISH
X-ORIGINAL-URL:https://juz-zweiteheimat.de
X-WR-CALDESC:Veranstaltungen für Jugend-, Kultur- und Bürgerzentrum &quot;Zweite Heimat&quot;
REFRESH-INTERVAL;VALUE=DURATION:PT1H
X-Robots-Tag:noindex
X-PUBLISHED-TTL:PT1H
BEGIN:VTIMEZONE
TZID:Europe/Berlin
BEGIN:DAYLIGHT
TZOFFSETFROM:+0100
TZOFFSETTO:+0200
TZNAME:CEST
DTSTART:20250330T010000
END:DAYLIGHT
BEGIN:STANDARD
TZOFFSETFROM:+0200
TZOFFSETTO:+0100
TZNAME:CET
DTSTART:20251026T010000
END:STANDARD
BEGIN:DAYLIGHT
TZOFFSETFROM:+0100
TZOFFSETTO:+0200
TZNAME:CEST
DTSTART:20260329T010000
END:DAYLIGHT
BEGIN:STANDARD
TZOFFSETFROM:+0200
TZOFFSETTO:+0100
TZNAME:CET
DTSTART:20261025T010000
END:STANDARD
BEGIN:DAYLIGHT
TZOFFSETFROM:+0100
TZOFFSETTO:+0200
TZNAME:CEST
DTSTART:20270328T010000
END:DAYLIGHT
BEGIN:STANDARD
TZOFFSETFROM:+0200
TZOFFSETTO:+0100
TZNAME:CET
DTSTART:20271031T010000
END:STANDARD
END:VTIMEZONE
BEGIN:VEVENT
DTSTART;TZID=Europe/Berlin:20260314T110000
DTEND;TZID=Europe/Berlin:20260314T140000
DTSTAMP:20260420T015214
CREATED:20251106T150223Z
LAST-MODIFIED:20260126T124558Z
UID:10000423-1773486000-1773496800@juz-zweiteheimat.de
SUMMARY:Frauensachenflohmarkt am 14. März 2026
DESCRIPTION:Lieblingsflohmarkt in Höhr-Grenzhausen: 32. Frauensachenflohmarkt lädt zum nachhaltigen Stöbern ein \nAm Samstag\, den 14. März 2026\, ist es wieder soweit: Der beliebte Frauensachenflohmarkt in Höhr-Grenzhausen geht in die 32. Runde! Zwischen 11:00 und 14:00 Uhr wird die Aula der Ernst-Barlach-Realschule plus (Am Scheidberg 2) erneut zum Treffpunkt für alle Modefans\, Schnäppchenjägerinnen und Liebhaberinnen nachhaltiger Kleidung. \nGetreu dem Motto „Secondhand ist Trend“ warten rund Tausende Kleidungsstücke\, Accessoires\, Schuhe und Taschen in den Größen XS bis XXL auf neue Besitzerinnen. Ob stilvoll\, sportlich\, klassisch oder modern – hier ist für jeden Geschmack und jedes Budget etwas dabei. Alle angebotenen Teile sind auf die Frühjahrs- und Sommersaison abgestimmt. \nDie Veranstaltung ist eine Kooperation des Jugend-\, Kultur- und Bürgerzentrums „Zweite Heimat“ und des AWO-Ortsvereins Höhr-Grenzhausen. Gemeinsam setzen sie ein starkes Zeichen für nachhaltigen Konsum und Mode mit Verantwortung. \nWer selbst verkaufen möchte\, sollte sich den 15. Januar 2026 vormerken: Ab diesem Tag können (ab 9.00 Uhr) über  www.basarlino.de/IQ01 Verkaufsnummern beantragt werden. Pro Nummer können 60 Artikel abgegeben werden. Die Teilnahmegebühr beträgt 8\,- €\, außerdem behalten die Veranstalter 15 % des Verkaufserlöses ein. \nDie Nummern sind begrenzt und werden – auch an Bestandskundinnen –  nach Eingangsdatum vergeben. \nFür weitere Informationen steht das Team telefonisch unter 02624/7257 oder per E-Mail an info@juz-zweiteheimat.de zur Verfügung.
URL:https://juz-zweiteheimat.de/event/frauensachenflohmarkt-am-14-maerz-2026/
LOCATION:Aula der Ernst-Barlach-Realschule plus\, Am Scheidberg 2\, Höhr-Grenzhausen\, 56203\, Deutschland
CATEGORIES:Für Erwachsene
ATTACH;FMTTYPE=image/jpeg:https://juz-zweiteheimat.de/wp-content/uploads/2025/11/Frauensachen-Fruehjahr-2026-web.jpg
ORGANIZER;CN="Jugend-%2C Kultur- und B%C3%BCrgerzentrum 'Zweite Heimat'":MAILTO:info@juz-zweiteheimat.de
END:VEVENT
END:VCALENDAR