BEGIN:VCALENDAR
VERSION:2.0
PRODID:-//Jugend-, Kultur- und Bürgerzentrum &quot;Zweite Heimat&quot; - ECPv6.15.20//NONSGML v1.0//EN
CALSCALE:GREGORIAN
METHOD:PUBLISH
X-WR-CALNAME:Jugend-, Kultur- und Bürgerzentrum &quot;Zweite Heimat&quot;
X-ORIGINAL-URL:https://juz-zweiteheimat.de
X-WR-CALDESC:Veranstaltungen für Jugend-, Kultur- und Bürgerzentrum &quot;Zweite Heimat&quot;
REFRESH-INTERVAL;VALUE=DURATION:PT1H
X-Robots-Tag:noindex
X-PUBLISHED-TTL:PT1H
BEGIN:VTIMEZONE
TZID:Europe/Berlin
BEGIN:DAYLIGHT
TZOFFSETFROM:+0100
TZOFFSETTO:+0200
TZNAME:CEST
DTSTART:20250330T010000
END:DAYLIGHT
BEGIN:STANDARD
TZOFFSETFROM:+0200
TZOFFSETTO:+0100
TZNAME:CET
DTSTART:20251026T010000
END:STANDARD
BEGIN:DAYLIGHT
TZOFFSETFROM:+0100
TZOFFSETTO:+0200
TZNAME:CEST
DTSTART:20260329T010000
END:DAYLIGHT
BEGIN:STANDARD
TZOFFSETFROM:+0200
TZOFFSETTO:+0100
TZNAME:CET
DTSTART:20261025T010000
END:STANDARD
BEGIN:DAYLIGHT
TZOFFSETFROM:+0100
TZOFFSETTO:+0200
TZNAME:CEST
DTSTART:20270328T010000
END:DAYLIGHT
BEGIN:STANDARD
TZOFFSETFROM:+0200
TZOFFSETTO:+0100
TZNAME:CET
DTSTART:20271031T010000
END:STANDARD
END:VTIMEZONE
BEGIN:VEVENT
DTSTART;TZID=Europe/Berlin:20260326T200000
DTEND;TZID=Europe/Berlin:20260326T200000
DTSTAMP:20260419T202352
CREATED:20251120T143938Z
LAST-MODIFIED:20260310T105049Z
UID:10000434-1774555200-1774555200@juz-zweiteheimat.de
SUMMARY:Katalyn Hühnerfeld: "Menschen muss man mögen" am 26. März 2026
DESCRIPTION:(Wenn’s uns nicht gäbe – man müsste uns erfinden!) \nWas wäre die Erde ohne uns? Intakte Flora und Fauna in einem dauerhaft ökologischen Gleichgewicht…stinklangweilig! Kein Wunder\, dass der liebe Gott uns erfunden hat. Aber haben nicht eher wir ihn erfunden? Egal – wir sind ihm ja ohnehin ebenbürtig – immer auf der\nSuche nach der Allmacht. Und wenn das mit der Unsterblichkeit schon nicht klappt\, dann doch bitte wenigstens mit einem ordentlichen Eintrag ins Guiness Buch der Rekorde. Zum Beispiel mit dem lautesten Rülpser der Welt. (Immerhin 109\,9 Dezibel – nur knapp unter einer Kettensäge!) \nWer es nicht zu solchen Superlativen schafft\, sollte sich zumindest ein ausgefallenes Hobby zulegen. Wie wäre es mit Mermaiding? Ja\, es gibt Menschen\, die sich in ihrer Freizeit in Meerjungfrauen verwandeln! Und überhaupt ist die Welt im Umbruch und an der Frage der richtigen Entsorgung einer Joghurt Verpackung ist schon so manche empfindsame Seele zerbrochen. Menschen sind halt grundsätzlich Masochisten. Warum sonst stehen wir auf immer mehr Bürokratie\, auf immer mehr schlechte Nachrichten und auf immer mehr Krampf um politisch korrektes Gendern. Dabei könnten wir uns eigentlich lieb haben! Die Tiere finden uns toll. Fliegen lieben unsere Haufen\, die Waschbären die Restmüll-Tonne und was wir Beerdigung nennen\, heißt bei den Würmern Ernte-Dank! Ohnehin können wir in Sachen Lust von den Tieren viel lernen. Oder wussten Sie\, dass es Transsexuelle Meerschweinchen gibt?! Daß Albatrosse bis zu vier Jahre lang flirten\, ehe sie sich fest binden\, während die allgemeine Wanderratte es an einem Tag bis zu 500 mal treibt! \nKatalyn Hühnerfeld erzählt von der tierisch komischen Natur des Menschen und seiner Mit-Tiere in Wort\, Lied und mit pantomimisch angereicherten\, höchst wissenschaftlichen Beiträgen! Wenn Sie das erlebt haben\, wissen Sie: Menschen muss man mögen! \nAm Donnerstag\, 26. März 2026 um 20 Uhr im Jugend-\, Kultur- und Bürgerzentrum “Zweite Heimat” in Höhr-Grenzhausen. Eine Ticketreservierung ist nur online möglich. Die Tickets kosten im VVK: 23\,- Euro\, an der AK: 25\,- Euro. \nNach der Reservierung vermerken wir Ihren Namen auf unserer Vorverkaufsliste. Sie zahlen den Eintritt an der Abendkasse vor Ort. Freie Platzwahl. Wir freuen uns auf Ihren Besuch! \nKartenreservierung: Katalyn Hühnerfeld: “Menschen muss man mögen” am 26. März 2026Bitte aktiviere JavaScript in deinem Browser\, um dieses Formular fertigzustellen.VeranstaltungstitelAnzahl der Karten *12345678910Name *Telefon *E-Mail *Straße *PLZ/Ort *Verbindliche Reservierung *Mit Absenden Ihrer Reservierung über unser Onlineformular erklären Sie sich mit der verbindlichen Buchung der ausgewählten Tickets einverstanden. Bitte beachten Sie\, dass Ihre Reservierung zahlungspflichtig ist und nach erfolgreicher Bestätigung nicht mehr kostenfrei storniert werden kann.NewsletterJa\, ich möchte den Newsletter mit regelmäßigen Informationen über Veranstaltungen des Jugend- und Kulturzentrum "Zweite Heimat" erhalten.Datenschutz *Mit dem Absenden Ihrer Anfrage erklären Sie sich mit der Verarbeitung Ihrer angegebenen Daten zum Zweck der Bearbeitung Ihrer Anfrage einverstanden.Datenschutzerklärung\n\nJetzt reservieren
URL:https://juz-zweiteheimat.de/event/katalyn-huehnerfeld-menschen-muss-man-moegen-am-26-maerz-2026/
LOCATION:Jugend-\, Kultur- und Bürgerzentrum “Zweite Heimat”\, Mittelstraße 7\, Höhr-Grenzhausen\, Rheinland-Pfalz\, 56203\, Germany
CATEGORIES:Comedy,Kabarett,Musik
ATTACH;FMTTYPE=image/png:https://juz-zweiteheimat.de/wp-content/uploads/2025/11/KatalynHuehnerfeld_MMMM_POSTKARTE_A6_jpeg.png
ORGANIZER;CN="Jugend-%2C Kultur- und B%C3%BCrgerzentrum 'Zweite Heimat'":MAILTO:info@juz-zweiteheimat.de
END:VEVENT
END:VCALENDAR