BEGIN:VCALENDAR
VERSION:2.0
PRODID:-//Jugend-, Kultur- und Bürgerzentrum &quot;Zweite Heimat&quot; - ECPv6.15.20//NONSGML v1.0//EN
CALSCALE:GREGORIAN
METHOD:PUBLISH
X-ORIGINAL-URL:https://juz-zweiteheimat.de
X-WR-CALDESC:Veranstaltungen für Jugend-, Kultur- und Bürgerzentrum &quot;Zweite Heimat&quot;
REFRESH-INTERVAL;VALUE=DURATION:PT1H
X-Robots-Tag:noindex
X-PUBLISHED-TTL:PT1H
BEGIN:VTIMEZONE
TZID:Europe/Berlin
BEGIN:DAYLIGHT
TZOFFSETFROM:+0100
TZOFFSETTO:+0200
TZNAME:CEST
DTSTART:20250330T010000
END:DAYLIGHT
BEGIN:STANDARD
TZOFFSETFROM:+0200
TZOFFSETTO:+0100
TZNAME:CET
DTSTART:20251026T010000
END:STANDARD
BEGIN:DAYLIGHT
TZOFFSETFROM:+0100
TZOFFSETTO:+0200
TZNAME:CEST
DTSTART:20260329T010000
END:DAYLIGHT
BEGIN:STANDARD
TZOFFSETFROM:+0200
TZOFFSETTO:+0100
TZNAME:CET
DTSTART:20261025T010000
END:STANDARD
BEGIN:DAYLIGHT
TZOFFSETFROM:+0100
TZOFFSETTO:+0200
TZNAME:CEST
DTSTART:20270328T010000
END:DAYLIGHT
BEGIN:STANDARD
TZOFFSETFROM:+0200
TZOFFSETTO:+0100
TZNAME:CET
DTSTART:20271031T010000
END:STANDARD
END:VTIMEZONE
BEGIN:VEVENT
DTSTART;TZID=Europe/Berlin:20260327T200000
DTEND;TZID=Europe/Berlin:20260327T200000
DTSTAMP:20260419T202525
CREATED:20251108T090853Z
LAST-MODIFIED:20260310T105209Z
UID:10000426-1774641600-1774641600@juz-zweiteheimat.de
SUMMARY:Lulo Reinhardt Accoustic Lounge "Gypsy meets Classic" feat. Yuliya Lonskaya  am 27. März 2026
DESCRIPTION:Mit der „Lulo Reinhardt Acoustic Lounge“ bedient das Jugend-\, Kultur- und Bürgerzentrum “Zweite Heimat” in Höhr-Grenzhausen seit Jahren ein erfolgreiches Konzert-Format\, das Musikliebhaberinnen und Musikliebhaber regelmäßig mit handgemachter\, authentischer Live-Musik begeistert. Der international renommierte Gitarrist Lulo Reinhardt lädt hierfür befreundete Künstlerinnen und Künstler aus unterschiedlichen musikalischen Genres ein\, um gemeinsam auf der Bühne zu stehen und ihre Musik in einem offenen\, lebendigen Austausch zu präsentieren. \n“Jedes Konzert ist auf seine eigene Art und Weise einmalig.” \nDie Atmosphäre der Accoustic Lounge ist persönlich und nah – hier geht es nicht um große Bühnenproduktionen\, sondern um das gemeinsame Erleben von Musik in ihrer reinsten Form. Jeder Abend ist einzigartig: Mal steht virtuoser Gypsy-Jazz im Mittelpunkt\, mal Latin-Grooves\, mal Singer-Songwriter-Klänge oder Weltmusik. \nLulo Reinhardt\, Enkel des legendären Django Reinhardt\, gilt als einer der wichtigsten Vertreter des modernen Gypsy-Swing. Mit seinem unverwechselbaren Stil\, der Einflüsse aus Jazz\, Flamenco und Weltmusik vereint\, begeistert er seit Jahren ein internationales Publikum. In der “Zweiten Heimat” präsentiert er sich in seiner persönlichsten Form – als Gastgeber\, Musiker und Geschichtenerzähler. \nZu Gast an diesem Abend: Yuliya LonskayaDie aus Belarus stammende Gitarristin und Sängerin Yuliya Lonskaya begeistert mit virtuosem Spiel und einer Stimme voller Wärme und Ausdruck. Ihr Repertoire reicht von klassischer Musik über lateinamerikanische Rhythmen bis hin zu Jazz und Folk – immer mit einer unverkennbaren Leichtigkeit vorgetragen. Gemeinsam mit Lulo Reinhardt entsteht ein Abend voller feiner Nuancen\, technischer Brillanz und musikalischer Poesie. \n \nAm Freitag\, 27. März 2026 um 20.00 Uhr im Jugend-\, Kultur- und Bürgerzentrum “Zweite Heimat”\, Mittelstraße 7 in 56203 Höhr-Grenzhausen. Eine Ticketreservierung ist nur online möglich. Die Tickets kosten im VVK: 22\,- Euro\, an der AK: 24\,- Euro. \nNach der Reservierung vermerken wir Ihren Namen auf unserer Vorverkaufsliste. Sie zahlen den Eintritt an der Abendkasse vor Ort. Freie Platzwahl. Wir freuen uns auf Ihren Besuch! \nKartenreservierung: Lulo Reinhardt Accoustic Lounge “Gypsy meets Classic” feat. Yuliya Lonskaya am 27. März 2026Bitte aktiviere JavaScript in deinem Browser\, um dieses Formular fertigzustellen.VeranstaltungstitelAnzahl der Karten *12345678910Name *Telefon *E-Mail *Straße *PLZ/Ort *Verbindliche Reservierung *Mit Absenden Ihrer Reservierung über unser Onlineformular erklären Sie sich mit der verbindlichen Buchung der ausgewählten Tickets einverstanden. Bitte beachten Sie\, dass Ihre Reservierung zahlungspflichtig ist und nach erfolgreicher Bestätigung nicht mehr kostenfrei storniert werden kann.NewsletterJa\, ich möchte den Newsletter mit regelmäßigen Informationen über Veranstaltungen des Jugend- und Kulturzentrum "Zweite Heimat" erhalten.Datenschutz *Mit dem Absenden Ihrer Anfrage erklären Sie sich mit der Verarbeitung Ihrer angegebenen Daten zum Zweck der Bearbeitung Ihrer Anfrage einverstanden.Datenschutzerklärung\n\nJetzt reservieren
URL:https://juz-zweiteheimat.de/event/lulo-reinhardt-accoustic-lounge-gypsy-meets-classic-feat-yuliya-lonskaya-am-27-maerz-2026/
LOCATION:Jugend-\, Kultur- und Bürgerzentrum “Zweite Heimat”\, Mittelstraße 7\, Höhr-Grenzhausen\, Rheinland-Pfalz\, 56203\, Germany
CATEGORIES:Konzert
ATTACH;FMTTYPE=image/jpeg:https://juz-zweiteheimat.de/wp-content/uploads/2023/06/Lulo-Reinhardt-Yuliya-Lonskaya.jpg
ORGANIZER;CN="Jugend-%2C Kultur- und B%C3%BCrgerzentrum 'Zweite Heimat'":MAILTO:info@juz-zweiteheimat.de
END:VEVENT
END:VCALENDAR