BEGIN:VCALENDAR
VERSION:2.0
PRODID:-//Jugend-, Kultur- und Bürgerzentrum &quot;Zweite Heimat&quot; - ECPv6.15.20//NONSGML v1.0//EN
CALSCALE:GREGORIAN
METHOD:PUBLISH
X-ORIGINAL-URL:https://juz-zweiteheimat.de
X-WR-CALDESC:Veranstaltungen für Jugend-, Kultur- und Bürgerzentrum &quot;Zweite Heimat&quot;
REFRESH-INTERVAL;VALUE=DURATION:PT1H
X-Robots-Tag:noindex
X-PUBLISHED-TTL:PT1H
BEGIN:VTIMEZONE
TZID:Europe/Berlin
BEGIN:DAYLIGHT
TZOFFSETFROM:+0100
TZOFFSETTO:+0200
TZNAME:CEST
DTSTART:20250330T010000
END:DAYLIGHT
BEGIN:STANDARD
TZOFFSETFROM:+0200
TZOFFSETTO:+0100
TZNAME:CET
DTSTART:20251026T010000
END:STANDARD
BEGIN:DAYLIGHT
TZOFFSETFROM:+0100
TZOFFSETTO:+0200
TZNAME:CEST
DTSTART:20260329T010000
END:DAYLIGHT
BEGIN:STANDARD
TZOFFSETFROM:+0200
TZOFFSETTO:+0100
TZNAME:CET
DTSTART:20261025T010000
END:STANDARD
BEGIN:DAYLIGHT
TZOFFSETFROM:+0100
TZOFFSETTO:+0200
TZNAME:CEST
DTSTART:20270328T010000
END:DAYLIGHT
BEGIN:STANDARD
TZOFFSETFROM:+0200
TZOFFSETTO:+0100
TZNAME:CET
DTSTART:20271031T010000
END:STANDARD
END:VTIMEZONE
BEGIN:VEVENT
DTSTART;TZID=Europe/Berlin:20260413T190000
DTEND;TZID=Europe/Berlin:20260413T210000
DTSTAMP:20260419T190130
CREATED:20260126T142828Z
LAST-MODIFIED:20260126T175313Z
UID:10000455-1776106800-1776114000@juz-zweiteheimat.de
SUMMARY:Strick-Kino in der "Zweiten Heimat" am 13. April 2026
DESCRIPTION:Popcorn war gestern – jetzt klappern die Nadeln!\nDer skandinavische Trend ist endlich bei uns: Strick-Kino verbindet kreatives Handarbeiten mit einem besonderen Kinoerlebnis. Am Montag\, 13. April 2026\, lädt das Jugend-\, Kultur- und Bürgerzentrum „Zweite Heimat“ alle Strick- und Häkel-Fans – und alle\, die einfach Lust auf einen gemütlichen Abend haben – herzlich ein. \nWährend auf der Leinwand der Film läuft\, könnt ihr in entspannter Atmosphäre eure Nadeln tanzen lassen – das leise Klappern wird zum Soundtrack des  Abends. \nWarum dabei sein solltet? Weil Kreativität und Kino hier perfekt zusammenkommen\, der Austausch und Smalltalk mit Gleichgesinnten inspiriert\, einfach Spaß macht und für pure Entspannung sorgt. \nAuch ohne Strickzeug seid ihr willkommen – Hauptsache\, ihr habt Lust auf Gemeinschaft und Filmgenuss!\nEintritt frei · Einlass ab 18:30 Uhr\, Filmstart um 19:00 Uhr in der Zweiten Heimat\, Mittelstraße 7 in Höhr-Grenzhausen. \nBei Infos\, Fragen und Mitteilungen erreicht Ihr uns telefonisch unter 02624/7257 oder via Email info@juz-zweiteheimat.de. \nTicketreservierung: Strickkino am 13. April 2026Bitte aktiviere JavaScript in deinem Browser\, um dieses Formular fertigzustellen.VeranstaltungstitelAnzahl der Karten *12345678910Name *Telefon *E-Mail *Straße *PLZ/Ort *NewsletterJa\, ich möchte den Newsletter mit regelmäßigen Informationen über Veranstaltungen des Jugend- und Kulturzentrum "Zweite Heimat" erhalten.Datenschutz *Mit dem Absenden Ihrer Anfrage erklären Sie sich mit der Verarbeitung Ihrer angegebenen Daten zum Zweck der Bearbeitung Ihrer Anfrage einverstanden.https://www.juz-zweiteheimat.de/datenschutzerklaerungJetzt reservieren
URL:https://juz-zweiteheimat.de/event/strick-kino-in-der-zweiten-heimat-am-13-april-2026/
LOCATION:Jugend-\, Kultur- und Bürgerzentrum “Zweite Heimat”\, Mittelstraße 7\, Höhr-Grenzhausen\, Rheinland-Pfalz\, 56203\, Germany
CATEGORIES:Für Erwachsene
ATTACH;FMTTYPE=image/jpeg:https://juz-zweiteheimat.de/wp-content/uploads/2026/01/2026-04-13-Strickkino.jpg
ORGANIZER;CN="Jugend-%2C Kultur- und B%C3%BCrgerzentrum 'Zweite Heimat'":MAILTO:info@juz-zweiteheimat.de
END:VEVENT
END:VCALENDAR