BEGIN:VCALENDAR
VERSION:2.0
PRODID:-//Jugend-, Kultur- und Bürgerzentrum &quot;Zweite Heimat&quot; - ECPv6.15.20//NONSGML v1.0//EN
CALSCALE:GREGORIAN
METHOD:PUBLISH
X-WR-CALNAME:Jugend-, Kultur- und Bürgerzentrum &quot;Zweite Heimat&quot;
X-ORIGINAL-URL:https://juz-zweiteheimat.de
X-WR-CALDESC:Veranstaltungen für Jugend-, Kultur- und Bürgerzentrum &quot;Zweite Heimat&quot;
REFRESH-INTERVAL;VALUE=DURATION:PT1H
X-Robots-Tag:noindex
X-PUBLISHED-TTL:PT1H
BEGIN:VTIMEZONE
TZID:Europe/Berlin
BEGIN:DAYLIGHT
TZOFFSETFROM:+0100
TZOFFSETTO:+0200
TZNAME:CEST
DTSTART:20250330T010000
END:DAYLIGHT
BEGIN:STANDARD
TZOFFSETFROM:+0200
TZOFFSETTO:+0100
TZNAME:CET
DTSTART:20251026T010000
END:STANDARD
BEGIN:DAYLIGHT
TZOFFSETFROM:+0100
TZOFFSETTO:+0200
TZNAME:CEST
DTSTART:20260329T010000
END:DAYLIGHT
BEGIN:STANDARD
TZOFFSETFROM:+0200
TZOFFSETTO:+0100
TZNAME:CET
DTSTART:20261025T010000
END:STANDARD
BEGIN:DAYLIGHT
TZOFFSETFROM:+0100
TZOFFSETTO:+0200
TZNAME:CEST
DTSTART:20270328T010000
END:DAYLIGHT
BEGIN:STANDARD
TZOFFSETFROM:+0200
TZOFFSETTO:+0100
TZNAME:CET
DTSTART:20271031T010000
END:STANDARD
END:VTIMEZONE
BEGIN:VEVENT
DTSTART;TZID=Europe/Berlin:20260423T190000
DTEND;TZID=Europe/Berlin:20260423T190000
DTSTAMP:20260423T063257
CREATED:20251202T090405Z
LAST-MODIFIED:20260126T124706Z
UID:10000444-1776970800-1776970800@juz-zweiteheimat.de
SUMMARY:Autorenlesung mit Dieter Aurass am 23. April 2026
DESCRIPTION:Das Jugend-\, Kultur- und Bürgerzentrum “Zweite Heimat” lädt zu einem spannenden Literaturabend mit dem renommierten Autor Dieter Aurass ein. Bekannt für seine fesselnden Kriminalromane und präzise recherchierten Thriller\, versteht es Aurass wie kaum ein anderer\, Spannung\, Humor und menschliche Tiefe in seinen Geschichten zu vereinen. \nBei der Lesung gibt er persönliche Einblicke in seine Arbeit\, erzählt Hintergründe zu seinen Figuren und lässt sein Publikum an seinem Schreibprozess teilhaben. Natürlich liest er auch ausgewählte Passagen aus seinen aktuellen Werken – lebendig\, packend und mit viel Gespür für Atmosphäre. \nEin Abend für alle Krimi- und Thrillerfans sowie für alle\, die gerne hinter die Kulissen des Schreibens blicken. \nVita\nDieter Aurass wurde 1955 in Frankfurt am Main geboren und war 41 Jahre lang Kriminalbeamter beim Bundeskriminalamt und der Bundespolizei. Dort war er in den Bereich Personenschutz\, Terrorismusbekämpfung\, Spionageermittlungen und als IT-Manager eingesetzt. Kurz vor seiner Pensionierung begann er seinen ersten Kriminalroman zu schreiben\, der 2016 veröffentlicht wurde. Bis heute hat er über 20 Kriminalromane und zahlreiche Kurzgeschichten in verschiedenen Verlagen veröffentlichen dürfen. Inzwischen liegt der Schwerpunkt seiner Aktivitäten auf unterhaltsamen Live-Acts\, die eine Mischung aus Lesung\, Comedy und interessanten Anekdoten aus seinem ereignisreichen Berufsleben darstellen. In seinen bisher über 100 Veranstaltungen amüsiert er die Besucher mit lustigen Krimigedichten und erstaunlichen Einsichten in den Beruf des Kriminalbeamten. \nAm Donnerstag\, 23. April 2026 um 19 Uhr im Jugend-\, Kultur- und Bürgerzentrum “Zweite Heimat”\, Mittelstr. 7 in Höhr-Grenzhausen. Eine Ticketreservierung ist nur online möglich. Die Tickets kosten im VVK: 20\,- Euro\, an der AK: 22\,- Euro. \nNach der Reservierung vermerken wir Ihren Namen auf unserer Vorverkaufsliste. Sie zahlen den Eintritt an der Abendkasse vor Ort. Freie Platzwahl. Wir freuen uns auf Ihren Besuch! \nKartenreservierungBitte aktiviere JavaScript in deinem Browser\, um dieses Formular fertigzustellen.VeranstaltungstitelAnzahl der Karten *12345678910Name *Telefon *E-Mail *StraßePLZ/OrtVerbindliche Reservierung *Mit Absenden Ihrer Reservierung über unser Onlineformular erklären Sie sich mit der verbindlichen Buchung der ausgewählten Tickets einverstanden. Bitte beachten Sie\, dass Ihre Reservierung zahlungspflichtig ist und nach erfolgreicher Bestätigung nicht mehr kostenfrei storniert werden kann.NewsletterJa\, ich möchte den Newsletter mit regelmäßigen Informationen über Veranstaltungen des Jugend- und Kulturzentrum "Zweite Heimat" erhalten.Datenschutz *Mit dem Absenden Ihrer Anfrage erklären Sie sich mit der Verarbeitung Ihrer angegebenen Daten zum Zweck der Bearbeitung Ihrer Anfrage einverstanden.https://www.juz-zweiteheimat.de/datenschutzerklaerungJetzt reservieren
URL:https://juz-zweiteheimat.de/event/autorenlesung-mit-dieter-aurass-am-23-april-2026/
LOCATION:Jugend-\, Kultur- und Bürgerzentrum “Zweite Heimat”\, Mittelstraße 7\, Höhr-Grenzhausen\, Rheinland-Pfalz\, 56203\, Germany
CATEGORIES:Lesung
ATTACH;FMTTYPE=image/jpeg:https://juz-zweiteheimat.de/wp-content/uploads/2025/12/Dieter-Aurass-Autorenfoto.jpg
ORGANIZER;CN="Jugend-%2C Kultur- und B%C3%BCrgerzentrum 'Zweite Heimat'":MAILTO:info@juz-zweiteheimat.de
END:VEVENT
END:VCALENDAR