BEGIN:VCALENDAR
VERSION:2.0
PRODID:-//Jugend-, Kultur- und Bürgerzentrum &quot;Zweite Heimat&quot; - ECPv6.15.20//NONSGML v1.0//EN
CALSCALE:GREGORIAN
METHOD:PUBLISH
X-ORIGINAL-URL:https://juz-zweiteheimat.de
X-WR-CALDESC:Veranstaltungen für Jugend-, Kultur- und Bürgerzentrum &quot;Zweite Heimat&quot;
REFRESH-INTERVAL;VALUE=DURATION:PT1H
X-Robots-Tag:noindex
X-PUBLISHED-TTL:PT1H
BEGIN:VTIMEZONE
TZID:Europe/Berlin
BEGIN:DAYLIGHT
TZOFFSETFROM:+0100
TZOFFSETTO:+0200
TZNAME:CEST
DTSTART:20250330T010000
END:DAYLIGHT
BEGIN:STANDARD
TZOFFSETFROM:+0200
TZOFFSETTO:+0100
TZNAME:CET
DTSTART:20251026T010000
END:STANDARD
BEGIN:DAYLIGHT
TZOFFSETFROM:+0100
TZOFFSETTO:+0200
TZNAME:CEST
DTSTART:20260329T010000
END:DAYLIGHT
BEGIN:STANDARD
TZOFFSETFROM:+0200
TZOFFSETTO:+0100
TZNAME:CET
DTSTART:20261025T010000
END:STANDARD
BEGIN:DAYLIGHT
TZOFFSETFROM:+0100
TZOFFSETTO:+0200
TZNAME:CEST
DTSTART:20270328T010000
END:DAYLIGHT
BEGIN:STANDARD
TZOFFSETFROM:+0200
TZOFFSETTO:+0100
TZNAME:CET
DTSTART:20271031T010000
END:STANDARD
END:VTIMEZONE
BEGIN:VEVENT
DTSTART;TZID=Europe/Berlin:20260424T200000
DTEND;TZID=Europe/Berlin:20260424T200000
DTSTAMP:20260419T190134
CREATED:20241028T122238Z
LAST-MODIFIED:20260311T125651Z
UID:10000352-1777060800-1777060800@juz-zweiteheimat.de
SUMMARY:Cüneyt Akan: "Drama King" am 24. April 2026
DESCRIPTION:In seinem Programm „DRAMA KING“ zeigt der Wiesbadener Cüneyt Akan\, dass man nicht alles\, was im Leben passiert\, verstehen muss. Er tut es selbst auch nicht. Der sympathische Comedian nimmt Sie mit in seine Welt zwischen gescheiterten Beziehungen\, der Sehnsucht nach Früher und Identitätskrisen ­- aber bitte nicht so viel Drama… Also lassen Sie sich durch seine Spontanität und schlagkräftigen Dialoge begeistern und mitreißen. Eines ist aber garantiert – es wird nicht\, wie man Comedy erwartet. \nÜber Cüneyt\nWer erleben will\, was Empathie bedeutet\, muss Cüneyt einfach kennenlernen! Der Deutsch-Türke versteht es\, auf charmante und liebenswerte Weise über Familie\, Beruf und soziale Probleme zu sprechen. Natürlich immer mit einem kleinen Augenzwinkern. Aber Achtung: Wer bei ihm Klischee-Comedy erwartet\, hat sich geschnitten. Neben seinen zahlreichen Bühnenauftritten\, u.a. mit „NightWash live“ (Bundesweit) und im „Quatsch Comedy Club“ (Berlin\, Hamburg\, München)\, ist Cüneyt Akan auch immer wieder im TV zu sehen. \n \nAm Freitag\, 24. April 2024 um 20 Uhr (Einlass um 19 Uhr) im Jugend-\, Kultur- und Bürgerzentrum “Zweite Heimat”\, Mittelstraße 7 in Höhr-Grenzhausen. Karten sind erhältlich unter www.juz-zweiteheimat.de und kosten im VVK: 35\,- Euro\, an der AK: 38\,- Euro. \nNach der Reservierung vermerken wir Ihren Namen auf unserer Vorverkaufsliste. Sie zahlen den Eintritt an der Abendkasse vor Ort. Freie Platzwahl. Wir freuen uns auf Ihren Besuch! \nKartenreservierung Cüneyt Akan: “Drama King” am 24. April 2026Bitte aktiviere JavaScript in deinem Browser\, um dieses Formular fertigzustellen.VeranstaltungstitelAnzahl der Karten *12345678910Name *Telefon *E-Mail *Straße *PLZ/Ort *Verbindliche Reservierung *Mit Absenden Ihrer Reservierung über unser Onlineformular erklären Sie sich mit der verbindlichen Buchung der ausgewählten Tickets einverstanden. Bitte beachten Sie\, dass Ihre Reservierung zahlungspflichtig ist und nach erfolgreicher Bestätigung nicht mehr kostenfrei storniert werden kann.NewsletterJa\, ich möchte den Newsletter mit regelmäßigen Informationen über Veranstaltungen des Jugend- und Kulturzentrum "Zweite Heimat" erhalten.Datenschutz *Mit dem Absenden Ihrer Anfrage erklären Sie sich mit der Verarbeitung Ihrer angegebenen Daten zum Zweck der Bearbeitung Ihrer Anfrage einverstanden.https://www.juz-zweiteheimat.de/datenschutzerklaerungJetzt reservieren
URL:https://juz-zweiteheimat.de/event/cueneyt-akan-drama-king-am-24-april-2026/
LOCATION:Jugend-\, Kultur- und Bürgerzentrum “Zweite Heimat”\, Mittelstraße 7\, Höhr-Grenzhausen\, Rheinland-Pfalz\, 56203\, Germany
CATEGORIES:Comedy
ATTACH;FMTTYPE=image/jpeg:https://juz-zweiteheimat.de/wp-content/uploads/2024/10/Cueneyt-Akan-1-©-Cueneyt-Akan-web.jpg
ORGANIZER;CN="Jugend-%2C Kultur- und B%C3%BCrgerzentrum 'Zweite Heimat'":MAILTO:info@juz-zweiteheimat.de
END:VEVENT
END:VCALENDAR