BEGIN:VCALENDAR
VERSION:2.0
PRODID:-//Jugend-, Kultur- und Bürgerzentrum &quot;Zweite Heimat&quot; - ECPv6.15.20//NONSGML v1.0//EN
CALSCALE:GREGORIAN
METHOD:PUBLISH
X-ORIGINAL-URL:https://juz-zweiteheimat.de
X-WR-CALDESC:Veranstaltungen für Jugend-, Kultur- und Bürgerzentrum &quot;Zweite Heimat&quot;
REFRESH-INTERVAL;VALUE=DURATION:PT1H
X-Robots-Tag:noindex
X-PUBLISHED-TTL:PT1H
BEGIN:VTIMEZONE
TZID:Europe/Berlin
BEGIN:DAYLIGHT
TZOFFSETFROM:+0100
TZOFFSETTO:+0200
TZNAME:CEST
DTSTART:20250330T010000
END:DAYLIGHT
BEGIN:STANDARD
TZOFFSETFROM:+0200
TZOFFSETTO:+0100
TZNAME:CET
DTSTART:20251026T010000
END:STANDARD
BEGIN:DAYLIGHT
TZOFFSETFROM:+0100
TZOFFSETTO:+0200
TZNAME:CEST
DTSTART:20260329T010000
END:DAYLIGHT
BEGIN:STANDARD
TZOFFSETFROM:+0200
TZOFFSETTO:+0100
TZNAME:CET
DTSTART:20261025T010000
END:STANDARD
BEGIN:DAYLIGHT
TZOFFSETFROM:+0100
TZOFFSETTO:+0200
TZNAME:CEST
DTSTART:20270328T010000
END:DAYLIGHT
BEGIN:STANDARD
TZOFFSETFROM:+0200
TZOFFSETTO:+0100
TZNAME:CET
DTSTART:20271031T010000
END:STANDARD
END:VTIMEZONE
BEGIN:VEVENT
DTSTART;TZID=Europe/Berlin:20260429T193000
DTEND;TZID=Europe/Berlin:20260429T193000
DTSTAMP:20260419T190128
CREATED:20260130T145726Z
LAST-MODIFIED:20260209T104541Z
UID:10000458-1777491000-1777491000@juz-zweiteheimat.de
SUMMARY:Feierabend-Konzert: "VocalThur – Frauenstimmen\, die berühren" live am 29. April 2026
DESCRIPTION:Wer ist VocalThur? Das ist der Chor der evangelischen Kirchengemeinde Weißenthurm\, der seit 2018 zeigt\, wie moderne Musik neben christlichen Liedern zusammenpassen. Mitbegründet von Chorleiterin Ina Hauffe\, singen hier seit 2019 nur noch Frauen\, die Musik lieben und mit ganzem Herzen und Freude dabei sind und es gerne mit Ihrem Publikum teilen. Ob Gospel\, Rock oder Pop\, Schlager\, Jazz\, VocalThur bringt abwechslungsreich und mehrstimmig frischen Sound in die Kirche. In den wöchentlichen Proben und mit viel Extra-Einsatz vor Auftritten entsteht Musik\, die berührt\, Mut macht und einfach Spaß bringt. Die Songs\, von starken Frauen-Stimmen gesungen\, erzählen von Liebe\, Stärke\, Freiheit und von der Nähe zu Gott\, so ehrlich\, lebensnah und mitten aus dem Leben. Was VocalThur ausmacht? Echte Gemeinschaft\, spürbare Freude und ganz viel Energie\, die sofort auf das Publikum überspringt. Egal ob im Gottesdienst\, auf Konzerten\, Weihnachtsmärkten oder bei Veranstaltungen\, VocalThur begeistert\, bewegt und bleibt im Ohr. \nAm Mittwoch\, 29. April 2026 um 19.30 Uhr im Jugend-\, Kultur- und Bürgerzentrum “Zweite Heimat”\, Mittelstraße 7 in Höhr-Grenzhausen. \nDer Eintritt ist frei. Eine Hutspende ist gerne möglich.
URL:https://juz-zweiteheimat.de/event/vocalthur-frauenstimmen-die-beruehren-live-am-29-april-2026/
LOCATION:Jugend-\, Kultur- und Bürgerzentrum “Zweite Heimat”\, Mittelstraße 7\, Höhr-Grenzhausen\, Rheinland-Pfalz\, 56203\, Germany
CATEGORIES:Musik
ATTACH;FMTTYPE=image/jpeg:https://juz-zweiteheimat.de/wp-content/uploads/2026/01/VocalThur.jpeg
ORGANIZER;CN="Jugend-%2C Kultur- und B%C3%BCrgerzentrum 'Zweite Heimat'":MAILTO:info@juz-zweiteheimat.de
END:VEVENT
END:VCALENDAR