BEGIN:VCALENDAR
VERSION:2.0
PRODID:-//Jugend-, Kultur- und Bürgerzentrum &quot;Zweite Heimat&quot; - ECPv6.15.20//NONSGML v1.0//EN
CALSCALE:GREGORIAN
METHOD:PUBLISH
X-WR-CALNAME:Jugend-, Kultur- und Bürgerzentrum &quot;Zweite Heimat&quot;
X-ORIGINAL-URL:https://juz-zweiteheimat.de
X-WR-CALDESC:Veranstaltungen für Jugend-, Kultur- und Bürgerzentrum &quot;Zweite Heimat&quot;
REFRESH-INTERVAL;VALUE=DURATION:PT1H
X-Robots-Tag:noindex
X-PUBLISHED-TTL:PT1H
BEGIN:VTIMEZONE
TZID:Europe/Berlin
BEGIN:DAYLIGHT
TZOFFSETFROM:+0100
TZOFFSETTO:+0200
TZNAME:CEST
DTSTART:20250330T010000
END:DAYLIGHT
BEGIN:STANDARD
TZOFFSETFROM:+0200
TZOFFSETTO:+0100
TZNAME:CET
DTSTART:20251026T010000
END:STANDARD
BEGIN:DAYLIGHT
TZOFFSETFROM:+0100
TZOFFSETTO:+0200
TZNAME:CEST
DTSTART:20260329T010000
END:DAYLIGHT
BEGIN:STANDARD
TZOFFSETFROM:+0200
TZOFFSETTO:+0100
TZNAME:CET
DTSTART:20261025T010000
END:STANDARD
BEGIN:DAYLIGHT
TZOFFSETFROM:+0100
TZOFFSETTO:+0200
TZNAME:CEST
DTSTART:20270328T010000
END:DAYLIGHT
BEGIN:STANDARD
TZOFFSETFROM:+0200
TZOFFSETTO:+0100
TZNAME:CET
DTSTART:20271031T010000
END:STANDARD
END:VTIMEZONE
BEGIN:VEVENT
DTSTART;TZID=Europe/Berlin:20260510T130000
DTEND;TZID=Europe/Berlin:20260510T180000
DTSTAMP:20260419T201840
CREATED:20251118T185310Z
LAST-MODIFIED:20260303T114247Z
UID:10000432-1778418000-1778436000@juz-zweiteheimat.de
SUMMARY:Kreisfamilienfest – Wäller Spiele(n) am 10. Mai 2026
DESCRIPTION:Aufruf zur Mitwirkung beim 10. Kreisfamilienfest in Höhr-Grenzhausen\nIn den vergangenen zehn Jahren war das Kreisfamilienfest in verschiedenen Städten und Verbandsgemeinden des Westerwaldes zu Gast. 2026 kommt dieses besondere Veranstaltungsformat nun nach Höhr-Grenzhausen – ein starkes Zeichen und eine besondere Auszeichnung für die Stadt. Am 10. Mai 2026 verwandelt das 10. Kreisfamilienfest die Innenstadt von Höhr-Grenzhausen in einen großen Erlebnisraum für Kinder\, Jugendliche und Familien. Neben den vielfältigen Angeboten aller Jugendzentren aus dem Westerwald soll das Fest auch durch das Engagement örtlicher Vereine\, Initiativen\, Gruppen\, Einrichtungen und gastronomischer Betriebe bereichert werden. Veranstalter des Kreisfamilienfestes sind das Jugend-\, Kultur- und Bürgerzentrum „Zweite Heimat“\, die Stadt Höhr-Grenzhausen sowie die Kreisjugendpflege Westerwald. Alle Gruppierungen sind herzlich eingeladen\, sich mit eigenen Aktionen\, Mitmachangeboten oder kreativen Beiträgen am Fest zu beteiligen. Ob Spielstationen\, Bastelangebote\, sportliche Aktivitäten\, Präsentationen oder Informationsstände – willkommen ist alles\, was Familien begeistert und das Gemeinschaftsleben der Stadt widerspiegelt. \nAuch der Verkauf von Speisen und Getränken ist möglich. Zudem wird es einen großen Kinderflohmarkt geben\, der das Fest zusätzlich bereichert. Die Teilnahme ist kostenfrei – es wird keine Standgebühr erhoben. \nZiel ist es\, gemeinsam ein buntes\, vielfältiges und lebendiges Familienfest zu gestalten\, das zeigt\, wie engagiert und kreativ Höhr-Grenzhausen ist. Interessierte Gruppen können ihre Ideen unkompliziert über das Formular auf www.juz-zweiteheimat.de einreichen. Für Fragen stehen die Veranstalter gerne zur Verfügung. Gemeinsam machen wir das 10. Kreisfamilienfest zu einem besonderen Erlebnis für alle Generationen! \nIhre Anmeldung zum Kreisfamilienfest 2026Bitte aktiviere JavaScript in deinem Browser\, um dieses Formular fertigzustellen.Ansprechpartner *VornameNachnameVereins-\, Gruppen oder FirmennameTelefonnummer *		\n			Email Telefonnummer Fragen?!\n			\n		\n		Email *Was bieten Sie an?InfostandMitmachaktionVerpflegung EssenVerpflegung GetränkeSonstigesKurze Beschreibung Ihres AngebotsUngefährer Platzbedarf in Länge x Breite x HöheBeispiel: 3m breit\, 2m tief\, 2m hochStrom- und WasserbedarfStromanschluss 220 VoltStromanschluss 16 A (320 Volt)FrischwasseranschlussWeitere Informationen oder Fragen?! Hier ist Platz dafür!Datenschutz *Mit dem Absenden Ihrer Anfrage erklären Sie sich mit der Verarbeitung Ihrer angegebenen Daten zum Zweck der Bearbeitung Ihrer Anfrage einverstanden.https://www.juz-zweiteheimat.de/datenschutzerklaerungSenden  \n\nGeballter Familienspaß beim 10. Kreisfamilienfest \nIn diesem Jahr in der Innenstadt von Höhr-Grenzhausen – rund um das Jugend-\, Kultur- und Bürgerzentrum “Zweite Heimat” \nRiesen-Hüpfburgen\, Bullriding\, Kreativ- und Digitalangebote sowie jede Menge Spaß und Abenteuer für jedes Alter\, das garantiert auch wieder das 10. Kreisfamilienfest in Höhr-Grenzhausen\, rund um das Jugend-\, Kultur- und Bürgerzentrum “Zweite Heimat”. Nachdem das beliebte Familienfest im vergangenen Jahr im Stöffelpark in Enspel wieder hunderte Kinder und deren Familien lockte\, findet die Ausgabe 2026 des stetig wachsenden Festes in Höhr-Grenzhausen statt. Bei der 10. Ausgabe dürfen sich in diesem Jahr alle Westerwälder Kinder\, Jugendlichen und deren Familien auf eine weitere Auflage dieser Veranstaltung freuen. Die Innenstadt von Höhr-Grenzhausen wird am 10. Mai 2026 zum Mega-Spielplatz und die Jugendzentren aus dem Westerwald zeigen\, was sie alles so „im Peto“ haben. Die Kreisjugendpflege der Kreisverwaltung Westerwald unterstützt dabei die Jugendhäuser aus Bad Marienberg\, Wallmerod\, Wirges\, Höhr-Grenzhausen\, Ransbach-Baumbach\, Selters\, Westerburg\, Montabaur\, Rennerod und Hachenburg. Highlight sind neben den Riesen-Hüpfburgen sicherlich das Bullriding\, die Kreativ- und Bastelangebote sowie die Green-Lounge\, das Zirkuszelt mit Jonglagematerialien\, das Zockerzelt uvm. Zahlreiche weitere Spielangebote für jedes Alter warten von 13 bis 18 Uhr auf begeisterte Besucher.\nAuch für das leibliche Wohl ist selbstverständlich Bestens gesorgt und der Eintritt zu allen Angeboten und zu der Veranstaltung selbst ist frei!
URL:https://juz-zweiteheimat.de/event/kreisfamilienfest-waeller-spielen-am-10-mai-2026/
LOCATION:Höhr-Grenzhausen\, Höhr-Grenzhausen\, 56203\, Deutschland
CATEGORIES:Freier Eintritt,Für Familien,Für Kinder,Open Air
ATTACH;FMTTYPE=image/jpeg:https://juz-zweiteheimat.de/wp-content/uploads/2025/11/Plakat-Kreisfamilienfest-2026-Aufruf-web.jpg
ORGANIZER;CN="Jugend-%2C Kultur- und B%C3%BCrgerzentrum 'Zweite Heimat'":MAILTO:info@juz-zweiteheimat.de
END:VEVENT
BEGIN:VEVENT
DTSTART;TZID=Europe/Berlin:20260510T130000
DTEND;TZID=Europe/Berlin:20260510T180000
DTSTAMP:20260419T201840
CREATED:20260223T154007Z
LAST-MODIFIED:20260303T114255Z
UID:10000528-1778418000-1778436000@juz-zweiteheimat.de
SUMMARY:Kinderflohmarkt zum 10. Kreisfamilienfest am 10. Mai 2026
DESCRIPTION:Kinderflohmarkt beim Kreisfamilienfest – Mitmachen kostenlos möglich \nIm Rahmen des Kreisfamilienfestes am Sonntag\, 10. Mai 2026\, von 13 bis 18 Uhr in Höhr-Grenzhausen findet auch ein großer Kinderflohmarkt statt. Kinder und Jugendliche haben hier die Gelegenheit\, ihre Spielsachen\, Bücher\, Kleidung oder kleine Schätze selbst zu verkaufen – ganz ohne Standgebühr. \nDer Flohmarkt richtet sich ausschließlich an private junge Verkäuferinnen und Verkäufer. Gewerbliche Anbieter sind nicht zugelassen. Der Aufbau erfolgt eigenständig; Tische oder Decken müssen bitte selbst mitgebracht werden. Die Platzvergabe erfolgt vor Ort nach Anmeldung. \nDa die Veranstaltung im Freien stattfindet\, wird empfohlen\, an Sonnenschutz (z. B. Pavillon\, Sonnenschirm\, Hut) sowie ausreichend Getränke zu denken. Auch eine frühzeitige Anreise zum entspannten Aufbau ist sinnvoll. Hinweise zur Anfahrt und zu ausgewiesenen Parkmöglichkeiten werden rechtzeitig bekannt gegeben. \nDie Teilnahme ist kostenlos\, eine vorherige Anmeldung ist jedoch unbedingt erforderlich. \nVeranstaltet wird der Kinderflohmarkt im Rahmen des Kreisfamilienfestes von den Jugendzentren im Westerwald\, federführend durch die Kreisjugendpflege in Kooperation mit dem Jugend-\, Kultur- und Bürgerzentrum “Zweite Heimat”. \n\nDeine Anmeldung zum Kinderflohmarkt 2026Bitte aktiviere JavaScript in deinem Browser\, um dieses Formular fertigzustellen.Dein Vorname (Kind) *Der Name deiner Mama oder deines Papas *VornameNachnameTelefonnummer deiner Eltern *		\n			Länge dafür! Informationen\n			\n		\n		Email deiner Eltern *Ungefährer Platzbedarf für deinen Stand in Länge x Breite x Höhe *Beispiel: 3m breit\, 2m tief\, 2m hochWeitere Informationen oder Fragen?! Hier ist Platz dafür!Datenschutz *Mit dem Absenden Ihrer Anfrage erklären Sie sich mit der Verarbeitung Ihrer angegebenen Daten zum Zweck der Bearbeitung Ihrer Anfrage einverstanden.https://www.juz-zweiteheimat.de/datenschutzerklaerungSenden
URL:https://juz-zweiteheimat.de/event/kinderflohmarkt-zum-10-kreisfamilienfest-am-10-mai-2026/
LOCATION:Jugend-\, Kultur- und Bürgerzentrum “Zweite Heimat”\, Mittelstraße 7\, Höhr-Grenzhausen\, Rheinland-Pfalz\, 56203\, Germany
CATEGORIES:Für Kinder
ATTACH;FMTTYPE=image/jpeg:https://juz-zweiteheimat.de/wp-content/uploads/2026/02/Kinderflohmarkt-Kreisfamilienfest.jpg
ORGANIZER;CN="Jugend-%2C Kultur- und B%C3%BCrgerzentrum 'Zweite Heimat'":MAILTO:info@juz-zweiteheimat.de
END:VEVENT
END:VCALENDAR