BEGIN:VCALENDAR
VERSION:2.0
PRODID:-//Jugend-, Kultur- und Bürgerzentrum &quot;Zweite Heimat&quot; - ECPv6.15.20//NONSGML v1.0//EN
CALSCALE:GREGORIAN
METHOD:PUBLISH
X-WR-CALNAME:Jugend-, Kultur- und Bürgerzentrum &quot;Zweite Heimat&quot;
X-ORIGINAL-URL:https://juz-zweiteheimat.de
X-WR-CALDESC:Veranstaltungen für Jugend-, Kultur- und Bürgerzentrum &quot;Zweite Heimat&quot;
REFRESH-INTERVAL;VALUE=DURATION:PT1H
X-Robots-Tag:noindex
X-PUBLISHED-TTL:PT1H
BEGIN:VTIMEZONE
TZID:Europe/Berlin
BEGIN:DAYLIGHT
TZOFFSETFROM:+0100
TZOFFSETTO:+0200
TZNAME:CEST
DTSTART:20250330T010000
END:DAYLIGHT
BEGIN:STANDARD
TZOFFSETFROM:+0200
TZOFFSETTO:+0100
TZNAME:CET
DTSTART:20251026T010000
END:STANDARD
BEGIN:DAYLIGHT
TZOFFSETFROM:+0100
TZOFFSETTO:+0200
TZNAME:CEST
DTSTART:20260329T010000
END:DAYLIGHT
BEGIN:STANDARD
TZOFFSETFROM:+0200
TZOFFSETTO:+0100
TZNAME:CET
DTSTART:20261025T010000
END:STANDARD
BEGIN:DAYLIGHT
TZOFFSETFROM:+0100
TZOFFSETTO:+0200
TZNAME:CEST
DTSTART:20270328T010000
END:DAYLIGHT
BEGIN:STANDARD
TZOFFSETFROM:+0200
TZOFFSETTO:+0100
TZNAME:CET
DTSTART:20271031T010000
END:STANDARD
END:VTIMEZONE
BEGIN:VEVENT
DTSTART;TZID=Europe/Berlin:20260527T193000
DTEND;TZID=Europe/Berlin:20260527T213000
DTSTAMP:20260419T201821
CREATED:20251125T104009Z
LAST-MODIFIED:20260126T125113Z
UID:10000437-1779910200-1779917400@juz-zweiteheimat.de
SUMMARY:"Treffpunkt Kannofen" mit dem Duo MO am 27. Mai 2026
DESCRIPTION:Die beliebte Konzertreihe „Treffpunkt Kannofen“ findet auch im Sommer 2026 am neuen Jugend-\, Kultur- und Bürgerzentrum “Zweite Heimat” mitten in der Innenstadt von Höhr-Grenzhausen statt. Mit einer einzigartigen Mischung aus regionalen Bands\, guter Musik und geselligem Beisammensein – bei kostenfreiem Eintritt und inmitten einer besonderen Atmosphäre im großen Amphitheater – dürfen sich alle Besucher auf einen musikalischen Sommer 2026 freuen. \nDie Konzerte werden natürlich weiter Open Air\, im wunderschönen Amphitheater (wir haben Sitzkissen) unter freiem Himmel\, ausgetragen. Bei schlechtem Wetter finden die Konzerte auch statt\, dann an gleicher Adresse indoor im Saal. Beides sind die perfekten Orte für die beliebte Veranstaltungsreihe. Das Musikprogramm bleibt abwechslungsreich und vielfältig: Von Pop über Rock bis hin zu Jazz ist für jeden Musikgeschmack etwas dabei. Die Konzerte finden an ausgewählten Terminen statt\, der Beginn ist immer um 19.30 Uhr. \nNeben der Musik steht beim „Treffpunkt Kannofen” auch die Geselligkeit im Vordergrund. Hier treffen sich Freunde\, Nachbarn und Besucher aus der Region\, um gemeinsam einen wunderbaren Sommerabend zu genießen. Bei kühlen Getränken und einer leckeren Bratwurst vom Restaurant „Till Eulenspiegel“ lässt es sich wunderbar verweilen und der musikalischen Unterhaltung lauschen. \nDie neue „Zweite Heimat“ bietet dabei die perfekte Kulisse für einen stimmungsvollen Abend und freut sich darauf\, Gäste aus der Region und darüber hinaus willkommen zu heißen. Der „Treffpunkt Kannofen“ ist ein Event\, das man sich nicht entgehen lassen sollte. \nAdresse: „Zweite Heimat“\, Mittelstraße 7\, 56203 Höhr-Grenzhausen. Der Eintritt ist frei. Für das leibliche Wohl sorgt das Team vom Restaurant „Till Eulenspiegel“. Bei schlechtem Wetter findet die Veranstaltung an der gleichen Adresse im Saal statt. \n\n“Duo MO” Soul\, Rhythm ‘n’ Blues\, Jazz und Worldmusik\nDie deutsch-amerikanische Sängerin und Songwriterin MO hat alles drauf. Die eindrucksvolle Frontfrau der Smooth Operatorz zelebriert große Hits und eigenes Material durch viele Genres. Zusammen mit Baggy Schmitt\, ihrem persönlichen Orchester und einer der bekanntesten Musiker der Koblenzer Szene\, geht es auf eine rasante musikalische Reise\, bei der die gefühlvollen Momente nicht fehlen werden. Zur Zeit präsentiert MO exklusiv ihr Debutalbum „Journey”. \nAm Mittwoch\, 27. Mai 2026 um 19.30 Uhr – Eintritt frei!
URL:https://juz-zweiteheimat.de/event/treffpunkt-kannofen-mit-dem-duo-mo-am-27-mai-2026-2/
LOCATION:Jugend-\, Kultur- und Bürgerzentrum “Zweite Heimat”\, Mittelstraße 7\, Höhr-Grenzhausen\, Rheinland-Pfalz\, 56203\, Germany
CATEGORIES:Freier Eintritt,Konzert,Open Air
ATTACH;FMTTYPE=image/jpeg:https://juz-zweiteheimat.de/wp-content/uploads/2022/05/Foto-MO-web.jpg
ORGANIZER;CN="Jugend-%2C Kultur- und B%C3%BCrgerzentrum 'Zweite Heimat'":MAILTO:info@juz-zweiteheimat.de
END:VEVENT
END:VCALENDAR