BEGIN:VCALENDAR
VERSION:2.0
PRODID:-//Jugend-, Kultur- und Bürgerzentrum &quot;Zweite Heimat&quot; - ECPv6.15.20//NONSGML v1.0//EN
CALSCALE:GREGORIAN
METHOD:PUBLISH
X-WR-CALNAME:Jugend-, Kultur- und Bürgerzentrum &quot;Zweite Heimat&quot;
X-ORIGINAL-URL:https://juz-zweiteheimat.de
X-WR-CALDESC:Veranstaltungen für Jugend-, Kultur- und Bürgerzentrum &quot;Zweite Heimat&quot;
REFRESH-INTERVAL;VALUE=DURATION:PT1H
X-Robots-Tag:noindex
X-PUBLISHED-TTL:PT1H
BEGIN:VTIMEZONE
TZID:Europe/Berlin
BEGIN:DAYLIGHT
TZOFFSETFROM:+0100
TZOFFSETTO:+0200
TZNAME:CEST
DTSTART:20250330T010000
END:DAYLIGHT
BEGIN:STANDARD
TZOFFSETFROM:+0200
TZOFFSETTO:+0100
TZNAME:CET
DTSTART:20251026T010000
END:STANDARD
BEGIN:DAYLIGHT
TZOFFSETFROM:+0100
TZOFFSETTO:+0200
TZNAME:CEST
DTSTART:20260329T010000
END:DAYLIGHT
BEGIN:STANDARD
TZOFFSETFROM:+0200
TZOFFSETTO:+0100
TZNAME:CET
DTSTART:20261025T010000
END:STANDARD
BEGIN:DAYLIGHT
TZOFFSETFROM:+0100
TZOFFSETTO:+0200
TZNAME:CEST
DTSTART:20270328T010000
END:DAYLIGHT
BEGIN:STANDARD
TZOFFSETFROM:+0200
TZOFFSETTO:+0100
TZNAME:CET
DTSTART:20271031T010000
END:STANDARD
END:VTIMEZONE
BEGIN:VEVENT
DTSTART;TZID=Europe/Berlin:20260528T153000
DTEND;TZID=Europe/Berlin:20260528T173000
DTSTAMP:20260420T043753
CREATED:20260310T144645Z
LAST-MODIFIED:20260311T141248Z
UID:10000536-1779982200-1779989400@juz-zweiteheimat.de
SUMMARY:Spielenachmittag für Familien in der „Zweiten Heimat“
DESCRIPTION:Ludothek live – Ausprobieren\, Lachen\, Spaß haben und spielend Neues entdecken! \nSpielenachmittag in der „Zweiten Heimat“ lädt ein zum Spielspaß für die ganze Familie \nAm Donnerstag\, den 28. Mai 2026\, öffnet das Jugend-\, Kultur- und Bürgerzentrum „Zweite Heimat“ die Türen für alle Familien zu einem spannenden Spielenachmittag. Von 15:30 bis 17:30 Uhr verwandelt sich das Foyer in eine bunte Spielewelt\, in der der Spaß im Vordergrund steht! \nOb Klassiker oder brandneue Spiele – die Ludothek der „Zweiten Heimat“ hält eine große Auswahl für alle Altersklassen und Interessen bereit. Familien mit Kindern ab 3 Jahren können gemeinsam spielen\, neue Spiele ausprobieren und sich die Regeln direkt erklären lassen. So wird garantiert niemand allein gelassen – und alle können sofort loslegen! \nDer Eintritt ist frei. Also einfach vorbeikommen im Jugend-\, Kultur- und Bürgerzentrums „Zweite Heimat“\, Mittelstraße 7 in Höhr-Grenzhausen – mitspielen und einen entspannten Nachmittag genießen.\nInfos unter info@juz-zweiteheimat.de oder telefonisch unter 02624/7257. \nGemeinsam spielen\, lachen und entdecken – wir freuen uns auf euch!
URL:https://juz-zweiteheimat.de/event/spielenachmittag-fuer-familien-in-der-zweiten-heimat/
LOCATION:Jugend-\, Kultur- und Bürgerzentrum “Zweite Heimat”\, Mittelstraße 7\, Höhr-Grenzhausen\, Rheinland-Pfalz\, 56203\, Germany
CATEGORIES:Für Familien
ATTACH;FMTTYPE=image/png:https://juz-zweiteheimat.de/wp-content/uploads/2026/03/2026-05-Familien-Spielenachmittag.png
ORGANIZER;CN="Jugend-%2C Kultur- und B%C3%BCrgerzentrum 'Zweite Heimat'":MAILTO:info@juz-zweiteheimat.de
END:VEVENT
END:VCALENDAR