BEGIN:VCALENDAR
VERSION:2.0
PRODID:-//Jugend-, Kultur- und Bürgerzentrum &quot;Zweite Heimat&quot; - ECPv6.15.20//NONSGML v1.0//EN
CALSCALE:GREGORIAN
METHOD:PUBLISH
X-WR-CALNAME:Jugend-, Kultur- und Bürgerzentrum &quot;Zweite Heimat&quot;
X-ORIGINAL-URL:https://juz-zweiteheimat.de
X-WR-CALDESC:Veranstaltungen für Jugend-, Kultur- und Bürgerzentrum &quot;Zweite Heimat&quot;
REFRESH-INTERVAL;VALUE=DURATION:PT1H
X-Robots-Tag:noindex
X-PUBLISHED-TTL:PT1H
BEGIN:VTIMEZONE
TZID:Europe/Berlin
BEGIN:DAYLIGHT
TZOFFSETFROM:+0100
TZOFFSETTO:+0200
TZNAME:CEST
DTSTART:20250330T010000
END:DAYLIGHT
BEGIN:STANDARD
TZOFFSETFROM:+0200
TZOFFSETTO:+0100
TZNAME:CET
DTSTART:20251026T010000
END:STANDARD
BEGIN:DAYLIGHT
TZOFFSETFROM:+0100
TZOFFSETTO:+0200
TZNAME:CEST
DTSTART:20260329T010000
END:DAYLIGHT
BEGIN:STANDARD
TZOFFSETFROM:+0200
TZOFFSETTO:+0100
TZNAME:CET
DTSTART:20261025T010000
END:STANDARD
BEGIN:DAYLIGHT
TZOFFSETFROM:+0100
TZOFFSETTO:+0200
TZNAME:CEST
DTSTART:20270328T010000
END:DAYLIGHT
BEGIN:STANDARD
TZOFFSETFROM:+0200
TZOFFSETTO:+0100
TZNAME:CET
DTSTART:20271031T010000
END:STANDARD
END:VTIMEZONE
BEGIN:VEVENT
DTSTART;TZID=Europe/Berlin:20260812T193000
DTEND;TZID=Europe/Berlin:20260812T213000
DTSTAMP:20260420T043918
CREATED:20251125T122001Z
LAST-MODIFIED:20260206T112107Z
UID:10000441-1786563000-1786570200@juz-zweiteheimat.de
SUMMARY:"Treffpunkt Kannofen" mit Laura Dee am 12. August 2026
DESCRIPTION:Die beliebte Konzertreihe „Treffpunkt Kannofen“ findet auch im Sommer 2026 am neuen Jugend-\, Kultur- und Bürgerzentrum “Zweite Heimat” mitten in der Innenstadt von Höhr-Grenzhausen statt. Mit einer einzigartigen Mischung aus regionalen Bands\, guter Musik und geselligem Beisammensein – bei kostenfreiem Eintritt und inmitten einer besonderen Atmosphäre im großen Amphitheater – dürfen sich alle Besucher auf einen musikalischen Sommer 2026 freuen. \nDie Konzerte werden natürlich weiter Open Air\, im wunderschönen Amphitheater (wir haben Sitzkissen) unter freiem Himmel\, ausgetragen. Bei schlechtem Wetter finden die Konzerte auch statt\, dann an gleicher Adresse indoor im Saal. Beides sind die perfekten Orte für die beliebte Veranstaltungsreihe. Das Musikprogramm bleibt abwechslungsreich und vielfältig: Von Pop über Rock bis hin zu Jazz ist für jeden Musikgeschmack etwas dabei. Die Konzerte finden an ausgewählten Terminen statt\, der Beginn ist immer um 19.30 Uhr. \nNeben der Musik steht beim „Treffpunkt Kannofen” auch die Geselligkeit im Vordergrund. Hier treffen sich Freunde\, Nachbarn und Besucher aus der Region\, um gemeinsam einen wunderbaren Sommerabend zu genießen. Bei kühlen Getränken und einer leckeren Bratwurst vom Restaurant „Till Eulenspiegel“ lässt es sich wunderbar verweilen und der musikalischen Unterhaltung lauschen. \nDie neue „Zweite Heimat“ bietet dabei die perfekte Kulisse für einen stimmungsvollen Abend und freut sich darauf\, Gäste aus der Region und darüber hinaus willkommen zu heißen. Der „Treffpunkt Kannofen“ ist ein Event\, das man sich nicht entgehen lassen sollte. \nAdresse: „Zweite Heimat“\, Mittelstraße 7\, 56203 Höhr-Grenzhausen. Der Eintritt ist frei. Für das leibliche Wohl sorgt das Team vom Restaurant „Till Eulenspiegel“. Bei schlechtem Wetter findet die Veranstaltung an der gleichen Adresse im Saal statt. \n\n“Laura Dee” Courageuses-Tour \nMit Courageuses veröffentlicht Laura Dee am 17. Oktober 2025 ein poetisches und intimes Album\, das ganz den mutigen Frauen gewidmet ist. Der Titel – „Mutige (Frauen)“ – verweist auf die feministische Grundhaltung des Werks\, das kraftvolle Geschichten\, persönliche Reflexionen und feinfühlige Chansons vereint. \nDie Songs Émotionnellement indisponible\, Je vais gagner\, Un café crème\, Stalker\, Toxique\, Gisèle und weitere Eigenkompositionen zeichnen ein vielschichtiges Bild weiblicher Stärke\, Verletzlichkeit und Selbstbestimmung.Courageuses ist ein tief emotionales Statement – und eine Hommage an all jene Frauen\, die ihren Weg unbeirrt gehen. \nAm Mittwoch\, 12. August 2026 um 19.30 Uhr – Eintritt frei!
URL:https://juz-zweiteheimat.de/event/treffpunkt-kannofen-mit-laura-dee-am-12-august-2026/
LOCATION:Jugend-\, Kultur- und Bürgerzentrum “Zweite Heimat”\, Mittelstraße 7\, Höhr-Grenzhausen\, Rheinland-Pfalz\, 56203\, Germany
CATEGORIES:Freier Eintritt,Konzert,Open Air
ATTACH;FMTTYPE=image/jpeg:https://juz-zweiteheimat.de/wp-content/uploads/2025/11/Laura-Dee-gestreift-fleckenlos-2000x1200-1.jpg
ORGANIZER;CN="Jugend-%2C Kultur- und B%C3%BCrgerzentrum 'Zweite Heimat'":MAILTO:info@juz-zweiteheimat.de
END:VEVENT
END:VCALENDAR