BEGIN:VCALENDAR
VERSION:2.0
PRODID:-//Jugend-, Kultur- und Bürgerzentrum &quot;Zweite Heimat&quot; - ECPv6.15.20//NONSGML v1.0//EN
CALSCALE:GREGORIAN
METHOD:PUBLISH
X-WR-CALNAME:Jugend-, Kultur- und Bürgerzentrum &quot;Zweite Heimat&quot;
X-ORIGINAL-URL:https://juz-zweiteheimat.de
X-WR-CALDESC:Veranstaltungen für Jugend-, Kultur- und Bürgerzentrum &quot;Zweite Heimat&quot;
REFRESH-INTERVAL;VALUE=DURATION:PT1H
X-Robots-Tag:noindex
X-PUBLISHED-TTL:PT1H
BEGIN:VTIMEZONE
TZID:Europe/Berlin
BEGIN:DAYLIGHT
TZOFFSETFROM:+0100
TZOFFSETTO:+0200
TZNAME:CEST
DTSTART:20250330T010000
END:DAYLIGHT
BEGIN:STANDARD
TZOFFSETFROM:+0200
TZOFFSETTO:+0100
TZNAME:CET
DTSTART:20251026T010000
END:STANDARD
BEGIN:DAYLIGHT
TZOFFSETFROM:+0100
TZOFFSETTO:+0200
TZNAME:CEST
DTSTART:20260329T010000
END:DAYLIGHT
BEGIN:STANDARD
TZOFFSETFROM:+0200
TZOFFSETTO:+0100
TZNAME:CET
DTSTART:20261025T010000
END:STANDARD
BEGIN:DAYLIGHT
TZOFFSETFROM:+0100
TZOFFSETTO:+0200
TZNAME:CEST
DTSTART:20270328T010000
END:DAYLIGHT
BEGIN:STANDARD
TZOFFSETFROM:+0200
TZOFFSETTO:+0100
TZNAME:CET
DTSTART:20271031T010000
END:STANDARD
END:VTIMEZONE
BEGIN:VEVENT
DTSTART;TZID=Europe/Berlin:20261002T190000
DTEND;TZID=Europe/Berlin:20261002T190000
DTSTAMP:20260420T165303
CREATED:20260225T120617Z
LAST-MODIFIED:20260225T120653Z
UID:10000529-1790967600-1790967600@juz-zweiteheimat.de
SUMMARY:Lesung mit Andreas Schwab: Freiheit\, Rausch und Schwarze Katzen am 02. Oktober 2026
DESCRIPTION:Andreas Schwab: Freiheit\, Rausch und Schwarze Katzen\nModeration: Martin W. Ramb und Prof. Dr. Dr. Holger Zaborowski) \nElse Lasker-Schüler\, Richard Dehmel\, Edvard Munch\, Oda Krogh\, Henri Murger\, Franziska zu Reventlow\, August Strindberg\, Frank Wedekind – sie alle gehörten der Boheme an\, jener künstlerischen Subkultur\, die sich im letzten Drittel des 19. Jahrhunderts in Paris und Wien\, München und Berlin entwickelte und durch ihren freizügigen Lebensstil\, ihren rebellischen Geist und nicht zuletzt ihre prekären finanziellen Verhältnisse in Opposition zur gutbürgerlichen Gesellschaft geriet. Die Boheme revolutionierte die Ansichten darüber\, was ein gutes Leben ausmacht. Und dies weniger in Texten und Manifesten als vielmehr im tätigen Leben mit all seinen Ambivalenzen. Andreas Schwab porträtiert nicht nur die Männer und Frauen der Boheme\, von denen diese Lebensstilrevolution ausging\, er vergegenwärtigt auch die Orte\, an denen sie sich trafen\, die Kneipe „Das schwarze Ferkel“ in Berlin\, das „Chat Noir“ im Pariser Montmartre\, das „Café Stefanie“ oder das Kabarett „Die Elf Scharfrichter“ in München. Schwab gelingt eine atmosphärisch dichte Beschreibung des Lebens der Boheme\, die die von ihr ausgehende\, bis in unsere Gegenwart reichende Faszination spürbar werden lässt. \nAndreas Schwab ist Autor\, Ausstellungsmacher und Gemeindepräsident von Bremgarten bei Bern. Er hat Bücher über den Monte Verità und die Landkooperative Longo maï veröffentlicht. \nDer Veranstaltungsort ist barrierefrei. \nVVK 15 €\, ABK 18 € www.ticket-regional.de\, buchladen Wissen (buchladenwissen@web.de\, 027421874) \nDie Veranstaltung ist eine Zusammenarbeit der Westerwälder Literaturtage und DENKBARES. \nMit freundlicher Unterstützung:\n– Kultursommer Rheinland-Pfalz\n– Jugend- und Kultur- und Bürgerzentrum „Zweite Heimat“\n– Verbandsgemeinde Höhr-Grenzhausen\n– Naspa\n– Stiftung DEY\n– Katholische Erwachsenenbildung Westerwald – Rhein-Lahn \nwww.denkbares.org
URL:https://juz-zweiteheimat.de/event/lesung-mit-andreas-schwab-freiheit-rausch-und-schwarze-katzen-am-02-oktober-2026/
LOCATION:Jugend-\, Kultur- und Bürgerzentrum “Zweite Heimat”\, Mittelstraße 7\, Höhr-Grenzhausen\, Rheinland-Pfalz\, 56203\, Germany
CATEGORIES:Lesung
ATTACH;FMTTYPE=image/jpeg:https://juz-zweiteheimat.de/wp-content/uploads/2026/02/Andreas-Schwab.jpg
ORGANIZER;CN="denkbares":MAILTO:denkbares@online.de
END:VEVENT
END:VCALENDAR