BEGIN:VCALENDAR
VERSION:2.0
PRODID:-//Jugend-, Kultur- und Bürgerzentrum &quot;Zweite Heimat&quot; - ECPv6.15.20//NONSGML v1.0//EN
CALSCALE:GREGORIAN
METHOD:PUBLISH
X-ORIGINAL-URL:https://juz-zweiteheimat.de
X-WR-CALDESC:Veranstaltungen für Jugend-, Kultur- und Bürgerzentrum &quot;Zweite Heimat&quot;
REFRESH-INTERVAL;VALUE=DURATION:PT1H
X-Robots-Tag:noindex
X-PUBLISHED-TTL:PT1H
BEGIN:VTIMEZONE
TZID:Europe/Berlin
BEGIN:DAYLIGHT
TZOFFSETFROM:+0100
TZOFFSETTO:+0200
TZNAME:CEST
DTSTART:20250330T010000
END:DAYLIGHT
BEGIN:STANDARD
TZOFFSETFROM:+0200
TZOFFSETTO:+0100
TZNAME:CET
DTSTART:20251026T010000
END:STANDARD
BEGIN:DAYLIGHT
TZOFFSETFROM:+0100
TZOFFSETTO:+0200
TZNAME:CEST
DTSTART:20260329T010000
END:DAYLIGHT
BEGIN:STANDARD
TZOFFSETFROM:+0200
TZOFFSETTO:+0100
TZNAME:CET
DTSTART:20261025T010000
END:STANDARD
BEGIN:DAYLIGHT
TZOFFSETFROM:+0100
TZOFFSETTO:+0200
TZNAME:CEST
DTSTART:20270328T010000
END:DAYLIGHT
BEGIN:STANDARD
TZOFFSETFROM:+0200
TZOFFSETTO:+0100
TZNAME:CET
DTSTART:20271031T010000
END:STANDARD
END:VTIMEZONE
BEGIN:VEVENT
DTSTART;TZID=Europe/Berlin:20261030T200000
DTEND;TZID=Europe/Berlin:20261030T200000
DTSTAMP:20260420T234513
CREATED:20251126T113928Z
LAST-MODIFIED:20260126T125340Z
UID:10000443-1793390400-1793390400@juz-zweiteheimat.de
SUMMARY:Kristin Shey JAZZ QUARTETT live am 30. Oktober 2026
DESCRIPTION:Kristin Shey ist eine Sängerin\, die viele Wege beschreitet. Ständig auf der Suche nach neuen Inspirationen hat sich die Sängerin in dieser Besetzung den Wurzeln des Jazz verschrieben. Aus Liebe zu besonderen Melodien und hat sie die schönsten Swingklassiker von Größen wie Ella Fitzgerald\, Sarah Vaughan oder Chet Baker ausgewählt\, um diese mit ihrem KRISTIN SHEY JAZZ QUARTETT charmant und mit einer gehörigen Portion Spielfreude zu interpretieren. Mit Matthias Klause (p)\, Daniel Le Van Vo (b)\, Barny Bürger (dr) und ihrer warmen\, facettenreichen Stimme werden Klassiker ein Genuss. \n \nDas Kristin Shey Jazz Quartett verbindet die charaktervolle Stimme von Kristin Shey mit virtuosem Modern Jazz und Elementen aus Blues und Soul. Mit offener Bühnenpräsenz\, eigenen Arrangements und Improvisationen schafft die Band einen intimen\, zugleich energetischen Klangraum\, der das Publikum berührt und mitnimmt. Das Quartett interpretiert ausgewählte Jazz-Standards mit einem Augenzwinkern und einer frischen\, persönlichen Note\, in der Raum für Spontanität und tiefes musikalisches Zusammenspiel bleibt. Groove\, Emotion und improvisatorische Leichtigkeit finden hier zusammen und lassen Jazz lebendig und nahbar werden. \n \nMatthias Klause – Piano\nDaniel Le Van Vo – Kontrabass\nBarny Bürger – Schlagzeug\nKristin Shey – Gesang \nAm Freitag\, 30. Oktober 2026 um 20 Uhr im Jugend-\, Kultur- und Bürgerzentrum “Zweite Heimat”\, Mittelstr. 7 in Höhr-Grenzhausen. Eine Ticketreservierung ist nur online möglich. Die Tickets kosten im VVK: 25\,- Euro\, an der AK: 28\,- Euro. \nNach der Reservierung vermerken wir Ihren Namen auf unserer Vorverkaufsliste. Sie zahlen den Eintritt an der Abendkasse vor Ort. Freie Platzwahl. Wir freuen uns auf Ihren Besuch! \nKartenreservierungBitte aktiviere JavaScript in deinem Browser\, um dieses Formular fertigzustellen.VeranstaltungstitelAnzahl der Karten *12345678910Name *Telefon *E-Mail *StraßePLZ/OrtVerbindliche Reservierung *Mit Absenden Ihrer Reservierung über unser Onlineformular erklären Sie sich mit der verbindlichen Buchung der ausgewählten Tickets einverstanden. Bitte beachten Sie\, dass Ihre Reservierung zahlungspflichtig ist und nach erfolgreicher Bestätigung nicht mehr kostenfrei storniert werden kann.NewsletterJa\, ich möchte den Newsletter mit regelmäßigen Informationen über Veranstaltungen des Jugend- und Kulturzentrum "Zweite Heimat" erhalten.Datenschutz *Mit dem Absenden Ihrer Anfrage erklären Sie sich mit der Verarbeitung Ihrer angegebenen Daten zum Zweck der Bearbeitung Ihrer Anfrage einverstanden.https://www.juz-zweiteheimat.de/datenschutzerklaerungJetzt reservieren
URL:https://juz-zweiteheimat.de/event/kristin-shey-jazz-quartett-live-am-30-oktober-2026/
LOCATION:Jugend-\, Kultur- und Bürgerzentrum “Zweite Heimat”\, Mittelstraße 7\, Höhr-Grenzhausen\, Rheinland-Pfalz\, 56203\, Germany
CATEGORIES:Konzert
ATTACH;FMTTYPE=image/jpeg:https://juz-zweiteheimat.de/wp-content/uploads/2025/11/Kristin-Shey-Jazz-Quartett.jpeg
ORGANIZER;CN="Jugend-%2C Kultur- und B%C3%BCrgerzentrum 'Zweite Heimat'":MAILTO:info@juz-zweiteheimat.de
END:VEVENT
END:VCALENDAR