BEGIN:VCALENDAR
VERSION:2.0
PRODID:-//Jugend-, Kultur- und Bürgerzentrum &quot;Zweite Heimat&quot; - ECPv6.15.20//NONSGML v1.0//EN
CALSCALE:GREGORIAN
METHOD:PUBLISH
X-WR-CALNAME:Jugend-, Kultur- und Bürgerzentrum &quot;Zweite Heimat&quot;
X-ORIGINAL-URL:https://juz-zweiteheimat.de
X-WR-CALDESC:Veranstaltungen für Jugend-, Kultur- und Bürgerzentrum &quot;Zweite Heimat&quot;
REFRESH-INTERVAL;VALUE=DURATION:PT1H
X-Robots-Tag:noindex
X-PUBLISHED-TTL:PT1H
BEGIN:VTIMEZONE
TZID:Europe/Berlin
BEGIN:DAYLIGHT
TZOFFSETFROM:+0100
TZOFFSETTO:+0200
TZNAME:CEST
DTSTART:20250330T010000
END:DAYLIGHT
BEGIN:STANDARD
TZOFFSETFROM:+0200
TZOFFSETTO:+0100
TZNAME:CET
DTSTART:20251026T010000
END:STANDARD
BEGIN:DAYLIGHT
TZOFFSETFROM:+0100
TZOFFSETTO:+0200
TZNAME:CEST
DTSTART:20260329T010000
END:DAYLIGHT
BEGIN:STANDARD
TZOFFSETFROM:+0200
TZOFFSETTO:+0100
TZNAME:CET
DTSTART:20261025T010000
END:STANDARD
BEGIN:DAYLIGHT
TZOFFSETFROM:+0100
TZOFFSETTO:+0200
TZNAME:CEST
DTSTART:20270328T010000
END:DAYLIGHT
BEGIN:STANDARD
TZOFFSETFROM:+0200
TZOFFSETTO:+0100
TZNAME:CET
DTSTART:20271031T010000
END:STANDARD
END:VTIMEZONE
BEGIN:VEVENT
DTSTART;TZID=Europe/Berlin:20261120T200000
DTEND;TZID=Europe/Berlin:20261120T200000
DTSTAMP:20260420T234957
CREATED:20250909T113203Z
LAST-MODIFIED:20260126T125419Z
UID:10000416-1795204800-1795204800@juz-zweiteheimat.de
SUMMARY:"Patagonien – Durch die Wildnis bis nach Feuerland" Live-Reportage von Tobias Schorcht am 20. November 2026
DESCRIPTION:Tobias Schorcht ist Lehrer im beschaulichen Thüringen. Sein Alltag verläuft in geregelten Bahnen. Er ist glücklich\, spürt aber auch eine tiefe Sehnsucht nach Freiheit und Wildnis. Im Jahr 2019 hält er es nicht länger aus\, kündigt den Job und fasst einen waghalsigen Entschluss. Ganz allein will er den Süden Südamerikas zu Fuß durchqueren. Um über die Gewässer zu kommen\, schleppt er ein aufblasbares Boot mit. Der Plan geht auf. Er paddelt über glasklare Seen\, meistert gefährliche Stromschnellen und wandert über Gletschereis. Einheimischen zeigen ihm\, wie man sich selbst versorgen kann. Spontan bleibt er bei Ihnen\, packt mit an und wird Teil einer Gemeinschaft. Dort\, wo alle Wege enden\, läuft Tobias weiter. Doch statt die Erleuchtung zu finden\, steckt er oftmals im Gestrüpp fest. Oder steht eines Morgens einem ausgewachsenen Puma gegenüber. Die Tour ist schrecklich anstrengend und wahnsinnig schön zugleich. In den Steppen grasen Lamas\, die schroffen Berge sind vergletschert und auf den türkisblauen Seen tanzen Eisberge. Nach acht Monaten Wildnis erreicht Tobias im Schneeregen die Magellanstraße. Kurz denkt er darüber nach\, in den Flieger zu steigen und wieder als Lehrer zu arbeiten. Aber bei dem Gedanken muss er lachen. Denn das Abenteuer hat gerade erst begonnen. \n \nLive\, am Freitag\, 20. November 2026 um 20.00 Uhr im Jugend-\, Kultur- und Bürgerzentrum „Zweite Heimat“\, Mittelstraße 7 in Höhr-Grenzhausen. Tickets sind erhältlich unter www.juz-zweiteheimat.de und kosten im VVK: 22\,- Euro\, an der AK: 25\,- Euro. \nNach der Reservierung vermerken wir Ihren Namen auf unserer Vorverkaufsliste. Sie zahlen den Eintritt an der Abendkasse vor Ort. Freie Platzwahl. Wir freuen uns auf Ihren Besuch! \nKartenreservierungBitte aktiviere JavaScript in deinem Browser\, um dieses Formular fertigzustellen.VeranstaltungstitelAnzahl der Karten *12345678910Name *Telefon *E-Mail *StraßePLZ/OrtVerbindliche Reservierung *Mit Absenden Ihrer Reservierung über unser Onlineformular erklären Sie sich mit der verbindlichen Buchung der ausgewählten Tickets einverstanden. Bitte beachten Sie\, dass Ihre Reservierung zahlungspflichtig ist und nach erfolgreicher Bestätigung nicht mehr kostenfrei storniert werden kann.NewsletterJa\, ich möchte den Newsletter mit regelmäßigen Informationen über Veranstaltungen des Jugend- und Kulturzentrum "Zweite Heimat" erhalten.Datenschutz *Mit dem Absenden Ihrer Anfrage erklären Sie sich mit der Verarbeitung Ihrer angegebenen Daten zum Zweck der Bearbeitung Ihrer Anfrage einverstanden.https://www.juz-zweiteheimat.de/datenschutzerklaerungJetzt reservieren
URL:https://juz-zweiteheimat.de/event/patagonien-durch-die-wildnis-bis-nach-feuerland-live-reportage-von-tobias-schorcht-am-20-november-2026/
LOCATION:Jugend-\, Kultur- und Bürgerzentrum “Zweite Heimat”\, Mittelstraße 7\, Höhr-Grenzhausen\, Rheinland-Pfalz\, 56203\, Germany
CATEGORIES:Reisevortrag
ATTACH;FMTTYPE=image/jpeg:https://juz-zweiteheimat.de/wp-content/uploads/2025/09/PATAGONIEN-UNI-scaled.jpg
ORGANIZER;CN="Jugend-%2C Kultur- und B%C3%BCrgerzentrum 'Zweite Heimat'":MAILTO:info@juz-zweiteheimat.de
END:VEVENT
END:VCALENDAR