BEGIN:VCALENDAR
VERSION:2.0
PRODID:-//Jugend-, Kultur- und Bürgerzentrum &quot;Zweite Heimat&quot; - ECPv6.15.20//NONSGML v1.0//EN
CALSCALE:GREGORIAN
METHOD:PUBLISH
X-WR-CALNAME:Jugend-, Kultur- und Bürgerzentrum &quot;Zweite Heimat&quot;
X-ORIGINAL-URL:https://juz-zweiteheimat.de
X-WR-CALDESC:Veranstaltungen für Jugend-, Kultur- und Bürgerzentrum &quot;Zweite Heimat&quot;
REFRESH-INTERVAL;VALUE=DURATION:PT1H
X-Robots-Tag:noindex
X-PUBLISHED-TTL:PT1H
BEGIN:VTIMEZONE
TZID:Europe/Berlin
BEGIN:DAYLIGHT
TZOFFSETFROM:+0100
TZOFFSETTO:+0200
TZNAME:CEST
DTSTART:20250330T010000
END:DAYLIGHT
BEGIN:STANDARD
TZOFFSETFROM:+0200
TZOFFSETTO:+0100
TZNAME:CET
DTSTART:20251026T010000
END:STANDARD
BEGIN:DAYLIGHT
TZOFFSETFROM:+0100
TZOFFSETTO:+0200
TZNAME:CEST
DTSTART:20260329T010000
END:DAYLIGHT
BEGIN:STANDARD
TZOFFSETFROM:+0200
TZOFFSETTO:+0100
TZNAME:CET
DTSTART:20261025T010000
END:STANDARD
BEGIN:DAYLIGHT
TZOFFSETFROM:+0100
TZOFFSETTO:+0200
TZNAME:CEST
DTSTART:20270328T010000
END:DAYLIGHT
BEGIN:STANDARD
TZOFFSETFROM:+0200
TZOFFSETTO:+0100
TZNAME:CET
DTSTART:20271031T010000
END:STANDARD
END:VTIMEZONE
BEGIN:VEVENT
DTSTART;TZID=Europe/Berlin:20261127T200000
DTEND;TZID=Europe/Berlin:20261127T200000
DTSTAMP:20260421T011125
CREATED:20241105T151919Z
LAST-MODIFIED:20260126T125446Z
UID:10000355-1795809600-1795809600@juz-zweiteheimat.de
SUMMARY:TRUE CRIME MAGIC live am 27. November 2026
DESCRIPTION:“True Crime Magic” – Erleben Sie ein einzigartiges Showevent\, wie Sie es noch nie zuvor gesehen haben: “True Crime Magic”! Dieses weltweit einmalige Konzept kombiniert das populäre Genre True Crime mit faszinierender Zauberkunst und verspricht ein unvergessliches Erlebnis. \nHarte Realität trifft auf Illusion\nIn “True Crime Magic” verschmelzen die harte Realität echter Kriminalfälle mit der fesselnden Welt der Magie. Die Show nimmt Sie mit auf eine Reise\, die Ihre Sinne herausfordert und Sie an der Grenze zwischen Wahrheit und Täuschung balancieren lässt. \n \nChristopher Köhler und Benjamin Gleissner – Die Meister der Magie\nDie beiden renommierten Magier Christopher Köhler und Benjamin Gleissner stehen im Zentrum dieser einzigartigen Show. Christopher Köhler\, der Macher der Erfolgsshow „Die Magier“\, kehrt mit einem neuen Konzept zurück um Ihnen eine ganz neue Seite der Magie zu präsentieren. Benjamin Gleissner kennt sich mit wahren Verbrechen aus\, denn außerhalb der Bühne ist er Polizist und bringt seine Expertise mit in die Kunst ein. Mit ihrer beeindruckenden Kombination aus kriminalistischer Schärfe und zauberhafter Geschicklichkeit bringen sie Geschichten\nzum Leben\, die das Publikum in Atem halten. Ihre Darbietungen sind so real\, dass Sie kaum glauben werden\, was vor Ihren Augen geschieht. \nInteraktive Erlebnisse\, die Sie fesseln werden\nIn “True Crime Magic” werden Sie nicht nur zuschauen – Sie werden Teil der Show! Freuen Sie sich auf interaktive Experimente mit dem Publikum\, bei denen Sie selbst zum Ermittler werden. Erleben Sie Live-Verhöre\, bei denen Lügen entlarvt und Beweismittel gefunden werden. Seien Sie dabei\, wenn Zuschauer ihre eigenen Wahrnehmungen und detektivischen Fähigkeiten testen können. Gemeinsam mit den Zuschauern wird das perfekte Verbrechen begangen und jeder wird sich am Ende dieses exklusiven Events fragen: Wie zum Teufel ging das alles? \nTickets jetzt sichern!\nVerpassen Sie nicht die Gelegenheit\, Teil dieses exklusiven Showevents zu sein. “True Crime Magic” ist eine einmalige Show\, die Sie nicht verpassen dürfen. Sichern Sie sich jetzt Ihre Tickets und erleben Sie selbst wie harte Realität auf Illusion trifft. \nAufgrund der Darstellung realer Kriminalfälle und originaler Tatortfotografien ist die Show für Personen ab 18 Jahren empfohlen.\nAm Freitag\, 27. November 2026 um 20 Uhr im Jugend-\, Kultur- und Bürgerzentrum “Zweite Heimat”\, Mittelstr. 7 in Höhr-Grenzhausen. Karten sind erhältlich unter www.juz-zweiteheimat.de und kosten im VVK: 28\,- Euro\, an der AK: 32\,- Euro. \nNach der Reservierung vermerken wir Ihren Namen auf unserer Vorverkaufsliste. Sie zahlen den Eintritt an der Abendkasse vor Ort. Freie Platzwahl. Wir freuen uns auf Ihren Besuch! \nKartenreservierungBitte aktiviere JavaScript in deinem Browser\, um dieses Formular fertigzustellen.VeranstaltungstitelAnzahl der Karten *12345678910Name *Telefon *E-Mail *StraßePLZ/OrtVerbindliche Reservierung *Mit Absenden Ihrer Reservierung über unser Onlineformular erklären Sie sich mit der verbindlichen Buchung der ausgewählten Tickets einverstanden. Bitte beachten Sie\, dass Ihre Reservierung zahlungspflichtig ist und nach erfolgreicher Bestätigung nicht mehr kostenfrei storniert werden kann.NewsletterJa\, ich möchte den Newsletter mit regelmäßigen Informationen über Veranstaltungen des Jugend- und Kulturzentrum "Zweite Heimat" erhalten.Datenschutz *Mit dem Absenden Ihrer Anfrage erklären Sie sich mit der Verarbeitung Ihrer angegebenen Daten zum Zweck der Bearbeitung Ihrer Anfrage einverstanden.https://www.juz-zweiteheimat.de/datenschutzerklaerungJetzt reservieren
URL:https://juz-zweiteheimat.de/event/true-crime-magic-live-am-27-november-2026/
LOCATION:Jugend-\, Kultur- und Bürgerzentrum “Zweite Heimat”\, Mittelstraße 7\, Höhr-Grenzhausen\, Rheinland-Pfalz\, 56203\, Germany
CATEGORIES:Für Erwachsene,Magie
ATTACH;FMTTYPE=image/jpeg:https://juz-zweiteheimat.de/wp-content/uploads/2024/11/True-Crime-Magic.jpg
ORGANIZER;CN="Jugend-%2C Kultur- und B%C3%BCrgerzentrum 'Zweite Heimat'":MAILTO:info@juz-zweiteheimat.de
END:VEVENT
END:VCALENDAR