BEGIN:VCALENDAR
VERSION:2.0
PRODID:-//Jugend-, Kultur- und Bürgerzentrum &quot;Zweite Heimat&quot; - ECPv6.15.20//NONSGML v1.0//EN
CALSCALE:GREGORIAN
METHOD:PUBLISH
X-ORIGINAL-URL:https://juz-zweiteheimat.de
X-WR-CALDESC:Veranstaltungen für Jugend-, Kultur- und Bürgerzentrum &quot;Zweite Heimat&quot;
REFRESH-INTERVAL;VALUE=DURATION:PT1H
X-Robots-Tag:noindex
X-PUBLISHED-TTL:PT1H
BEGIN:VTIMEZONE
TZID:Europe/Berlin
BEGIN:DAYLIGHT
TZOFFSETFROM:+0100
TZOFFSETTO:+0200
TZNAME:CEST
DTSTART:20260329T010000
END:DAYLIGHT
BEGIN:STANDARD
TZOFFSETFROM:+0200
TZOFFSETTO:+0100
TZNAME:CET
DTSTART:20261025T010000
END:STANDARD
BEGIN:DAYLIGHT
TZOFFSETFROM:+0100
TZOFFSETTO:+0200
TZNAME:CEST
DTSTART:20270328T010000
END:DAYLIGHT
BEGIN:STANDARD
TZOFFSETFROM:+0200
TZOFFSETTO:+0100
TZNAME:CET
DTSTART:20271031T010000
END:STANDARD
BEGIN:DAYLIGHT
TZOFFSETFROM:+0100
TZOFFSETTO:+0200
TZNAME:CEST
DTSTART:20280326T010000
END:DAYLIGHT
BEGIN:STANDARD
TZOFFSETFROM:+0200
TZOFFSETTO:+0100
TZNAME:CET
DTSTART:20281029T010000
END:STANDARD
END:VTIMEZONE
BEGIN:VEVENT
DTSTART;TZID=Europe/Berlin:20270303T193000
DTEND;TZID=Europe/Berlin:20270303T193000
DTSTAMP:20260422T103526
CREATED:20260304T112841Z
LAST-MODIFIED:20260304T112841Z
UID:10000534-1804102200-1804102200@juz-zweiteheimat.de
SUMMARY:Feierabend-Konzert: "Ric Sattler – Westerwald Blues" am 03. März 2027
DESCRIPTION:Akustischer Blues trifft auf regionale Geschichte \nMit Westerwald Blues veröffentlichte Ric Sattler am 01.07.2025 ein außergewöhnliches Konzeptalbum: handgemachter\, akustischer Blues mit deutschsprachigen Texten – inspiriert vom Westerwald. Obwohl der Musiker aus Düsseldorf stammt\, verbringt er seit Jahren fast jedes Wochenende in der Region und ist fasziniert von ihren Geschichten\, Legenden und der rauen Ursprünglichkeit der Landschaft. \nDie Songs erzählen vom Räuber Fetzer\, den Drehorgelmädchen\, alten Erzgruben\, vom Hochwasser\, vom Zug in die Heimat – aber auch von mythischen Orten wie dem Druidenstein. Alle Instrumente wurden von Ric Sattler selbst eingespielt\, die Produktion bewusst minimalistisch gehalten: rau\, echt\, livehaftig. \n„Ich wollte ein authentisches Album schaffen – fernab von Klischees oder Effekten“\, so Sattler. „Der Westerwald und der Blues – beides ist ehrlich\, reduziert und unverfälscht.“ \nDas Ergebnis: ein musikalischer Roadtrip durch den Westerwald\, mit Geschichten\, die tief verwurzelt sind – und doch zeitlos wirken. \nAm Mittwoch\, 03. März 2027 um 19.30 Uhr im Jugend-\, Kultur- und Bürgerzentrum “Zweite Heimat”\, Mittelstraße 7 in Höhr-Grenzhausen. \nDer Eintritt ist frei. Eine Hutspende ist gerne möglich.
URL:https://juz-zweiteheimat.de/event/feierabend-konzert-ric-sattler-westerwald-blues-am-03-maerz-2027/
LOCATION:Jugend-\, Kultur- und Bürgerzentrum “Zweite Heimat”\, Mittelstraße 7\, Höhr-Grenzhausen\, Rheinland-Pfalz\, 56203\, Germany
CATEGORIES:Konzert
ATTACH;FMTTYPE=image/jpeg:https://juz-zweiteheimat.de/wp-content/uploads/2026/03/Westerwald-Blues-Band.jpg
ORGANIZER;CN="Jugend-%2C Kultur- und B%C3%BCrgerzentrum 'Zweite Heimat'":MAILTO:info@juz-zweiteheimat.de
END:VEVENT
END:VCALENDAR