BEGIN:VCALENDAR
VERSION:2.0
PRODID:-//Jugend-, Kultur- und Bürgerzentrum &quot;Zweite Heimat&quot; - ECPv6.15.20//NONSGML v1.0//EN
CALSCALE:GREGORIAN
METHOD:PUBLISH
X-ORIGINAL-URL:https://juz-zweiteheimat.de
X-WR-CALDESC:Veranstaltungen für Jugend-, Kultur- und Bürgerzentrum &quot;Zweite Heimat&quot;
REFRESH-INTERVAL;VALUE=DURATION:PT1H
X-Robots-Tag:noindex
X-PUBLISHED-TTL:PT1H
BEGIN:VTIMEZONE
TZID:Europe/Berlin
BEGIN:DAYLIGHT
TZOFFSETFROM:+0100
TZOFFSETTO:+0200
TZNAME:CEST
DTSTART:20260329T010000
END:DAYLIGHT
BEGIN:STANDARD
TZOFFSETFROM:+0200
TZOFFSETTO:+0100
TZNAME:CET
DTSTART:20261025T010000
END:STANDARD
BEGIN:DAYLIGHT
TZOFFSETFROM:+0100
TZOFFSETTO:+0200
TZNAME:CEST
DTSTART:20270328T010000
END:DAYLIGHT
BEGIN:STANDARD
TZOFFSETFROM:+0200
TZOFFSETTO:+0100
TZNAME:CET
DTSTART:20271031T010000
END:STANDARD
BEGIN:DAYLIGHT
TZOFFSETFROM:+0100
TZOFFSETTO:+0200
TZNAME:CEST
DTSTART:20280326T010000
END:DAYLIGHT
BEGIN:STANDARD
TZOFFSETFROM:+0200
TZOFFSETTO:+0100
TZNAME:CET
DTSTART:20281029T010000
END:STANDARD
END:VTIMEZONE
BEGIN:VEVENT
DTSTART;TZID=Europe/Berlin:20270618T200000
DTEND;TZID=Europe/Berlin:20270618T200000
DTSTAMP:20260423T000555
CREATED:20250704T100552Z
LAST-MODIFIED:20260126T130402Z
UID:10000409-1813348800-1813348800@juz-zweiteheimat.de
SUMMARY:Konzert: THE PETELES am 18. Juni 2027
DESCRIPTION:Was haben die Beatles mit Metallica\, U2\, Michael Jackson\, Pink Floyd & anderen zu tun? \n„Pete Lennon“\, „Pete McCartney“\, „Pete Harrison“ und „Pete Starr” präsentieren die unsterblichen Hits der „Fab Four“ aus Liverpool eigenwillig und teils rockiger als man sie je gehört hat. Zudem bauen sie augenzwinkernd allerlei Bands der Rockgeschichte ins Programm ein – Bands\, die von den Beatles beeinflusst wurden oder die einfach bei den Beatles geklaut haben… So funken Jimi Hendrix\, Deep Purple\, Pink Floyd\, Queen\, Led Zeppelin\, Police\, U2\, Metallica\, Michael Jackson mit ein paar Zitaten immer mal mitten rein in die Klassiker der Pilzköpfe. Und — Yeah! Yeah! Yeah! — das machen die vier PETELES aus dem Westerwald ebenso cool wie gekonnt! Vor allem aber haben sich die PETELES mit Haut und Haaren\, Leib und Seele\, Stimme und Vollblut den Songs der legendären Vorbilder aus Liverpool verschrieben. In Clubs und Kneipen\, bei Stadtfesten und Festivals\, Galas und Partys in ganz Deutschland feierte das Publikum das Quartett bei „She Loves You“\, „A Hard Days Night“\, „Come Together“\, „Hey Jude“ oder „Let It Be“. \nDas frech-fröhliche Partykonzept der PETELES fegt diese generationen-übergreifende Musik „zwischen Original und originell“ mitten hinein ins Hier und Heute. Weit entfernt von angestaubter Oldiemusik bieten die PETELES ungeschliffenen Rock’n’Roll und zeitlose Klassiker: Come Together! \nAm Freitag\, 18. Juni 2027 um 20 Uhr im Jugend-\, Kultur- und Bürgerzentrum „Zweite Heimat“\, Mittelstr. 7 in Höhr-Grenzhausen. Karten kosten im VVK: n.n.\,- Euro\, an der AK: n.n.\,- Euro und sind erhältlich unter www.juz-zweiteheimat.de \nNach der Reservierung vermerken wir Ihren Namen auf unserer Vorverkaufsliste. Sie zahlen den Eintritt an der Abendkasse vor Ort. Freie Platzwahl. Wir freuen uns auf Ihren Besuch! \nKartenreservierungBitte aktiviere JavaScript in deinem Browser\, um dieses Formular fertigzustellen.VeranstaltungstitelAnzahl der Karten *12345678910Name *Telefon *E-Mail *StraßePLZ/OrtVerbindliche Reservierung *Mit Absenden Ihrer Reservierung über unser Onlineformular erklären Sie sich mit der verbindlichen Buchung der ausgewählten Tickets einverstanden. Bitte beachten Sie\, dass Ihre Reservierung zahlungspflichtig ist und nach erfolgreicher Bestätigung nicht mehr kostenfrei storniert werden kann.NewsletterJa\, ich möchte den Newsletter mit regelmäßigen Informationen über Veranstaltungen des Jugend- und Kulturzentrum "Zweite Heimat" erhalten.Datenschutz *Mit dem Absenden Ihrer Anfrage erklären Sie sich mit der Verarbeitung Ihrer angegebenen Daten zum Zweck der Bearbeitung Ihrer Anfrage einverstanden.https://www.juz-zweiteheimat.de/datenschutzerklaerungJetzt reservieren
URL:https://juz-zweiteheimat.de/event/konzert-the-peteles-am-18-juni-2027/
LOCATION:Jugend-\, Kultur- und Bürgerzentrum “Zweite Heimat”\, Mittelstraße 7\, Höhr-Grenzhausen\, Rheinland-Pfalz\, 56203\, Germany
CATEGORIES:Konzert
ATTACH;FMTTYPE=image/jpeg:https://juz-zweiteheimat.de/wp-content/uploads/2025/07/Peteles-1-1280x890-1.jpg
ORGANIZER;CN="Jugend-%2C Kultur- und B%C3%BCrgerzentrum 'Zweite Heimat'":MAILTO:info@juz-zweiteheimat.de
END:VEVENT
END:VCALENDAR