BEGIN:VCALENDAR
VERSION:2.0
PRODID:-//Jugend-, Kultur- und Bürgerzentrum &quot;Zweite Heimat&quot; - ECPv6.15.20//NONSGML v1.0//EN
CALSCALE:GREGORIAN
METHOD:PUBLISH
X-ORIGINAL-URL:https://juz-zweiteheimat.de
X-WR-CALDESC:Veranstaltungen für Jugend-, Kultur- und Bürgerzentrum &quot;Zweite Heimat&quot;
REFRESH-INTERVAL;VALUE=DURATION:PT1H
X-Robots-Tag:noindex
X-PUBLISHED-TTL:PT1H
BEGIN:VTIMEZONE
TZID:Europe/Berlin
BEGIN:DAYLIGHT
TZOFFSETFROM:+0100
TZOFFSETTO:+0200
TZNAME:CEST
DTSTART:20270328T010000
END:DAYLIGHT
BEGIN:STANDARD
TZOFFSETFROM:+0200
TZOFFSETTO:+0100
TZNAME:CET
DTSTART:20271031T010000
END:STANDARD
BEGIN:DAYLIGHT
TZOFFSETFROM:+0100
TZOFFSETTO:+0200
TZNAME:CEST
DTSTART:20280326T010000
END:DAYLIGHT
BEGIN:STANDARD
TZOFFSETFROM:+0200
TZOFFSETTO:+0100
TZNAME:CET
DTSTART:20281029T010000
END:STANDARD
BEGIN:DAYLIGHT
TZOFFSETFROM:+0100
TZOFFSETTO:+0200
TZNAME:CEST
DTSTART:20290325T010000
END:DAYLIGHT
BEGIN:STANDARD
TZOFFSETFROM:+0200
TZOFFSETTO:+0100
TZNAME:CET
DTSTART:20291028T010000
END:STANDARD
END:VTIMEZONE
BEGIN:VEVENT
DTSTART;TZID=Europe/Berlin:20280204T200000
DTEND;TZID=Europe/Berlin:20280204T200000
DTSTAMP:20260424T061426
CREATED:20260420T121203Z
LAST-MODIFIED:20260420T121251Z
UID:10000541-1833307200-1833307200@juz-zweiteheimat.de
SUMMARY:Kabarett mit Christoph Brüske: „Lass das mal die Boomer machen“ am 04. Februar 2028
DESCRIPTION:Ein hoch vergnügliches Generationen-Portrait mit Christoph Brüske \n60 Jahre hat er jetzt auf dem Buckel\, unser Christoph Brüske. Aber scheinbar wird er nicht älter. Denn der sympathische Kabarettist aus dem Rheinland ist ein Boomer: jung geblieben\, aktiv und auf Höhe der Zeit. Wie es dazu gekommen ist? Davon berichtet er in seinem Erfolgsprogramm „Lass das mal die Boomer machen“. Denn die Boomer können mehr als man denkt: Sie sind die Erfinder:innen von Wellness und Walking. Brüske selbst fühlt sich als Digital-Pionier\, der mit seinem ersten Handy wie ein Sprengmeister rumlief\, während sein Commodore C 64 genüsslich hochfuhr. Und nicht nur das: Er gehörte zur mutigen Generation\, die noch allein zur Schule gegangen sind. Und das zu Fuß! Heutzutage unvorstellbar. Christoph Brüske setzt den geburtenstarken Jahrgängen ein kabarettistisches Denkmal: Mit wahnsinnigem Wortwitz\, mitreißenden Liedern und einem gehörigen Schuss Augenzwinkern. Solltest du also mal am Alltag verzweifeln: Lass das mal `nen Boomer machen. \nZur Person:\nKlassisches Gesangsstudium u.a. in Köln\, gestählt durch unzählige Eventauftritte\, drei Jahre Mitglied im Ensemble des Springmaus Improvisations-Theaters und seit 1998 solistisch unterwegs. Christoph Brüske auf der Bühne zu erleben\, ist ein einzigartiges Erlebnis. \n„Stehende Ovationen und langanhaltender Beifall“ Ruhr Nachrichten\n„Chapeau\, das war genial.“ Dürener Zeitung\n„Eine perfekte Balance zwischen Kabarett und Comedy“ Bonner General Anzeiger \n \nAm Freitag\, 04. Februar 2028 um 20 Uhr (Einlass um 19 Uhr) im Jugend-\, Kultur- und Bürgerzentrum “Zweite Heimat”\, Mittelstraße 7 in Höhr-Grenzhausen. Karten sind erhältlich unter www.juz-zweiteheimat.de und kosten im VVK: 25\,- Euro\, an der AK: 28\,- Euro. \nNach der Reservierung vermerken wir Ihren Namen auf unserer Vorverkaufsliste. Sie zahlen den Eintritt an der Abendkasse vor Ort. Freie Platzwahl. Wir freuen uns auf Ihren Besuch! \nKartenreservierungBitte aktiviere JavaScript in deinem Browser\, um dieses Formular fertigzustellen.VeranstaltungstitelAnzahl der Karten *12345678910Name *Telefon *E-Mail *StraßePLZ/OrtVerbindliche Reservierung *Mit Absenden Ihrer Reservierung über unser Onlineformular erklären Sie sich mit der verbindlichen Buchung der ausgewählten Tickets einverstanden. Bitte beachten Sie\, dass Ihre Reservierung zahlungspflichtig ist und nach erfolgreicher Bestätigung nicht mehr kostenfrei storniert werden kann.NewsletterJa\, ich möchte den Newsletter mit regelmäßigen Informationen über Veranstaltungen des Jugend- und Kulturzentrum "Zweite Heimat" erhalten.Datenschutz *Mit dem Absenden Ihrer Anfrage erklären Sie sich mit der Verarbeitung Ihrer angegebenen Daten zum Zweck der Bearbeitung Ihrer Anfrage einverstanden.https://www.juz-zweiteheimat.de/datenschutzerklaerungJetzt reservieren
URL:https://juz-zweiteheimat.de/event/kabarett-mit-christoph-brueske-lass-das-mal-die-boomer-machen-am-04-februar-2028/
LOCATION:Jugend-\, Kultur- und Bürgerzentrum “Zweite Heimat”\, Mittelstraße 7\, Höhr-Grenzhausen\, Rheinland-Pfalz\, 56203\, Germany
CATEGORIES:Kabarett
ATTACH;FMTTYPE=image/jpeg:https://juz-zweiteheimat.de/wp-content/uploads/2026/04/plakat-lass-das-mal-die-boomer-machen-800.jpg
ORGANIZER;CN="Jugend-%2C Kultur- und B%C3%BCrgerzentrum 'Zweite Heimat'":MAILTO:info@juz-zweiteheimat.de
END:VEVENT
END:VCALENDAR