BEGIN:VCALENDAR
VERSION:2.0
PRODID:-//Jugend-, Kultur- und Bürgerzentrum &quot;Zweite Heimat&quot; - ECPv6.15.20//NONSGML v1.0//EN
CALSCALE:GREGORIAN
METHOD:PUBLISH
X-WR-CALNAME:Jugend-, Kultur- und Bürgerzentrum &quot;Zweite Heimat&quot;
X-ORIGINAL-URL:https://juz-zweiteheimat.de
X-WR-CALDESC:Veranstaltungen für Jugend-, Kultur- und Bürgerzentrum &quot;Zweite Heimat&quot;
REFRESH-INTERVAL;VALUE=DURATION:PT1H
X-Robots-Tag:noindex
X-PUBLISHED-TTL:PT1H
BEGIN:VTIMEZONE
TZID:Europe/Berlin
BEGIN:DAYLIGHT
TZOFFSETFROM:+0100
TZOFFSETTO:+0200
TZNAME:CEST
DTSTART:20270328T010000
END:DAYLIGHT
BEGIN:STANDARD
TZOFFSETFROM:+0200
TZOFFSETTO:+0100
TZNAME:CET
DTSTART:20271031T010000
END:STANDARD
BEGIN:DAYLIGHT
TZOFFSETFROM:+0100
TZOFFSETTO:+0200
TZNAME:CEST
DTSTART:20280326T010000
END:DAYLIGHT
BEGIN:STANDARD
TZOFFSETFROM:+0200
TZOFFSETTO:+0100
TZNAME:CET
DTSTART:20281029T010000
END:STANDARD
BEGIN:DAYLIGHT
TZOFFSETFROM:+0100
TZOFFSETTO:+0200
TZNAME:CEST
DTSTART:20290325T010000
END:DAYLIGHT
BEGIN:STANDARD
TZOFFSETFROM:+0200
TZOFFSETTO:+0100
TZNAME:CET
DTSTART:20291028T010000
END:STANDARD
END:VTIMEZONE
BEGIN:VEVENT
DTSTART;TZID=Europe/Berlin:20280505T200000
DTEND;TZID=Europe/Berlin:20280505T200000
DTSTAMP:20260424T105514
CREATED:20260304T113804Z
LAST-MODIFIED:20260304T113804Z
UID:10000535-1841169600-1841169600@juz-zweiteheimat.de
SUMMARY:Daniel Helfrich „Ich hab mir gerade noch gefehlt“ am 05. Mai 2028
DESCRIPTION:Original? Kopie? Wahrheit? Fake? Wenn Sie nicht mehr wissen\, was hier gespielt wird\, geschweige denn von wem\, dann befinden Sie sich mitten im neuen Programm „Ich hab mir gerade noch gefehlt“ vom Meister des gehobenen Blödsinns Daniel Helfrich. Täuschend echt parodiert er sich selbst und weckt sogar optisch den Eindruck\, Daniel Helfrich zu sein. Klingt komisch? Ist es auch! Da hat Daniel Helfrich wohl einen Klon gefrühstückt. In einem geschickten Verwechslungsspiel präsentiert Daniel Helfrich weitgehend bisher unveröffentlichte Perlen des Schaffens von Daniel Helfrich: Lieder über Liebe\, Triebe\, Pferdefrauen\, Ungeduld\, Fußballexperten\, Künstliche Intelligenz und „Schlechterwisser“. \nGeistreiches gesellschaftskritisches Klavierkabarett über Identität\, der Suche nach sich selbst und den großen Fragen unserer Zeit: Steht man sich manchmal zu sehr selbst im Weg? Ist die Kopie besser als das Original und sind wir nicht alle ein bisschen Daniel?  Sich selbst virtuos am Klavier begleitend durchstreift „Everybodys Daniel“ in dieser lustigsten und einzigen Pseudo-Tribute-Show der Welt vielfältigste Musikstile. Urkomisch nimmt er aus vollem Scherzen nicht nur Imitatoren\, Tribute Shows und unser aller Leben aufs Korn\, sondern beweist vor allem\, dass er eines kann: über sich selbst lachen. Jubel\, Double\, Heiterkeit und eine niveauvolle skurrile Hommage an die multiple Persönlichkeit in uns allen… Ein narzisstisches Programm gegen Narzissmus\, ein musikalisch mitreißender Abend mit doppelter Lachgarantie\, an dem jeder erkennen wird: „Ich hab mir gerade noch gefehlt“. \nAm Freitag\, 05. Mai 2028 um 20 Uhr im Jugend-\, Kultur- und Bürgerzentrum “Zweite Heimat”\, Mittelstraße 7 in Höhr-Grenzhausen. Karten sind erhältlich unter www.juz-zweiteheimat.de und kosten im VVK: 25\,- Euro\, an der AK: 27\,- Euro. \nNach der Reservierung vermerken wir Ihren Namen auf unserer Vorverkaufsliste. Sie zahlen den Eintritt an der Abendkasse vor Ort. Freie Platzwahl. Wir freuen uns auf Ihren Besuch! \nKartenreservierungBitte aktiviere JavaScript in deinem Browser\, um dieses Formular fertigzustellen.VeranstaltungstitelAnzahl der Karten *12345678910Name *Telefon *E-Mail *StraßePLZ/OrtVerbindliche Reservierung *Mit Absenden Ihrer Reservierung über unser Onlineformular erklären Sie sich mit der verbindlichen Buchung der ausgewählten Tickets einverstanden. Bitte beachten Sie\, dass Ihre Reservierung zahlungspflichtig ist und nach erfolgreicher Bestätigung nicht mehr kostenfrei storniert werden kann.NewsletterJa\, ich möchte den Newsletter mit regelmäßigen Informationen über Veranstaltungen des Jugend- und Kulturzentrum "Zweite Heimat" erhalten.Datenschutz *Mit dem Absenden Ihrer Anfrage erklären Sie sich mit der Verarbeitung Ihrer angegebenen Daten zum Zweck der Bearbeitung Ihrer Anfrage einverstanden.https://www.juz-zweiteheimat.de/datenschutzerklaerungJetzt reservieren
URL:https://juz-zweiteheimat.de/event/daniel-helfrich-ich-hab-mir-gerade-noch-gefehlt-am-05-mai-2028/
LOCATION:Jugend-\, Kultur- und Bürgerzentrum “Zweite Heimat”\, Mittelstraße 7\, Höhr-Grenzhausen\, Rheinland-Pfalz\, 56203\, Germany
CATEGORIES:Kabarett,Musik
ATTACH;FMTTYPE=image/jpeg:https://juz-zweiteheimat.de/wp-content/uploads/2026/03/Pressefoto-Daniel-Helfrich.jpg
ORGANIZER;CN="Jugend-%2C Kultur- und B%C3%BCrgerzentrum 'Zweite Heimat'":MAILTO:info@juz-zweiteheimat.de
END:VEVENT
END:VCALENDAR