BEGIN:VCALENDAR
VERSION:2.0
PRODID:-//Jugend-, Kultur- und Bürgerzentrum &quot;Zweite Heimat&quot; - ECPv6.15.20//NONSGML v1.0//EN
CALSCALE:GREGORIAN
METHOD:PUBLISH
X-ORIGINAL-URL:https://juz-zweiteheimat.de
X-WR-CALDESC:Veranstaltungen für Jugend-, Kultur- und Bürgerzentrum &quot;Zweite Heimat&quot;
REFRESH-INTERVAL;VALUE=DURATION:PT1H
X-Robots-Tag:noindex
X-PUBLISHED-TTL:PT1H
BEGIN:VTIMEZONE
TZID:Europe/Berlin
BEGIN:DAYLIGHT
TZOFFSETFROM:+0100
TZOFFSETTO:+0200
TZNAME:CEST
DTSTART:20210328T010000
END:DAYLIGHT
BEGIN:STANDARD
TZOFFSETFROM:+0200
TZOFFSETTO:+0100
TZNAME:CET
DTSTART:20211031T010000
END:STANDARD
BEGIN:DAYLIGHT
TZOFFSETFROM:+0100
TZOFFSETTO:+0200
TZNAME:CEST
DTSTART:20220327T010000
END:DAYLIGHT
BEGIN:STANDARD
TZOFFSETFROM:+0200
TZOFFSETTO:+0100
TZNAME:CET
DTSTART:20221030T010000
END:STANDARD
BEGIN:DAYLIGHT
TZOFFSETFROM:+0100
TZOFFSETTO:+0200
TZNAME:CEST
DTSTART:20230326T010000
END:DAYLIGHT
BEGIN:STANDARD
TZOFFSETFROM:+0200
TZOFFSETTO:+0100
TZNAME:CET
DTSTART:20231029T010000
END:STANDARD
END:VTIMEZONE
BEGIN:VEVENT
DTSTART;TZID=Europe/Berlin:20220429T200000
DTEND;TZID=Europe/Berlin:20220429T200000
DTSTAMP:20260421T170159
CREATED:20220425T084347Z
LAST-MODIFIED:20220425T100634Z
UID:10000193-1651262400-1651262400@juz-zweiteheimat.de
SUMMARY:Matthias Jung - "Abenteuer Pubertät“ So peinlich kommen wir nicht mehr zusammen
DESCRIPTION:Wer hat Teenager in der Pubertät? Wer war selbst mal Teenager in der Pubertät? Der kennt hitzige Diskussionen über Schule\, Zimmer aufräumen\, Helfen im Haushalt\, der weiß\, WhatsApp ist überlebenswichtig – und Hygiene überschätzt. Jedenfalls aus der Sicht der Teenager. Man muss lernen loszulassen! Am liebsten wohl die Kreditkarte. Es hormoniert prächtig\, aber chillt mal Eltern\, Matthias Jung kommt zur Hilfe! Matthias Jung ist Diplom-Pädagoge\, Familien- und Pubertätscoach sowie SPIEGEL Bestseller Autor. Er nimmt seine Zuschauer mit auf eine Reise in die Welt der heutigen Jugendlichen und Teenager. Matthias Jung gibt interessante wissenschaftliche Einblicke in die Verhaltensweisen und Gehirne der Teenies und hat hilfreiche sowie humorvolle Tipps und Tricks im Gepäck. Das ist echte Spaßpädagogik für die GANZE Familie. Eine einzigartige Mischung aus Sachverstand und Humor\, faktenreich und äußerst unterhaltsam. Nah an den Eltern! Nah am Alltag! Nah an der Pubertät! \n \nAm Freitag\, 29. April 2022 um 20 Uhr im Kulturzentrum “Zweite Heimat”. Karten sind erhältlich unter Tel.: 02624/7257 oder online unter www.juz-zweiteheimat.de und kosten im VVK: 16\,- Euro\, an der AK: 18\,- Euro. \nKartenreservierungBitte aktiviere JavaScript in deinem Browser\, um dieses Formular fertigzustellen.VeranstaltungstitelAnzahl der Karten *12345678910Name *Telefon *E-Mail *StraßePLZ/OrtVerbindliche Reservierung *Mit Absenden Ihrer Reservierung über unser Onlineformular erklären Sie sich mit der verbindlichen Buchung der ausgewählten Tickets einverstanden. Bitte beachten Sie\, dass Ihre Reservierung zahlungspflichtig ist und nach erfolgreicher Bestätigung nicht mehr kostenfrei storniert werden kann.NewsletterJa\, ich möchte den Newsletter mit regelmäßigen Informationen über Veranstaltungen des Jugend- und Kulturzentrum "Zweite Heimat" erhalten.Datenschutz *Mit dem Absenden Ihrer Anfrage erklären Sie sich mit der Verarbeitung Ihrer angegebenen Daten zum Zweck der Bearbeitung Ihrer Anfrage einverstanden.https://www.juz-zweiteheimat.de/datenschutzerklaerungJetzt reservieren
URL:https://juz-zweiteheimat.de/event/matthias-jung-abenteuer-pubertaet-so-peinlich-kommen-wir-nicht-mehr-zusammen/
LOCATION:Mittelstraße 7\, Höhr-Grenzhausen\, 56203\, Germany
ATTACH;FMTTYPE=image/jpeg:https://juz-zweiteheimat.de/wp-content/uploads/2022/04/Matthias-Jung-Pressefoto-Abenteuer-Pubertaet-Teens-©-Matthias-Jung.jpg
ORGANIZER;CN="Jugend-%2C Kultur- und B%C3%BCrgerzentrum 'Zweite Heimat'":MAILTO:info@juz-zweiteheimat.de
END:VEVENT
END:VCALENDAR