BEGIN:VCALENDAR
VERSION:2.0
PRODID:-//Jugend-, Kultur- und Bürgerzentrum &quot;Zweite Heimat&quot; - ECPv6.15.20//NONSGML v1.0//EN
CALSCALE:GREGORIAN
METHOD:PUBLISH
X-ORIGINAL-URL:https://juz-zweiteheimat.de
X-WR-CALDESC:Veranstaltungen für Jugend-, Kultur- und Bürgerzentrum &quot;Zweite Heimat&quot;
REFRESH-INTERVAL;VALUE=DURATION:PT1H
X-Robots-Tag:noindex
X-PUBLISHED-TTL:PT1H
BEGIN:VTIMEZONE
TZID:Europe/Berlin
BEGIN:DAYLIGHT
TZOFFSETFROM:+0100
TZOFFSETTO:+0200
TZNAME:CEST
DTSTART:20230326T010000
END:DAYLIGHT
BEGIN:STANDARD
TZOFFSETFROM:+0200
TZOFFSETTO:+0100
TZNAME:CET
DTSTART:20231029T010000
END:STANDARD
BEGIN:DAYLIGHT
TZOFFSETFROM:+0100
TZOFFSETTO:+0200
TZNAME:CEST
DTSTART:20240331T010000
END:DAYLIGHT
BEGIN:STANDARD
TZOFFSETFROM:+0200
TZOFFSETTO:+0100
TZNAME:CET
DTSTART:20241027T010000
END:STANDARD
BEGIN:DAYLIGHT
TZOFFSETFROM:+0100
TZOFFSETTO:+0200
TZNAME:CEST
DTSTART:20250330T010000
END:DAYLIGHT
BEGIN:STANDARD
TZOFFSETFROM:+0200
TZOFFSETTO:+0100
TZNAME:CET
DTSTART:20251026T010000
END:STANDARD
END:VTIMEZONE
BEGIN:VEVENT
DTSTART;TZID=Europe/Berlin:20240819T190000
DTEND;TZID=Europe/Berlin:20240819T190000
DTSTAMP:20260421T053932
CREATED:20240709T081001Z
LAST-MODIFIED:20240709T081314Z
UID:10000336-1724094000-1724094000@juz-zweiteheimat.de
SUMMARY:FILMABEND Blauer Himmel Weiße Wolken am 19. August 2024
DESCRIPTION:OPHELIA – Netzwerk für ein lebendiges Älterweden im Kannenbäckerland lädt ein zum FILMABEND “Blauer Himmel Weiße Wolken” \nDie Filmemacherin Astrid Menzel und ihr Bruder unternehmen eine Reise mit ihrer demenzkranken Großmutter. Seit dem Tod ihres Mannes\, tun sich immer größere Gedächtnislücken bei der 86-jährigen Dame auf. Während einer zehntägigen Kanufahrt über norddeutsche Gewässer kommt sich die Familie näher. Das Abenteuer hat einen ungewissen Ausgang und bringt auf jeder Etappe neue Herausforderungen mit sich. \nDokumentarfilm von Astrid Menzel\, 2022 \nBei Rückfragen:\nSusanne Dommermuth\,\nSenioren- und Rentenbüro der\nVerbandsgemeinde Höhr-Grenzhausen\nTelefon: (0 26 24) 104-104\nE-Mail: susanne.dommermuth@hoehr-grenzhausen.de \nDie Veranstaltung ist kostenfrei! \n  \n 
URL:https://juz-zweiteheimat.de/event/filmabend-blauer-himmel-weisse-wolken-am-19-august-2024/
LOCATION:Jugend-\, Kultur- und Bürgerzentrum “Zweite Heimat”\, Mittelstraße 7\, Höhr-Grenzhausen\, Rheinland-Pfalz\, 56203\, Germany
ATTACH;FMTTYPE=image/jpeg:https://juz-zweiteheimat.de/wp-content/uploads/2024/07/anzeige_filmabend_90x270-scaled.jpg
ORGANIZER;CN="OPHELIA - Netzwerk f%C3%BCr ein lebendiges %C3%84lterweden im Kannenb%C3%A4ckerland":MAILTO:susanne.dommermuth@hoehr-grenzhausen.de
END:VEVENT
BEGIN:VEVENT
DTSTART;TZID=Europe/Berlin:20240830T200000
DTEND;TZID=Europe/Berlin:20240830T200000
DTSTAMP:20260421T053932
CREATED:20240111T152256Z
LAST-MODIFIED:20240806T101320Z
UID:10000306-1725048000-1725048000@juz-zweiteheimat.de
SUMMARY:Kabarett mit Peter Vollmer: "Es lockt das Weib\,  doch bockt der Leib"
DESCRIPTION:Die Veranstaltung fällt aus persönlichen Gründen des Künstlers leider aus. Ein Ersatztermin findet Anfang 2025 statt. \nMitarbeit: Gernot Voltz\, Walter Muffler\nEr hat gerade seinen Fünfzigsten gefeiert. Jedenfalls behauptet er das – seit zehn Jahren. In Wahrheit liegt die „Lebensmitte“ hinter ihm. Seine Frau hat einen Hometrainer für ihn angeschafft – was er wirklich braucht\, ist ein Hörgerät. In seinen Träumen geht es nicht mehr um heiße Liebesnächte\, sondern um einen gelungenen Hefezopf. Kurzum: Er ist ein Mann mit H-Kennzeichen und fragt sich\, „muss ich noch in die Wanne – oder reicht abstauben?“ Sein nächster Job? Im Museum. Als Ausstellungsstück. \nPeter Vollmer setzt seine kabarettistische Lebenserzählung da fort\, wo er mit „Frauen verblühen\, Männer verduften“ aufgehört hat. Und Sie sind herzlich eingeladen\, sich von ihm den Spiegel vorhalten zu lassen. Was immer nämlich auch Sie im Alltag piesackt oder quält – hier werden Sie es wiedererkennen und herzhaft darüber lachen können. Denn der Kabarettist weiß\, Komik ist Wahrheit und Schmerz. \nGeschichten über die „besten Jahre“? Vielleicht. In jedem Fall aber einer der besten Abende\, die Sie erleben können. Versprochen! \nAm Freitag\, 30. August 2024 um 20 Uhr im Kulturzentrum “Zweite Heimat” in Höhr-Grenzhausen. Karten sind erhältlich unter Tel.: 02624/7257 oder online unter www.juz-zweiteheimat.de und kosten im VVK: 18\,- Euro\, an der AK: 20\,- Euro.
URL:https://juz-zweiteheimat.de/event/kabarett-mit-peter-vollmer-es-lockt-das-weib-doch-bockt-der-leib/
LOCATION:Jugend-\, Kultur- und Bürgerzentrum “Zweite Heimat”\, Mittelstraße 7\, Höhr-Grenzhausen\, Rheinland-Pfalz\, 56203\, Germany
ATTACH;FMTTYPE=image/jpeg:https://juz-zweiteheimat.de/wp-content/uploads/2024/01/Peter-Vollmer-2024-scaled.jpg
ORGANIZER;CN="Jugend-%2C Kultur- und B%C3%BCrgerzentrum 'Zweite Heimat'":MAILTO:info@juz-zweiteheimat.de
END:VEVENT
BEGIN:VEVENT
DTSTART;TZID=Europe/Berlin:20240831T200000
DTEND;TZID=Europe/Berlin:20240831T200000
DTSTAMP:20260421T053932
CREATED:20231215T191137Z
LAST-MODIFIED:20240709T071323Z
UID:10000303-1725134400-1725134400@juz-zweiteheimat.de
SUMMARY:Lulo Reinhardt Accoustic Lounge feat. Daniel Stelter & Yuliya Lonskaya am 31. August 2024
DESCRIPTION:Musikalisches Spitzentreffen dreier Weltklassegitarrist*innen! \nLULO REINHARDT\, DANIEL STELTER und YULIYA LONSKAYA zeigen\, wie gut Gypsy\, Jazz und Flamenco zusammenpassen. Drei international bekannte Gitarristen unterschiedlicher Stilrichtung treffen sich auf der Bühne. Der charismatische Gitarrist LULO REINHARDT\, eine der wichtigsten und authentischsten Stimmen der Musik der Sinti und Roma\, glänzt mit seiner Mischung aus Gypsy\, Jazz\, Flamenco und südamerikanischen Rhythmen. Brillant und vielseitig beeindruckt die weißrussische Künstlerin YULIYA LONSKAYA mit eigenen Classic-\, Folk-\, Jazz- und Bossa- Nova-Arrangements. Und mit seinem unnachahmlich unaufgeregten und doch einprägsamen Stil hat DANIEL STELTER sich schon längst einen Namen in der deutschen Jazz-Szene gemacht. Sein Sound mäandert irgendwo zwischen Jazz\, Pop und Klassik hin und her. Im Trio zeigen sie\, wie gut die verschiedenen Stile zusammenpassen ohne das die Einzelkünstler an Strahlkraft verlieren. \nAm Samstag\, 31. August 2024 um 20.00 Uhr im Kulturzentrum “Zweite Heimat”\, Mittelstr. 7 in Höhr-Grenzhausen. Karten sind erhältlich unter Tel.: 02624/7257 oder online unter www.juz-zweiteheimat.de und kosten im VVK: 20\,- Euro\, an der AK: 22\,- Euro. \nKartenreservierung Lulo Reinhardt Accoustic Lounge feat. Stelter und Lonskaya am 31. August 2024Bitte aktiviere JavaScript in deinem Browser\, um dieses Formular fertigzustellen.VeranstaltungstitelAnzahl der Karten *12345678910Name *Telefon *E-Mail *StraßePLZ/OrtNewsletterJa\, ich möchte den Newsletter mit regelmäßigen Informationen über Veranstaltungen des Jugend- und Kulturzentrum "Zweite Heimat" erhalten.Datenschutz *Mit dem Absenden Ihrer Anfrage erklären Sie sich mit der Verarbeitung Ihrer angegebenen Daten zum Zweck der Bearbeitung Ihrer Anfrage einverstanden.https://www.juz-zweiteheimat.de/datenschutzerklaerungJetzt reservieren
URL:https://juz-zweiteheimat.de/event/lulo-reinhardt-accoustic-lounge-feat-daniel-stelter-yuliya-lonskaya-am-31-august-2024/
LOCATION:Jugend-\, Kultur- und Bürgerzentrum “Zweite Heimat”\, Mittelstraße 7\, Höhr-Grenzhausen\, Rheinland-Pfalz\, 56203\, Germany
ATTACH;FMTTYPE=image/jpeg:https://juz-zweiteheimat.de/wp-content/uploads/2023/12/Lulo-Reinhardt-Daniel-Stelter-Yulyia-Lonskaya.jpg
ORGANIZER;CN="Jugend-%2C Kultur- und B%C3%BCrgerzentrum 'Zweite Heimat'":MAILTO:info@juz-zweiteheimat.de
END:VEVENT
END:VCALENDAR