BEGIN:VCALENDAR
VERSION:2.0
PRODID:-//Jugend-, Kultur- und Bürgerzentrum &quot;Zweite Heimat&quot; - ECPv6.15.20//NONSGML v1.0//EN
CALSCALE:GREGORIAN
METHOD:PUBLISH
X-WR-CALNAME:Jugend-, Kultur- und Bürgerzentrum &quot;Zweite Heimat&quot;
X-ORIGINAL-URL:https://juz-zweiteheimat.de
X-WR-CALDESC:Veranstaltungen für Jugend-, Kultur- und Bürgerzentrum &quot;Zweite Heimat&quot;
REFRESH-INTERVAL;VALUE=DURATION:PT1H
X-Robots-Tag:noindex
X-PUBLISHED-TTL:PT1H
BEGIN:VTIMEZONE
TZID:Europe/Berlin
BEGIN:DAYLIGHT
TZOFFSETFROM:+0100
TZOFFSETTO:+0200
TZNAME:CEST
DTSTART:20230326T010000
END:DAYLIGHT
BEGIN:STANDARD
TZOFFSETFROM:+0200
TZOFFSETTO:+0100
TZNAME:CET
DTSTART:20231029T010000
END:STANDARD
BEGIN:DAYLIGHT
TZOFFSETFROM:+0100
TZOFFSETTO:+0200
TZNAME:CEST
DTSTART:20240331T010000
END:DAYLIGHT
BEGIN:STANDARD
TZOFFSETFROM:+0200
TZOFFSETTO:+0100
TZNAME:CET
DTSTART:20241027T010000
END:STANDARD
BEGIN:DAYLIGHT
TZOFFSETFROM:+0100
TZOFFSETTO:+0200
TZNAME:CEST
DTSTART:20250330T010000
END:DAYLIGHT
BEGIN:STANDARD
TZOFFSETFROM:+0200
TZOFFSETTO:+0100
TZNAME:CET
DTSTART:20251026T010000
END:STANDARD
END:VTIMEZONE
BEGIN:VEVENT
DTSTART;TZID=Europe/Berlin:20241206T200000
DTEND;TZID=Europe/Berlin:20241206T200000
DTSTAMP:20260420T162708
CREATED:20231215T191348Z
LAST-MODIFIED:20241119T083427Z
UID:10000305-1733515200-1733515200@juz-zweiteheimat.de
SUMMARY:Lulo Reinhardt Accoustic Lounge "Gypsy meets Classic" am 06. Dezember 2024
DESCRIPTION:Lulo Reinhardt feat. Yuliya Lonskaya \nMit Brillanz und Vielseitigkeit ihrer Gitarre lässt die weißrussische Künstlerin Yuliya Lonskaya die Herzen höher schlagen.\nIhr Konzertleben ist besonders reich an Auftritten mit den angesehensten Orchestern Russlands wie z.B. Staatliches Symphonie-Orchester „Novaya Rossiya“ (unter Leitung von Yuri Bashmet)\, Symphonie-Orchester „Russische Philarmonie“\, Wladimir Gouverneur Symphonie-Orchester\, Akademisches Kammerorchester „Musica Viva“. Zu den letzten davon gehört auch die Zusammenarbeit mit dem kubanischen Dirigenten und Gitarristen Leo Brouwer beim Festival „World of Guitar“ in Kaluga (Russland) im Mai 2009.\nDie Gastspiel-Reichweite von Yuliya streckt sich bereits über mehrere Kontinente: hier findet man USA und Puerto Rico\, Deutschland und Österreich\, Russland und die Ukraine\, Zypern und Bulgarien\, Polen und Moldawien\, Spanien und Italien.\nYuliya war die erste weißrussische Gitarristin auf der Bühne des Tschaikovski-Konzertsaals in Moskau. \nYuliya Lonskaya ist die Preisträgerin der internationalen Wettbewerbe in Polen\, Großbritannien\, Serbien und Italien\, z.B. „Ivor Mairants Guitar Award” in London (Großbritannien\, 2001) und Internationaler Wettbewerb „Guitar Art“ in Belgrad (Serbien\, 2005). Sie ist eine willkommene Teilnehmerin der Festivals: das Internationale Festival „Virtuosen der Gitarre“ und das Internationale Kammermusikfestival „Comeback“ in Moskau\, Gitarrenfestival in Wrozlaw (Polen)\, Festival „Renaissance der Gitarre“ in Gomel (Weißrussland)\, Internationales Festival der Siebensaitigen Gitarre in Iowa-City (USA)\, Burghofspiele Rheingau Sommer u.a. \nZu den Projekten außerhalb der Solokarriere von Yuliya gehört ihre Teilnahme im Gitarrenquartett Fortissimo\, im Duo mit dem russischen Stargitarristen Dimitri Illarionov und im Duo Rosso mit Olga Reiser (Flöte). Im Jahr 2007 hat sie im siebensaitigen Russian Guitar Quartet mitgewirkt. Seit 2017 tritt sie mit dem berühmten Gitarristen Lulo Reinhardt mit dem Programm “Gypsy meets Classic” auf. \nYuliya Lonskaya vollbringt seit 2010 mit eigenen Classic-\, Folk-\, Jazz- und Bossa Nova-Arrangements einen frischen und einzigartigen Stil\, in dem die russische Seele unverwechselbar zum Vorschein kommt. \nAm Freitag\, 06. Dezember 2024 um 20.00 Uhr im Kulturzentrum “Zweite Heimat”\, Mittelstr. 7 in Höhr-Grenzhausen. Karten sind erhältlich unter Tel.: 02624/7257 oder online unter www.juz-zweiteheimat.de und kosten im VVK: 20\,- Euro\, an der AK: 22\,- Euro. \nKartenreservierung Lulo Reinhardt Accoustic Lounge “Gypsy meets Classic” am 06. Dezember 2024Bitte aktiviere JavaScript in deinem Browser\, um dieses Formular fertigzustellen.VeranstaltungstitelAnzahl der Karten *12345678910Name *Telefon *E-Mail *StraßePLZ/OrtNewsletterJa\, ich möchte den Newsletter mit regelmäßigen Informationen über Veranstaltungen des Jugend- und Kulturzentrum "Zweite Heimat" erhalten.Datenschutz *Mit dem Absenden Ihrer Anfrage erklären Sie sich mit der Verarbeitung Ihrer angegebenen Daten zum Zweck der Bearbeitung Ihrer Anfrage einverstanden.https://www.juz-zweiteheimat.de/datenschutzerklaerungJetzt reservieren
URL:https://juz-zweiteheimat.de/event/lulo-reinhardt-accoustic-lounge-am-06-dezember-2024/
LOCATION:Jugend-\, Kultur- und Bürgerzentrum “Zweite Heimat”\, Mittelstraße 7\, Höhr-Grenzhausen\, Rheinland-Pfalz\, 56203\, Germany
ATTACH;FMTTYPE=image/jpeg:https://juz-zweiteheimat.de/wp-content/uploads/2023/06/Lulo-Reinhardt-Yuliya-Lonskaya.jpg
ORGANIZER;CN="Jugend-%2C Kultur- und B%C3%BCrgerzentrum 'Zweite Heimat'":MAILTO:info@juz-zweiteheimat.de
END:VEVENT
BEGIN:VEVENT
DTSTART;TZID=Europe/Berlin:20241207T140000
DTEND;TZID=Europe/Berlin:20241207T220000
DTSTAMP:20260420T162708
CREATED:20240918T074109Z
LAST-MODIFIED:20241129T165123Z
UID:10000344-1733580000-1733608800@juz-zweiteheimat.de
SUMMARY:Weihnachtszauber 2024
DESCRIPTION:“Lassen Sie sich wieder verweihnachtszaubern”\nWeihnachtszauber auf dem Töpferplatz in Höhr-Grenzhausen \nBereits zum 18. Mal laden wir Sie wieder recht herzlich ein\, unseren Weihnachtszauber am Samstag\, 07. Dezember 2024\, zwischen 14 und 22 Uhr zu besuchen\, um mit Familie\, Freunden und Bekannten einen stimmungsvollen und gemütlichen Nachmittag in unserer Stadt auf dem Töpferplatz zu verbringen. \nWir\, die Stadt Höhr-Grenzhausen\, vertreten durch Stadtbürgermeister Wolfgang Letschert\, das Jugend-\, Kultur- und Bürgerzentrum „Zweite Heimat“ und das Quartiersmanagement Höhr sowie der Gewerbeverein Pro Höhr-Grenzhausen e.V. haben uns wieder sehr viel Mühe gegeben\, Ihnen ein breites Angebot an schönen selbst gemachten Weihnachtsgeschenken und leckeren Speisen anbieten zu können. Auch in diesem Jahr werden wir rund 20 weihnachtlich geschmückte Holzhütten auf dem Töpferplatz für den Weihnachtszauber aufstellen können. Freuen Sie sich auf rund 25 Teilnehmer auf unserem Weihnachtszauber. Viele alt-bekannte Gesichter und Stände warten auf Sie liebe Besucher und auch einige neue Teilnehmer konnten wir gewinnen. Zahlreiche Stände mit selbst gebasteltem\, Kunsthandwerk und weiteren tollen Einkaufsideen für Weihnachten warten auf Sie\, liebe Gäste. Auf der weihnachtlichen Bühne mitten im Markt wird der Posaunenchor und die Goethe-Grundschule das Rahmenprogramm bereichern. Der Nikolaus kommt für die kleinsten Besucher schon am Nachmittag und hält kleine Präsente bereit. Für Ihr leibliches Wohl wird ebenfalls wieder bestens gesorgt sein. \nWir freuen uns sehr auf Sie und Ihre Teilnahme an unserer schönen\, besinnlichen Veranstaltung\, die inzwischen zur festen Tradition im Herzen unserer schönen Innenstadt geworden ist. \nWeihnachtszauber in Höhr-Grenzhausen am Samstag\, 7. Dezember 2024\, von 14.00 bis 22.00 Uhr.               \nMit herzlichen Grüßen\nWolfgang Letschert – Bürgermeister der Stadt Höhr-Grenzhausen\nGuido Kröff – 1. Vorsitzender Pro Höhr-Grenzhausen\nWerner Bayer – Jugend-\, Kultur- und Bürgerzentrum „Zweite Heimat“\nDas Team des Quartiersmanagement Höhr-Grenzhausen
URL:https://juz-zweiteheimat.de/event/weihnachtszauber-2024/
LOCATION:Töpferplatz Höhr-Grenzhausen\, Töpferstrasse\, Höhr-Grenzhausen\, 56203\, Deutschland
ATTACH;FMTTYPE=image/jpeg:https://juz-zweiteheimat.de/wp-content/uploads/2024/09/Plakat-Weihnachtszauber-2024-web.jpg
END:VEVENT
BEGIN:VEVENT
DTSTART;TZID=Europe/Berlin:20241213T200000
DTEND;TZID=Europe/Berlin:20241213T200000
DTSTAMP:20260420T162708
CREATED:20240612T073322Z
LAST-MODIFIED:20241010T142546Z
UID:10000332-1734120000-1734120000@juz-zweiteheimat.de
SUMMARY:Handwerker Peters „Drauß‘ von der Baustell‘ komm‘ ich her“ am 13. Dezember 2024
DESCRIPTION:Das ultimative Handwerker-Weihnachts-Comedy-Special. Hier lachen Sie sich keinen Ast\, sondern gleich eine ganze Tanne. Wir alle kennen Weihnachten – aber wie überleben wir die Zeit von „Leise rieselt der Stress“?\nHandwerker Peters\, von seinen Kollegen nur HP genannt\, feiert Weihnachten. Und wie man es von einem begnadeten Fachmann erwarten kann\, geht alles drunter und drüber und funktioniert schließlich doch perfekt. HP liefert grandiose Sketche rund um das Weihnachtsfest. Der Eifelaner Comeyblitz zeigt uns\, wie man mit den einfachsten Mitteln weihnachtliche Stimmung erzeugen kann: Geschenke kreativ basteln – Bauschaum ersetzt die Präzision. Adventskranz praktisch anfertigen – Zündkerzen stecken in Fleischwurstkringel. Kerzen effizient anzünden – Schweißbrenner entzündet ganze Tanne. Zwei Stunden Kabarett zum Festtags-Stress vom Handwerker mit dem Wohlfühl-Faktor. Wer nicht weiß\, was er sich\, seinem Freundeskreis oder Betrieb schenken kann\, kann ja diese Show verschenken. In diesem Fall liefert HP noch fertige Bastel-Tipps\, wie man z.B. einen Weihnachtsstern und Krippentiere mit dem Handwerker Peters-Zollstock erschafft. \nHinter HP steckt der Komiker Kai Kramosta (Fernsehauftritte u.a. bei WDR & ARD\, Radiocomedy u.a. bei SWR3; ausgezeichnet als „Comedian & Kabarettist des Jahres“ vom Deutschen Künstlermagazin). Seine Sketch-Serie „HP – Handwerker Peters“ ist jetzt schon in den sozialen Medien ein Hit (insgesamt über vier Millionen Aufrufe bei Facebook\, Instagram und YouTube). \n„Die lustigste Weihnachtsshow im Advent bietet Handwerker Peters.“ blick aktuell \n„Verwandlungskunst und Spielfreude machen dieses Kabarettstück zu einem Highlight.“ westfälische nachrichten \n„Er verstand es\, … das erfahrene und anspruchsvolle Publikum zu Begeisterungsstürmen hinzureißen.“ aachener zeitung \nAm Freitag\, 13. Dezember 2024 um 20 Uhr im Kulturzentrum “Zweite Heimat”\, Mittelstraße 7 in Höhr-Grenzhausen. Karten sind erhältlich unter Tel.: 02624/7257 oder online unter www.juz-zweiteheimat.de und kosten im VVK: 18\,- Euro\, an der AK: 20\,- Euro. \nKartenreservierung Handwerker Peters „Drauß‘ von der Baustell‘ komm‘ ich her“ am 13. Dezember 2024Bitte aktiviere JavaScript in deinem Browser\, um dieses Formular fertigzustellen.VeranstaltungstitelAnzahl der Karten *12345678910Name *Telefon *E-Mail *StraßePLZ/OrtNewsletterJa\, ich möchte den Newsletter mit regelmäßigen Informationen über Veranstaltungen des Jugend- und Kulturzentrum "Zweite Heimat" erhalten.Datenschutz *Mit dem Absenden Ihrer Anfrage erklären Sie sich mit der Verarbeitung Ihrer angegebenen Daten zum Zweck der Bearbeitung Ihrer Anfrage einverstanden.https://www.juz-zweiteheimat.de/datenschutzerklaerungJetzt reservieren
URL:https://juz-zweiteheimat.de/event/handwerker-peters-drauss-von-der-baustell-komm-ich-her-am-13-dezember-2024/
LOCATION:Jugend-\, Kultur- und Bürgerzentrum “Zweite Heimat”\, Mittelstraße 7\, Höhr-Grenzhausen\, Rheinland-Pfalz\, 56203\, Germany
ATTACH;FMTTYPE=image/jpeg:https://juz-zweiteheimat.de/wp-content/uploads/2024/06/Handwerker-Peters-Weihnachts-Plakat-A6-300dpi.jpg
ORGANIZER;CN="Jugend-%2C Kultur- und B%C3%BCrgerzentrum 'Zweite Heimat'":MAILTO:info@juz-zweiteheimat.de
END:VEVENT
END:VCALENDAR