BEGIN:VCALENDAR
VERSION:2.0
PRODID:-//Jugend-, Kultur- und Bürgerzentrum &quot;Zweite Heimat&quot; - ECPv6.15.20//NONSGML v1.0//EN
CALSCALE:GREGORIAN
METHOD:PUBLISH
X-WR-CALNAME:Jugend-, Kultur- und Bürgerzentrum &quot;Zweite Heimat&quot;
X-ORIGINAL-URL:https://juz-zweiteheimat.de
X-WR-CALDESC:Veranstaltungen für Jugend-, Kultur- und Bürgerzentrum &quot;Zweite Heimat&quot;
REFRESH-INTERVAL;VALUE=DURATION:PT1H
X-Robots-Tag:noindex
X-PUBLISHED-TTL:PT1H
BEGIN:VTIMEZONE
TZID:Europe/Berlin
BEGIN:DAYLIGHT
TZOFFSETFROM:+0100
TZOFFSETTO:+0200
TZNAME:CEST
DTSTART:20240331T010000
END:DAYLIGHT
BEGIN:STANDARD
TZOFFSETFROM:+0200
TZOFFSETTO:+0100
TZNAME:CET
DTSTART:20241027T010000
END:STANDARD
BEGIN:DAYLIGHT
TZOFFSETFROM:+0100
TZOFFSETTO:+0200
TZNAME:CEST
DTSTART:20250330T010000
END:DAYLIGHT
BEGIN:STANDARD
TZOFFSETFROM:+0200
TZOFFSETTO:+0100
TZNAME:CET
DTSTART:20251026T010000
END:STANDARD
BEGIN:DAYLIGHT
TZOFFSETFROM:+0100
TZOFFSETTO:+0200
TZNAME:CEST
DTSTART:20260329T010000
END:DAYLIGHT
BEGIN:STANDARD
TZOFFSETFROM:+0200
TZOFFSETTO:+0100
TZNAME:CET
DTSTART:20261025T010000
END:STANDARD
END:VTIMEZONE
BEGIN:VEVENT
DTSTART;TZID=Europe/Berlin:20250109T190000
DTEND;TZID=Europe/Berlin:20250109T190000
DTSTAMP:20260420T150231
CREATED:20240912T101759Z
LAST-MODIFIED:20240912T101834Z
UID:10000342-1736449200-1736449200@juz-zweiteheimat.de
SUMMARY:Konzert mit Riosentí (Mexiko & Argentinien) am 09. Januar 2025
DESCRIPTION:Riosentí ist ein nomadisches Musikprojekt mit lateinamerikanischen Wurzeln\, das auf liebevolle Art geografische und kulturelle Grenzen überwindet. Josue Avalos (México) und Aline Novaro (Argentinien) erzählen ihre Geschichten in selbstkreierten verzaubernden Texten und Melodien\,  wobei sie treffsicher auch traditionelle Rhythmen und Energien in ihre Songs integrieren\, die uns vom Süden des amerikanischen Kontinents bis in die nördlichen Wüsten Mexicos hin mitnehmen. Dabei gelingt es ihnen stets ihre Zuhörer mit inspirativen akustischen Pinselstrichen\, die von ihren Reisen und Heimaten auf der ganzen Welt erzählen\, zu überraschen. \nBegleitet wird der gefühlvolle Gesang durch die klassische Guitarre und andere verwandte Instrumente wie die aus México stammende Requinto Jaroche und die Jarana\, die venezuelanische Cuatro\, sowie die südamerikanische Ronroco. Dies verleiht dem synkretischen Klang ihrer Musik und ihrem künstlerischen Ausdruck einen ganz besonderen Akzent. \nSeit ihrer Gründung veröffentlichten Riosentí drei Alben\, Vertrauen (21016)\, Rauz de viento (2018) und Ser Feliz (hecho) en casa (2022). Der überzeugende musikalische Gehalt der Songs wird durch die darin angesprochenen persönlichen Themen und Erzählungen\, wie auch durch die vielfältig verwendeten traditionellen Instrumente\, die hier eine einfühlsame wie auch aktuelle Sprache sprechen\, geschaffen. \nIhr organischer Stil und die authentische Verbundenheit mit ihrer Präsenz auf der Bühne eröffneten Riosentí in kurzer Zeit bereits vielfältige Gelegenheiten ihre Kunst in kulturellen Zentren und auf Festivals in über zehn Ländern; unter anderem in Deutschland\, Frankreich\, Argentinien\, Schweiz\, México\, Portugal\, Kroatien\, Finnland\, Spanien\, Montenegro\, Belgien\, Niederlande und Norwegen; zu präsentieren. \n\nAm Donnerstag\, 09. Januar 2025 um 19.00 Uhr im Jugend- und Kulturzentrum “Zweite Heimat” in der Mittelstrasse 7 in Höhr-Grenzhausen. Tickets sind erhältlich unter Tel.: 02624/7257 oder online unter www.juz-zweiteheimat.de und kosten im VVK: 16\,- Euro\, an der AK: 18\,- Euro. \nKartenreservierungBitte aktiviere JavaScript in deinem Browser\, um dieses Formular fertigzustellen.VeranstaltungstitelAnzahl der Karten *12345678910Name *Telefon *E-Mail *StraßePLZ/OrtVerbindliche Reservierung *Mit Absenden Ihrer Reservierung über unser Onlineformular erklären Sie sich mit der verbindlichen Buchung der ausgewählten Tickets einverstanden. Bitte beachten Sie\, dass Ihre Reservierung zahlungspflichtig ist und nach erfolgreicher Bestätigung nicht mehr kostenfrei storniert werden kann.NewsletterJa\, ich möchte den Newsletter mit regelmäßigen Informationen über Veranstaltungen des Jugend- und Kulturzentrum "Zweite Heimat" erhalten.Datenschutz *Mit dem Absenden Ihrer Anfrage erklären Sie sich mit der Verarbeitung Ihrer angegebenen Daten zum Zweck der Bearbeitung Ihrer Anfrage einverstanden.https://www.juz-zweiteheimat.de/datenschutzerklaerungJetzt reservieren
URL:https://juz-zweiteheimat.de/event/konzert-mit-riosenti-mexiko-argentinien-am-09-januar-2025/
LOCATION:Jugend-\, Kultur- und Bürgerzentrum “Zweite Heimat”\, Mittelstraße 7\, Höhr-Grenzhausen\, Rheinland-Pfalz\, 56203\, Germany
ATTACH;FMTTYPE=image/jpeg:https://juz-zweiteheimat.de/wp-content/uploads/2024/06/Riosenti-IMG_8148.jpeg
ORGANIZER;CN="Jugend-%2C Kultur- und B%C3%BCrgerzentrum 'Zweite Heimat'":MAILTO:info@juz-zweiteheimat.de
END:VEVENT
BEGIN:VEVENT
DTSTART;TZID=Europe/Berlin:20250118T200000
DTEND;TZID=Europe/Berlin:20250118T200000
DTSTAMP:20260420T150231
CREATED:20231204T092442Z
LAST-MODIFIED:20231204T092442Z
UID:10000294-1737230400-1737230400@juz-zweiteheimat.de
SUMMARY:"Harald Becker singt Reinhard Mey - aber nicht nur" am 18. Januar 2025
DESCRIPTION:Harald Becker\, Sänger\, Gitarrist und “Mey”-Interpret\, präsentiert sein neues Programm “Harald Becker singt Reinhard Mey – aber nicht nur” zusammen mit seinem Sohn Jonas an der 2. Gitarre\, Akkordeon und Keyboard.\nZu hören sind Geschichten zum Mey-Progamm\, u.a. Lieder wie “Herbstgewitter über Dächer”\, “Diplomatenjagt”\, “Ich wollte wie Orpheus singen”\, “Über den Wolken” oder “Viertel vor Sieben”\, aber auch Stücke von Hannes Wader oder Simon & Garfunkel werden zu hören sein – Ein Musikgenuss\, auch zum mitsingen! \nAm Samstag\, 18. Janaur 2025 um 20 Uhr im Kulturzentrum “Zweite Heimat” in Höhr-Grenzhausen. Tieckts sind erhältlich unter 02624/7257 oder online unter www.juz-zweiteheimat.de und kosten im VVK: 18\,- an der AK: 20\,- Euro. \nKartenreservierungBitte aktiviere JavaScript in deinem Browser\, um dieses Formular fertigzustellen.VeranstaltungstitelAnzahl der Karten *12345678910Name *Telefon *E-Mail *StraßePLZ/OrtVerbindliche Reservierung *Mit Absenden Ihrer Reservierung über unser Onlineformular erklären Sie sich mit der verbindlichen Buchung der ausgewählten Tickets einverstanden. Bitte beachten Sie\, dass Ihre Reservierung zahlungspflichtig ist und nach erfolgreicher Bestätigung nicht mehr kostenfrei storniert werden kann.NewsletterJa\, ich möchte den Newsletter mit regelmäßigen Informationen über Veranstaltungen des Jugend- und Kulturzentrum "Zweite Heimat" erhalten.Datenschutz *Mit dem Absenden Ihrer Anfrage erklären Sie sich mit der Verarbeitung Ihrer angegebenen Daten zum Zweck der Bearbeitung Ihrer Anfrage einverstanden.https://www.juz-zweiteheimat.de/datenschutzerklaerungJetzt reservieren  \n 
URL:https://juz-zweiteheimat.de/event/harald-becker-singt-reinhard-mey-aber-nicht-nur-am-18-januar-2025/
LOCATION:Jugend-\, Kultur- und Bürgerzentrum “Zweite Heimat”\, Mittelstraße 7\, Höhr-Grenzhausen\, Rheinland-Pfalz\, 56203\, Germany
ATTACH;FMTTYPE=image/jpeg:https://juz-zweiteheimat.de/wp-content/uploads/2023/12/Harald-Becker.jpg
ORGANIZER;CN="Jugend-%2C Kultur- und B%C3%BCrgerzentrum 'Zweite Heimat'":MAILTO:info@juz-zweiteheimat.de
END:VEVENT
BEGIN:VEVENT
DTSTART;TZID=Europe/Berlin:20250123T190000
DTEND;TZID=Europe/Berlin:20250123T210000
DTSTAMP:20260420T150231
CREATED:20241230T160705Z
LAST-MODIFIED:20241230T162944Z
UID:10000370-1737658800-1737666000@juz-zweiteheimat.de
SUMMARY:Konzert & Lesung: „Ich wand’re durch Theresienstadt“ - Opus 45 und Roman Knizka und Zeitzeugin Edith Erbrich
DESCRIPTION:Das Ensemble Opus45 ist deutschlandweit für die ansprechende und eindrückliche Aufarbeitung und Darbietung historischer und politischer Inhalte bekannt. Am Donnerstag\, 23. Januar\, sind die fünf Musikerinnen und Musiker zusammen mit dem bekannten Schauspieler Roman Knizka zum vierten Mal zu Gast in Höhr-Grenzhausen. Diesmal kommen sie gemeinsam mit der Theresienstadt-Überlebenden und Zeitzeugin Edith Erbrich. \nIm Konzert um 19 Uhr in der Aula der Ernst-Barlach-Realschule werden die Schicksale von Menschen im Lager Theresienstadt in der Musik und den Texten anschaulich. Sie geben den Menschen ihre Geschichten zurück\, damit sie nicht nur als Opfer eines grausamen Regimes in Erinnerung bleiben. \n \nSolche Vergegenwärtigung ist durch seine behutsame\, aber auch deutliche Darstellung\, nicht nur Erinnerungsarbeit\, sondern unverzichtbarer Teil der Auseinandersetzung mit aktuellen rechtsextremen und demokratiefeindlichen Strömungen. \nWeitere Informationen zum Programm auch unter www.opus45.de \nDas Ensemble führt am Vormittag des 23.01. einen Workshop mit Schülerinnen und Schülern der Oberstufe des Gymnasiums im Kannenbäckerland durch. Die etwa 40 Schülerinnen und Schüler wirken ebenfalls an einer Stelle im abendlichen Konzert mit. \nVeranstaltet werden Workshop und Lesung von der Ev. Kirchengemeinde Höhr-Grenzhausen in Kooperation mit dem Jugend-\, Kultur- und Bürgerzentrum „Zweite Heimat“. Ermöglicht wird beides durch die Partnerschaft für Demokratie im Kannenbäckerland\, das Bundesprogramm „Demokratie leben“\, gefördert durch das Bundesministerium für Familien\, Senioren\, Frauen und Jugend. \n \nWir möchten grundsätzlich allen die Teilnahme an der Veranstaltung ermöglichen und erheben deswegen keinen verpflichtenden Eintritt. Wir bitten um einen freiwilligen Kostenbeitrag in Höhe von 15 Euro. Bitte melden Sie sich in jedem Fall an! \nInfos und Rückfragen an Pfarrerin Monika Christ\, Tel. 02624 – 948131. \nAm Donnerstag\, 23. Januar 2025 um 19.00 Uhr in der Aula der Ernst-Barlach-Realschule plus\, Am Scheidberg 2 in 56203 Höhr-Grenzhausen. Sitzplätze müssen unbedingt über das untenstehende Formular reserviert werden. \nKartenreservierung Konzert & Lesung: „Ich wand’re durch Theresienstadt“ am 23. Januar 2025Bitte aktiviere JavaScript in deinem Browser\, um dieses Formular fertigzustellen.VeranstaltungstitelAnzahl der Karten *12345678910Wir möchten grundsätzlich allen die Teilnahme an der Veranstaltung ermöglichen und erheben deswegen keinen verpflichtenden Eintritt. Wir bitten um einen freiwilligen Kostenbeitrag in Höhe von 15 Euro. *Ja\, ich zahle freiwillig 15\,- Euro/Person bar an der AbendkasseIch möchte die Veranstaltung kostenfrei besuchen.Name *Telefon *E-Mail *StraßePLZ/OrtNewsletterJa\, ich möchte den Newsletter mit regelmäßigen Informationen über Veranstaltungen des Jugend- und Kulturzentrum "Zweite Heimat" erhalten.Datenschutz *Mit dem Absenden Ihrer Anfrage erklären Sie sich mit der Verarbeitung Ihrer angegebenen Daten zum Zweck der Bearbeitung Ihrer Anfrage einverstanden.https://www.juz-zweiteheimat.de/datenschutzerklaerungJetzt reservieren
URL:https://juz-zweiteheimat.de/event/konzert-lesung-ich-wandre-durch-theresienstadt-opus-45-und-roman-knizka-und-zeitzeugin-edith-erbrich/
LOCATION:Aula der Ernst-Barlach-Realschule plus\, Am Scheidberg 2\, Höhr-Grenzhausen\, 56203\, Deutschland
ATTACH;FMTTYPE=image/jpeg:https://juz-zweiteheimat.de/wp-content/uploads/2024/12/2025-01-23-Opus-45-Theresienstadt.jpg
ORGANIZER;CN="Ev. Kirchengemeinde H%C3%B6hr-Grenzhausen":MAILTO:monika.christ3@ekhn.de
END:VEVENT
BEGIN:VEVENT
DTSTART;TZID=Europe/Berlin:20250125T200000
DTEND;TZID=Europe/Berlin:20250125T200000
DTSTAMP:20260420T150231
CREATED:20240202T122641Z
LAST-MODIFIED:20250124T150551Z
UID:10000307-1737835200-1737835200@juz-zweiteheimat.de
SUMMARY:Till Frömmel live! – NORDLICHT  Impro-Comedy & Magie am 25. Januar 2025
DESCRIPTION:Irrwitziges Improvisationstalent trifft auf überraschende Zauberkunst: Till Frömmel ist der Wirbelwind des Nordens und kommt mit seiner neuen Show nach Höhr-Grenzhausen – versprochen ist ein Abend mit rasanter Comedy und einzigartigen Illusionen rund um seine Heimat an der Ostsee. \nAm 25.01.2025 lädt das Nordlicht zu seiner gleichnamigen Show in das Jugend\,- Kultur- und Bürgerzentrum “Zweite Heimat” ein. In verrückten Improspielen holt der sympathische Möwenflüsterer das Publikum mit ins Boot und lässt es sogar selbst ans Steuerrad. Till bittet zu einer magischen Teezeremonie\, lässt Schiffe im Bermudadreieck verschwinden und schickt eine Flaschenpost auf wundersame Weise über das weite Meer. Gemeinsam mit allen im Saal erweckt er eine alte skandinavische Sage zum Leben und bringt Helden aus dem Publikum im Licht des Leuchtturms zum Strahlen – immer augenzwinkernd dank grandios improvisiertem Seemannsgarn und genialer Schlagfertigkeit. \n„NORDLICHT“ ist eine Show mit Impro-Comedy und Magie so wirbelig wie der Wind\, abwechslungsreich wie die sprudelnde See und dennoch mit beruhigendem Tiefgang. Till Frömmel ist live auf Tour ein absolutes Erlebnis – jedes Mal neu\, jedes Mal anders! \nAm Samstag\, 25. Januar 2025 um 20 Uhr im Kulturzentrum “Zweite Heimat” in Höhr-Grenzhausen. Karten sind erhältlich unter Tel.: 02624/7257 oder online unter www.juz-zweiteheimat.de und kosten im VVK: 18\,- Euro\, an der AK: 20\,- Euro\, Schüler 12\,- Euro. \n \nKartenreservierung Till Frömmel – “Nordlicht” am 25. Januar 2025Bitte aktiviere JavaScript in deinem Browser\, um dieses Formular fertigzustellen.VeranstaltungstitelAnzahl der Karten *12345678910Name *Telefon *E-Mail *StraßePLZ/OrtNewsletterJa\, ich möchte den Newsletter mit regelmäßigen Informationen über Veranstaltungen des Jugend- und Kulturzentrum "Zweite Heimat" erhalten.Datenschutz *Mit dem Absenden Ihrer Anfrage erklären Sie sich mit der Verarbeitung Ihrer angegebenen Daten zum Zweck der Bearbeitung Ihrer Anfrage einverstanden.https://www.juz-zweiteheimat.de/datenschutzerklaerungJetzt reservieren  \n 
URL:https://juz-zweiteheimat.de/event/till-froemmel-live-nordlicht-comedy-impro-magie-2/
LOCATION:Jugend-\, Kultur- und Bürgerzentrum “Zweite Heimat”\, Mittelstraße 7\, Höhr-Grenzhausen\, Rheinland-Pfalz\, 56203\, Germany
ATTACH;FMTTYPE=image/jpeg:https://juz-zweiteheimat.de/wp-content/uploads/2024/02/Till-Froemmel_Nordlicht_Tour_Plakat_A1_c_Till-Froemmel-scaled.jpg
ORGANIZER;CN="Jugend-%2C Kultur- und B%C3%BCrgerzentrum 'Zweite Heimat'":MAILTO:info@juz-zweiteheimat.de
END:VEVENT
BEGIN:VEVENT
DTSTART;TZID=Europe/Berlin:20250131T200000
DTEND;TZID=Europe/Berlin:20250131T200000
DTSTAMP:20260420T150231
CREATED:20230509T091236Z
LAST-MODIFIED:20241230T144035Z
UID:10000272-1738353600-1738353600@juz-zweiteheimat.de
SUMMARY:Matthias Jung - "Kinder sind was Schönes\, haben sie gesagt - Von der Trotzphase bis zur Pubertät"
DESCRIPTION:Sie haben Kinder? Glückwunsch!\nUnd dann hört sich der Alltag so an:\n„Ich kann alleine…!“\n„Das ist unfair!“\n„Alle anderen dürfen aber!“ \nDazu Medienalltag mit „A ram sam sam“\, Kinder wollen nicht ins Bett und das Essen schmeckt ihnen irgendwie auch nie. Man hätte auch nie gedacht\, dass man ein Brot tatsächlich falsch durchschneiden kann. Ständig große Worte von kleinen Stühlen. Wer da mal zwischendurch entschleunigen möchte\, schaut seinen Kindern morgens einfach beim Anziehen zu. Am Ende aller „Phasen“ folgt die Pubertät. Man muss lernen loszulassen! Am liebsten wohl die Kreditkarte. Dann gibt es noch die elterlichen Zweifel: Wie setze ich Grenzen – bin ich zu streng oder bin ich zu locker? Ist mein Kind reif für die Schule\, und wenn ja\, für welche? Bin ich reif für die Therapie\, und wenn ja\, wer bezahlt mir die? \nAber keine Sorge: Deutschlands bekanntester Familiencoach und SPIEGEL Bestseller Autor Matthias Jung kommt allen Erziehungsberechtigten zu Hilfe. Er liefert Antworten auf Fragen\, die Eltern bewegen. Seine Programme und Vorträge sind eine einzigartige Mischung aus Sachverstand und Humor\, faktenreich und äußerst unterhaltsam. Nah an den Eltern! Nah am Alltag! Nah an unseren Kindern! Eine Erlebnisreise – immer der Phase nach…! \nVITA\nMatthias Jung ist Familiencoach\, Diplom-Pädagoge\, zweifacher Vater und SPIEGEL Bestseller Autor. 2018 erschien mit “Chill mal – Am Ende der Geduld ist noch viel Pubertät übrig” der erfolgreichste Pubertäts-Ratgeber des Jahres\, der mehrere Monate in der SPIEGEL Bestseller Liste vertreten war. Zum Thema Vorpubertät veröffentlichte Matthias 2022 sein Buch “Erziehungsstatus: Kompliziert”. Im Herbst 2024 erscheint sein neues Buch “Immer darf ich alles nie” über die Trotzphase. Matthias Jung ist seit 2005 eine feste Größe auf den Bühnen Deutschlands. Er hat regelmäßig TV-Auftritte\, er hält Vorträge und gibt Coachings und Seminare. Er ist Leiter der größten Pubertäts- Facebook-Gruppe “Keep Cool Mama”\, in der 15.000 Mütter im ständigen Dialog die Probleme der Pubertät analysieren und er produziert den erfolgreichen Podcast “Chill mal – Der Pubertäts AllTalk”. \n Am Freitag\, 31. Januar 2025 um 20.00 Uhr im Jugend- und Kulturzentrum “Zweite Heimat” in Höhr-Grenzhausen. Tickets sind erhältlich unter Tel.: 02624/7257 oder online unter www.juz-zweiteheimat.de und kosten im VVK: 20\,- Euro\, an der AK: 22\,- Euro. \nKartenreservierung Matthias Jung – “Kinder sind was Schönes\, haben sie gesagt – Von der Trotzphase bis zur Pubertät” am 31. Januar 2025Bitte aktiviere JavaScript in deinem Browser\, um dieses Formular fertigzustellen.VeranstaltungstitelAnzahl der Karten *12345678910Name *Telefon *E-Mail *StraßePLZ/OrtNewsletterJa\, ich möchte den Newsletter mit regelmäßigen Informationen über Veranstaltungen des Jugend- und Kulturzentrum "Zweite Heimat" erhalten.Datenschutz *Mit dem Absenden Ihrer Anfrage erklären Sie sich mit der Verarbeitung Ihrer angegebenen Daten zum Zweck der Bearbeitung Ihrer Anfrage einverstanden.https://www.juz-zweiteheimat.de/datenschutzerklaerungJetzt reservieren
URL:https://juz-zweiteheimat.de/event/matthias-jung-kinder-sind-was-schoenes-haben-sie-gesagt-von-der-trotzphase-bis-zur-pubertaet/
LOCATION:Jugend-\, Kultur- und Bürgerzentrum “Zweite Heimat”\, Mittelstraße 7\, Höhr-Grenzhausen\, Rheinland-Pfalz\, 56203\, Germany
ATTACH;FMTTYPE=image/jpeg:https://juz-zweiteheimat.de/wp-content/uploads/2023/05/Matthias-Jung_Kinder-sind-was-schonenes.jpg
ORGANIZER;CN="Jugend-%2C Kultur- und B%C3%BCrgerzentrum 'Zweite Heimat'":MAILTO:info@juz-zweiteheimat.de
END:VEVENT
END:VCALENDAR