BEGIN:VCALENDAR
VERSION:2.0
PRODID:-//Jugend-, Kultur- und Bürgerzentrum &quot;Zweite Heimat&quot; - ECPv6.15.20//NONSGML v1.0//EN
CALSCALE:GREGORIAN
METHOD:PUBLISH
X-ORIGINAL-URL:https://juz-zweiteheimat.de
X-WR-CALDESC:Veranstaltungen für Jugend-, Kultur- und Bürgerzentrum &quot;Zweite Heimat&quot;
REFRESH-INTERVAL;VALUE=DURATION:PT1H
X-Robots-Tag:noindex
X-PUBLISHED-TTL:PT1H
BEGIN:VTIMEZONE
TZID:Europe/Berlin
BEGIN:DAYLIGHT
TZOFFSETFROM:+0100
TZOFFSETTO:+0200
TZNAME:CEST
DTSTART:20250330T010000
END:DAYLIGHT
BEGIN:STANDARD
TZOFFSETFROM:+0200
TZOFFSETTO:+0100
TZNAME:CET
DTSTART:20251026T010000
END:STANDARD
BEGIN:DAYLIGHT
TZOFFSETFROM:+0100
TZOFFSETTO:+0200
TZNAME:CEST
DTSTART:20260329T010000
END:DAYLIGHT
BEGIN:STANDARD
TZOFFSETFROM:+0200
TZOFFSETTO:+0100
TZNAME:CET
DTSTART:20261025T010000
END:STANDARD
BEGIN:DAYLIGHT
TZOFFSETFROM:+0100
TZOFFSETTO:+0200
TZNAME:CEST
DTSTART:20270328T010000
END:DAYLIGHT
BEGIN:STANDARD
TZOFFSETFROM:+0200
TZOFFSETTO:+0100
TZNAME:CET
DTSTART:20271031T010000
END:STANDARD
END:VTIMEZONE
BEGIN:VEVENT
DTSTART;TZID=Europe/Berlin:20260116T170000
DTEND;TZID=Europe/Berlin:20260116T190000
DTSTAMP:20260420T044705
CREATED:20251120T102925Z
LAST-MODIFIED:20260109T150606Z
UID:10000433-1768582800-1768590000@juz-zweiteheimat.de
SUMMARY:Kinderdisco - Glow in the dark am 16. Januar 2026
DESCRIPTION:Tanzen\, Lachen\, Leuchten!\nLeuchtende Neonfarben\, bunte Lichter\, Musik und jede Menge Spaß: Am Freitag\, 16. Januar 2026\, findet im Jugend-\, Kultur- und Bürgerzentrum „Zweite Heimat“ die neue Kinderdisco „Glow in the Dark“ für Kinder von 7 bis 12 Jahren statt. Ab 17:00 Uhr wird der große Saal zum Treffpunkt für kleine Tanzfans; die Disco endet um 19:00 Uhr. Das Motto „Glow in the Dark“ sorgt für ein besonderes Highlight: Im Dunkeln leuchten Neonfarben\, Accessoires und kreative Schminke besonders intensiv. Gerne können alle Kinder in leuchtender Neon-Farbe erscheinen und passende Accessoires tragen. Auf die kleinen Partygäste warten unter anderem eine Neon-Tattoo-Ecke\, Cocktailund Candybar\, Musikquiz\, Dance Battles sowie eine Fotostation für unvergessliche Erinnerungen. Für die passende Musik sorgt der engagierte Ehrenamts-DJ Max. Während die Kinder ausgelassen feiern\, können Eltern zwei entspannte Stunden genießen. \nDer Eintritt ist kostenlos\, die Plätze sind jedoch begrenzt. \nDie „Zweite Heimat“ freut sich auf viele kleine Gäste\, die zwei Stunden lang tanzen\, lachen und im Neonlicht strahlen möchten. \nLeider sind aktuell alle verfügbaren Plätze gebucht. Wir führen eine Warteliste und melden uns\, falls Plätze wieder frei werden. Senden Sie uns dafür bitte eine Email an info@juz-zweiteheimat.de 
URL:https://juz-zweiteheimat.de/event/kinderdisco-glow-in-the-dark-am-16-januar-2026/
LOCATION:Jugend-\, Kultur- und Bürgerzentrum “Zweite Heimat”\, Mittelstraße 7\, Höhr-Grenzhausen\, Rheinland-Pfalz\, 56203\, Germany
ATTACH;FMTTYPE=image/jpeg:https://juz-zweiteheimat.de/wp-content/uploads/2025/11/2026-01-16-Kinderdisco-Glow-in-the-dark.jpg
ORGANIZER;CN="Jugend-%2C Kultur- und B%C3%BCrgerzentrum 'Zweite Heimat'":MAILTO:info@juz-zweiteheimat.de
END:VEVENT
BEGIN:VEVENT
DTSTART;TZID=Europe/Berlin:20260117T200000
DTEND;TZID=Europe/Berlin:20260117T200000
DTSTAMP:20260420T044705
CREATED:20250618T152855Z
LAST-MODIFIED:20251201T101128Z
UID:10000397-1768680000-1768680000@juz-zweiteheimat.de
SUMMARY:RIVERS feat. Gerd Stein live am 17. Januar 2026
DESCRIPTION:Die Lahnsteiner Band RIVERS steht schon seit ihrem Bestehen im Jahr 2019 für ein kluges Konzept zur Vermischung von musikalischen Stilen. Würde man ein Genre bemühen wollen\, wäre „Americana“ die übergreifende Idee; jedoch sehr weit gefasst. Country und Folk\, aber auch Blues und Soul-Elemente finden sich im Programm von RIVERS. Die wunderbaren Stimmen von Sophie Marquet\, Greta Bartz\, Anne Mohrs und Michèle Kristin Gärtner tragen die Songs genussvoll zwei-\, drei-\, oder auch 4-stimmig vor. Eingebettet in die behutsame und gleichwohl virtuose Begleitung von Gerd Steins Gitarre und Jürgen Hierses Kontrabass bekommen die Songs aus dem Great American Songbook einen ganz besonderen Glanz. Für den einfühlsamen Groove sorgt seit kurzem Jürgens Sohn Florian an den Cajon-Drums aufs trefflichste. Fazit: fettes Frauen-Vokal-Brett\, unplugged \n\n\n\nDie Sängerinnen Sophie Marquet\, Greta Bartz\, Anne Mohrs und Michèle Kristin Gärtner verdienten sich die musikalischen Sporen in der Talentschmiede von Christoph Streit. Sie brillierten in verschiedensten Formationen wie Sinking Saloon\, Chorizonte usw.\nJürgen Hierse ist für sein groovy Bassspiel im Rhein-Lahn-Mosel-Delta bestens bekannt und gut beschäftigt bei Gruenspan\, Willi Küppers Trio\, Highball Blues Connection.\nDer Gitarrist Gerd Stein spielte Latin mit Lulo Reinhardt\, Jazz mit Thomas Anders\, Blues mit Ron Williams.\nFlorian Hierse ist ein cool-versierter Nachwuchsdrummer\, tätig vornehmlich in der Würzburger und auch Koblenzer Szene.\n\n\n\n \n \nAm Samstag\, 17. Januar 2026 um 20.00 Uhr (Einlass 19.00 Uhr) im Jugend-\, Kultur- und Bürgerzentrum “Zweite Heimat”\, Mittelstraße 7 in 56203 Höhr-Grenzhausen. Tickets sind erhältlich unter www.juz-zweiteheimat.de und kosten im VVK: 22\,- Euro\, an der AK: 25\,- Euro. \nNach der Reservierung vermerken wir Ihren Namen auf unserer Vorverkaufsliste. Sie zahlen den Eintritt an der Abendkasse vor Ort. Freie Platzwahl. Wir freuen uns auf Ihren Besuch! \nKartenreservierungBitte aktiviere JavaScript in deinem Browser\, um dieses Formular fertigzustellen.VeranstaltungstitelAnzahl der Karten *12345678910Name *Telefon *E-Mail *StraßePLZ/OrtVerbindliche Reservierung *Mit Absenden Ihrer Reservierung über unser Onlineformular erklären Sie sich mit der verbindlichen Buchung der ausgewählten Tickets einverstanden. Bitte beachten Sie\, dass Ihre Reservierung zahlungspflichtig ist und nach erfolgreicher Bestätigung nicht mehr kostenfrei storniert werden kann.NewsletterJa\, ich möchte den Newsletter mit regelmäßigen Informationen über Veranstaltungen des Jugend- und Kulturzentrum "Zweite Heimat" erhalten.Datenschutz *Mit dem Absenden Ihrer Anfrage erklären Sie sich mit der Verarbeitung Ihrer angegebenen Daten zum Zweck der Bearbeitung Ihrer Anfrage einverstanden.https://www.juz-zweiteheimat.de/datenschutzerklaerungJetzt reservieren
URL:https://juz-zweiteheimat.de/event/rivers-feat-gerd-stein-live-am-17-januar-2026/
LOCATION:Jugend-\, Kultur- und Bürgerzentrum “Zweite Heimat”\, Mittelstraße 7\, Höhr-Grenzhausen\, Rheinland-Pfalz\, 56203\, Germany
ATTACH;FMTTYPE=image/jpeg:https://juz-zweiteheimat.de/wp-content/uploads/2025/06/Rivers-2026-scaled.jpg
ORGANIZER;CN="Jugend-%2C Kultur- und B%C3%BCrgerzentrum 'Zweite Heimat'":MAILTO:info@juz-zweiteheimat.de
END:VEVENT
BEGIN:VEVENT
DTSTART;TZID=Europe/Berlin:20260123T183000
DTEND;TZID=Europe/Berlin:20260123T210000
DTSTAMP:20260420T044705
CREATED:20251217T131111Z
LAST-MODIFIED:20251217T131404Z
UID:10000449-1769193000-1769202000@juz-zweiteheimat.de
SUMMARY:Strick-Kino in der "Zweiten Heimat" am 23. Januar 2026
DESCRIPTION:Popcorn war gestern – jetzt klappern die Nadeln!\nDer skandinavische Trend ist endlich bei uns: Strick-Kino verbindet kreatives Handarbeiten mit einem besonderen Kinoerlebnis. Am Freitag\, 23. Januar 2025\, lädt das Jugend-\, Kultur- und Bürgerzentrum „Zweite Heimat“ alle Strick- und Häkel-Fans – und alle\, die einfach Lust auf einen gemütlichen Abend haben – herzlich ein. \nWährend auf der Leinwand der Film läuft\, könnt ihr in entspannter Atmosphäre eure Nadeln tanzen lassen – das leise Klappern wird zum Soundtrack des  Abends. \nWarum dabei sein solltet? Weil Kreativität und Kino hier perfekt zusammenkommen\, der Austausch und Smalltalk mit Gleichgesinnten inspiriert\, einfach Spaß macht und für pure Entspannung sorgt. \nAuch ohne Strickzeug seid ihr willkommen – Hauptsache\, ihr habt Lust auf Gemeinschaft und Filmgenuss!\nEintritt frei · Einlass ab 18:30 Uhr\, Filmstart um 19:00 Uhr in der Zweiten Heimat\, Mittelstraße 7 in Höhr-Grenzhausen. \nBei Infos\, Fragen und Mitteilungen erreicht Ihr uns ab dem 8. Januar 2026 telefonisch unter 026242 / 7257 oder via Email info@juz-zweiteheimat.de. \nTicketreservierung: Strickkino am 23. Januar 2026Bitte aktiviere JavaScript in deinem Browser\, um dieses Formular fertigzustellen.VeranstaltungstitelAnzahl der Karten *12345678910Name *Telefon *E-Mail *Straße *PLZ/Ort *NewsletterJa\, ich möchte den Newsletter mit regelmäßigen Informationen über Veranstaltungen des Jugend- und Kulturzentrum "Zweite Heimat" erhalten.Datenschutz *Mit dem Absenden Ihrer Anfrage erklären Sie sich mit der Verarbeitung Ihrer angegebenen Daten zum Zweck der Bearbeitung Ihrer Anfrage einverstanden.https://www.juz-zweiteheimat.de/datenschutzerklaerungJetzt reservieren
URL:https://juz-zweiteheimat.de/event/strick-kino-in-der-zweiten-heimat-am-23-januar-2026/
LOCATION:Jugend-\, Kultur- und Bürgerzentrum “Zweite Heimat”\, Mittelstraße 7\, Höhr-Grenzhausen\, Rheinland-Pfalz\, 56203\, Germany
ATTACH;FMTTYPE=image/png:https://juz-zweiteheimat.de/wp-content/uploads/2025/12/2026-01-23-Strickkino.png
ORGANIZER;CN="Jugend-%2C Kultur- und B%C3%BCrgerzentrum 'Zweite Heimat'":MAILTO:info@juz-zweiteheimat.de
END:VEVENT
BEGIN:VEVENT
DTSTART;TZID=Europe/Berlin:20260123T190000
DTEND;TZID=Europe/Berlin:20260123T190000
DTSTAMP:20260420T044705
CREATED:20260106T083536Z
LAST-MODIFIED:20260121T095014Z
UID:10000450-1769194800-1769194800@juz-zweiteheimat.de
SUMMARY:Konzert & Lesung: „Deutschland\, siehst du das nicht?“ - Roman Knizka & Opus 45
DESCRIPTION:Die Veranstaltung ist ausverkauft. Es gibt leider keine Plätze mehr.  \nDas Ensemble Opus45 ist wieder gemeinsam mit Schauspieler Roman Knižka in Höhr-Grenzhausen\, diesmal mit ihrem neuesten Programm „Deutschland\, siehst du das nicht?“ Der Titel ist ein scharf formulierter Warnruf vor Radikalisierung\, Gewalt und dem Zerfall demokratischer Normen. Texte und Musik aus den 1930er Jahren entführt in die Zeit des Untergangs der Weimarer Republik und ermutigt gleichzeitig zum Einstehen für die Demokratie heute. \nDas inzwischen sehr bekannte Bläserensemble Opus45 spielt ausgewählte Werke von Kurt Weill bis zu den Comedian Harmonists. Schauspieler Roman Knižka wird Texte von Kurt Tucholsky\, Mascha Kaléko sowie aus den Tagebüchern von Viktor Klemperer erlebbar machen. Ein regionaler Akzent beleuchtet zudem\, wie die Menschen hier vor Ort die politischen Umbrüche dieser Jahre erlebten. \nVeranstaltet wird das Konzert von der Ev. Kirchengemeinde\, unterstützt durch die Stadt und die Verbandsgemeinde Höhr-Grenzhausen\, die Firmen Asa selction und Steuler sowie dem Jugend-\, Kultur- und Bürgerzentrum „Zweite Heimat“. \nDanke\, dass Sie mit ihrem freiwilligen Kostenbeitrag das Konzert unterstützen! Freiwilliger Kostenbeitrag 15\,- Euro \nInfos und Rückfragen an Pfarrerin Monika Christ\, Tel. 02624 – 948131. \nAm Freitag\, 23. Januar 2026 um 19.00 Uhr (Einlass 18.30 Uhr) in der Kantine Steuler\, Georg-Steuler-Str. 39 in 56203 Höhr-Grenzhausen. Sitzplätze müssen unbedingt über das untenstehende Formular reserviert werden. \nWichtiger Hinweis: Der Veranstaltungsort ist barrierefrei zugänglich\, allerdings steht kein barrierefreies WC zur Verfügung. \nDie Veranstaltung ist ausverkauft. Es gibt leider keine Plätze mehr. 
URL:https://juz-zweiteheimat.de/event/konzert-lesung-deutschland-siehst-du-das-nicht-roman-knizka-opus-45/
LOCATION:Kantine Steuler\, Georg-Steuler-Str. 39\, Höhr-Grenzhausen\, 56203\, Germany
ATTACH;FMTTYPE=image/jpeg:https://juz-zweiteheimat.de/wp-content/uploads/2026/01/2026-01-23-Opus45.jpg
ORGANIZER;CN="Ev. Kirchengemeinde H%C3%B6hr-Grenzhausen":MAILTO:monika.christ3@ekhn.de
END:VEVENT
BEGIN:VEVENT
DTSTART;TZID=Europe/Berlin:20260127T190000
DTEND;TZID=Europe/Berlin:20260127T190000
DTSTAMP:20260420T044705
CREATED:20250220T140610Z
LAST-MODIFIED:20260126T123623Z
UID:10000380-1769540400-1769540400@juz-zweiteheimat.de
SUMMARY:Multivisionsshow "DAUMEN HOCH - Eine Abenteuerreise per Anhalter vom Bodensee nach Fernost"
DESCRIPTION:Es ist März 2020 als Bastian und seine Frau Viviane auf eine Reise nach Japan aufbrechen wollen. Den Daumen hoch strecken und per Anhalter zu den Olympischen Spielen nach Tokyo reisen: Das ist das Ziel. “Wir sind Startklar”\, dachten die beiden. Doch dann kam alles anders. “Daumen Hoch” ist ein 110 Minuten Live-Vortrag von Bastian Maria über eine etwas andere Abenteuerreise. Ein Bericht über Herausforderungen\, Planänderungen und besonderen Begegnungen mit Menschen fremder Kulturen. \nIn seinem Multivisionsvortrag lässt uns Bastian Maria mit Bildern\, Videos und Geschichten an persönlichen Eindrücken seiner 1\,5 jahrelangen Weltreise teilhaben. Bastian nimmt dich mit auf Reisen und berichtet unter anderem über die Arbeit als Volontär auf einer Pferde Ranch in Kapadokien\, wie er und Viviane in Kirgisien traditionelle Adlerjäger trafen und warum beide von der Pakistanischen Polizei in Multan verhaftet wurden. Erfahre\, welche Situationen Bastian und Viviane als Tramper und Couchsurfer in Ländern wie der Türkei oder Sri Lanka öfters an die Grenzen ihrer persönlichen Comfortzone brachten. \nMit 15 Jahren Erfahrungen im individuellen Backpacking durften Viviane und Bastian nicht nur unvergessliche Momente erleben\, sondern gleichzeitig das Leben eines digitalen Nomaden kennen lernen. Mit dem Motto “Reisen ist der beste Weg Geld auszugeben und trotzdem reicher zu werden”\, teilt Bastian in dem Vortrag “Daumen Hoch”\, wie es möglich war mit 3€ am Tag in der Welt unterwegs zu sein. \nWie hat sich ihr Ziel während der Reise verändert? Die eigentliche Route mussten Bastian und Viviane mehrfach verlassen. Es eröffneten sich Wege\, die so vorher nicht geplant waren. Sie starteten auf unbegrenzte Zeit\, doch nach 1\,5 Jahren gab es einen Grund die Reise zu unterbrechen. \nFreue dich auf einen Live-Vortrag mit viel Persönlichkeit und dem Mut\, Neues zu wagen… \n\nAm Dienstag\, 27. Januar 2026 um 19.00 Uhr im Jugend-\, Kultur- und Bürgerzentrum „Zweite Heimat“\, Mittelstraße 7 in Höhr-Grenzhausen. Tickets sind erhältlich unter www.juz-zweiteheimat.de und kosten im VVK: 18\,- Euro\, an der AK: 22\,- Euro. \nNach der Reservierung vermerken wir Ihren Namen auf unserer Vorverkaufsliste. Sie zahlen den Eintritt an der Abendkasse vor Ort. Freie Platzwahl. Wir freuen uns auf Ihren Besuch! \nKartenreservierungBitte aktiviere JavaScript in deinem Browser\, um dieses Formular fertigzustellen.VeranstaltungstitelAnzahl der Karten *12345678910Name *Telefon *E-Mail *StraßePLZ/OrtVerbindliche Reservierung *Mit Absenden Ihrer Reservierung über unser Onlineformular erklären Sie sich mit der verbindlichen Buchung der ausgewählten Tickets einverstanden. Bitte beachten Sie\, dass Ihre Reservierung zahlungspflichtig ist und nach erfolgreicher Bestätigung nicht mehr kostenfrei storniert werden kann.NewsletterJa\, ich möchte den Newsletter mit regelmäßigen Informationen über Veranstaltungen des Jugend- und Kulturzentrum "Zweite Heimat" erhalten.Datenschutz *Mit dem Absenden Ihrer Anfrage erklären Sie sich mit der Verarbeitung Ihrer angegebenen Daten zum Zweck der Bearbeitung Ihrer Anfrage einverstanden.https://www.juz-zweiteheimat.de/datenschutzerklaerungJetzt reservieren
URL:https://juz-zweiteheimat.de/event/multivisionsshow-daumen-hoch-eine-abenteuerreise-per-anhalter-vom-bodensee-nach-fernost/
LOCATION:Jugend-\, Kultur- und Bürgerzentrum “Zweite Heimat”\, Mittelstraße 7\, Höhr-Grenzhausen\, Rheinland-Pfalz\, 56203\, Germany
CATEGORIES:Reisevortrag
ATTACH;FMTTYPE=image/jpeg:https://juz-zweiteheimat.de/wp-content/uploads/2025/02/Daumen-hoch_Plakat.jpg
ORGANIZER;CN="Jugend-%2C Kultur- und B%C3%BCrgerzentrum 'Zweite Heimat'":MAILTO:info@juz-zweiteheimat.de
END:VEVENT
BEGIN:VEVENT
DTSTART;TZID=Europe/Berlin:20260130T200000
DTEND;TZID=Europe/Berlin:20260130T200000
DTSTAMP:20260420T044705
CREATED:20241008T101914Z
LAST-MODIFIED:20260126T124125Z
UID:10000349-1769803200-1769803200@juz-zweiteheimat.de
SUMMARY:Kabarett: Hans Gerzlich "Ich hatte mich jünger in Erinnerung"
DESCRIPTION:“Ich hatte mich jünger in Erinnerung (Ein Best Ager in der Blüte des Verfalls)”\n \nHans Gerzlich ist entsetzt\, als er plötzlich feststellt\, dass er im gleichen Jahr geboren ist wie… alte Leute. In den Werbepausen seiner Lieblingssendung werden keine verführerischen Aftershaves und rasante Sportwagen mehr angeboten\, sondern Granufink\, Voltaren und Wärmepflaster. Außen 50\, innen 20\, fragt er sich”Wann fängt das Leben endlich an?” da schneitaber schon wieder die “Persönliche Renteninformation” ins Haus.Der frischgebackene Best Agerhat ausgerechnet: Wenn er mit 67 in Rente geht\, kann er davon recht komfortabel leben für elf Tage. Deshalb hofft er auf Erhöhung des Flaschenpfands. Aber auch über das Verdrängen des eigenen Ablebens denkt er nach. Über verpasste Chancen\, dafür zunehmende Gelassenheit\, wie ein neue Altersethik aussehen müsste\, in er Wirtschaftlichkeit zwar eine Rolle\, aber nicht die 1. Geige spielt und welche Sprache er am besten noch lernt\, um sich später mit seiner Pflegekraft verständigen zu können. \nBei diesem Kabarettprogramm werden Sie sich kringelig lachen\, wenn sie 50 sind\, mal 50 waren oder vorhaben\, irgendwann 50 zu werden. Aber Achtung: Sie werden anschließend schon wieder zwei Stunden älter sein und etliche Lachfalten mehr haben. \nAm Freitag\, 30. Januar 2026 um 20 Uhr im Jugend-\, Kultur- und Bürgerzentrum “Zweite Heimat”\, Mittelstraße 7 in Höhr-Grenzhausen. Karten sind erhältlich unter www.juz-zweiteheimat.de und kosten im VVK: 22\,- Euro\, an der AK: 24\,- Euro. \nNach der Reservierung vermerken wir Ihren Namen auf unserer Vorverkaufsliste. Sie zahlen den Eintritt an der Abendkasse vor Ort. Freie Platzwahl. Wir freuen uns auf Ihren Besuch! \nDie Veranstaltung ist ausverkauft! Wenn Sie möchten\, vermerken wir Sie auf unserer Warteliste und informieren Sie umgehend\, sollten Plätze frei werden. Senden Sie uns dafür bitte eine Email unter Angabe Ihrer Telefonnummer\, ihrer E-Mailadresse und der Anzahl der gewünschten Plätze an info@juz-zweiteheimat.de
URL:https://juz-zweiteheimat.de/event/kabarett-hans-gerzlich-ich-hatte-mich-juenger-in-erinnerung/
LOCATION:Jugend-\, Kultur- und Bürgerzentrum “Zweite Heimat”\, Mittelstraße 7\, Höhr-Grenzhausen\, Rheinland-Pfalz\, 56203\, Germany
CATEGORIES:Kabarett
ATTACH;FMTTYPE=image/jpeg:https://juz-zweiteheimat.de/wp-content/uploads/2024/10/Gerzlich_Best-Ager_50.jpg
ORGANIZER;CN="Jugend-%2C Kultur- und B%C3%BCrgerzentrum 'Zweite Heimat'":MAILTO:info@juz-zweiteheimat.de
END:VEVENT
END:VCALENDAR