BEGIN:VCALENDAR
VERSION:2.0
PRODID:-//Jugend-, Kultur- und Bürgerzentrum &quot;Zweite Heimat&quot; - ECPv6.15.20//NONSGML v1.0//EN
CALSCALE:GREGORIAN
METHOD:PUBLISH
X-ORIGINAL-URL:https://juz-zweiteheimat.de
X-WR-CALDESC:Veranstaltungen für Jugend-, Kultur- und Bürgerzentrum &quot;Zweite Heimat&quot;
REFRESH-INTERVAL;VALUE=DURATION:PT1H
X-Robots-Tag:noindex
X-PUBLISHED-TTL:PT1H
BEGIN:VTIMEZONE
TZID:Europe/Berlin
BEGIN:DAYLIGHT
TZOFFSETFROM:+0100
TZOFFSETTO:+0200
TZNAME:CEST
DTSTART:20250330T010000
END:DAYLIGHT
BEGIN:STANDARD
TZOFFSETFROM:+0200
TZOFFSETTO:+0100
TZNAME:CET
DTSTART:20251026T010000
END:STANDARD
BEGIN:DAYLIGHT
TZOFFSETFROM:+0100
TZOFFSETTO:+0200
TZNAME:CEST
DTSTART:20260329T010000
END:DAYLIGHT
BEGIN:STANDARD
TZOFFSETFROM:+0200
TZOFFSETTO:+0100
TZNAME:CET
DTSTART:20261025T010000
END:STANDARD
BEGIN:DAYLIGHT
TZOFFSETFROM:+0100
TZOFFSETTO:+0200
TZNAME:CEST
DTSTART:20270328T010000
END:DAYLIGHT
BEGIN:STANDARD
TZOFFSETFROM:+0200
TZOFFSETTO:+0100
TZNAME:CET
DTSTART:20271031T010000
END:STANDARD
END:VTIMEZONE
BEGIN:VEVENT
DTSTART;TZID=Europe/Berlin:20260203T150000
DTEND;TZID=Europe/Berlin:20260203T180000
DTSTAMP:20260419T231518
CREATED:20260126T111832Z
LAST-MODIFIED:20260126T111832Z
UID:10000453-1770130800-1770141600@juz-zweiteheimat.de
SUMMARY:Repair Café am 03. Februar 2026
DESCRIPTION:Repair Café startet ins neue Jahr – Gemeinsam reparieren in Höhr-Grenzhausen \nNach der Weihnachtspause öffnet das Repair Café in Höhr-Grenzhausen wieder seine Türen: Am Dienstag\, den 3. Februar 2026\, lädt das ehrenamtliche Team des Repair Cafés in das Jugend-\, Kultur- und Bürgerzentrum „Zweite Heimat“ zum ersten Repair Café des neuen Jahres ein. Zwischen 15:00 und 18:00 Uhr (letzte Annahme um 17:00 Uhr) haben Besucherinnen und Besucher die Möglichkeit\, defekte Alltagsgegenstände mitzubringen und gemeinsam mit erfahrenen Ehrenamtlichen zu reparieren. Unter dem bewährten Motto „Reparieren statt Wegwerfen“ treffen sich auch im neuen Jahr Menschen aus der Region\, um kaputten Dingen neues Leben einzuhauchen. Ob Elektrogeräte\, Kleidung\, Kleinmöbel oder Haushaltsgegenstände – vieles lässt sich mit etwas Geduld\, handwerklichem Geschick und fachkundiger Unterstützung wieder instand setzen. Dabei stehen nicht nur Nachhaltigkeit und Ressourcenschonung im Vordergrund\, sondern auch der Austausch von Wissen und das Miteinander. „Gerade nach den Feiertagen bringen viele Menschen Dinge mit\, die sie eigentlich schon abgeschrieben hatten“\, berichtet das Repair-Café-Team. „Oft zeigt sich\, dass mit ein paar Handgriffen noch viel zu retten ist – und genau das macht den Reiz unseres Angebots aus.“ \nSeit über einem Jahr findet das Repair Café jeden ersten Dienstag im Monat in der „Zweiten Heimat“ statt und hat sich zu einem festen Treffpunkt für alle Generationen entwickelt. Hier wird geschraubt\, genäht\, gelötet\, gefachsimpelt und gelacht. Auch Gäste ohne Reparaturanliegen sind herzlich willkommen – sei es zum Zuschauen\, zum Austausch oder einfach zum Verweilen bei einer Tasse Kaffee. Das ehrenamtliche Team freut sich auf einen gelungenen Auftakt ins neue Jahr und lädt alle Interessierten herzlich ein\, am 3. Februar vorbeizukommen. Eine Anmeldung ist nicht erforderlich – einfach vorbeischauen und mitmachen! \nWeitere Informationen: www.juz-zweiteheimat.de oder telefonisch unter 02624/7257
URL:https://juz-zweiteheimat.de/event/repair-cafe-am-03-februar-2026/
LOCATION:Jugend-\, Kultur- und Bürgerzentrum “Zweite Heimat”\, Mittelstraße 7\, Höhr-Grenzhausen\, Rheinland-Pfalz\, 56203\, Germany
CATEGORIES:Repair Café
ATTACH;FMTTYPE=image/jpeg:https://juz-zweiteheimat.de/wp-content/uploads/2026/01/RepairCafe_Ankuendigung_monatlich-1.jpg
ORGANIZER;CN="Jugend-%2C Kultur- und B%C3%BCrgerzentrum 'Zweite Heimat'":MAILTO:info@juz-zweiteheimat.de
END:VEVENT
BEGIN:VEVENT
DTSTART;TZID=Europe/Berlin:20260205T153000
DTEND;TZID=Europe/Berlin:20260205T173000
DTSTAMP:20260419T231518
CREATED:20260129T133058Z
LAST-MODIFIED:20260129T133058Z
UID:10000457-1770305400-1770312600@juz-zweiteheimat.de
SUMMARY:Spielenachmittag für Familien am 05. Februar 2026
DESCRIPTION:Am Donnerstag\, den 5. Februar 2026\, öffnet das Jugend-\, Kultur- und Bürgerzentrum „Zweite Heimat“ die Türen für alle Familien zu einem spannenden Spielenachmittag. Von 15.30 bis 17.30 Uhr verwandelt sich das Foyer in eine bunte Spielewelt\, in der der Spaß im Vordergrund steht! Ob Klassiker oder brandneue Spiele – die Ludothek der „Zweiten Heimat“ hält eine große Auswahl für alle Altersklassen und Interessen bereit. Familien mit Kindern ab 3 Jahren können gemeinsam spielen\, neue Spiele ausprobieren und sich die Regeln direkt erklären lassen. So wird garantiert niemand allein gelassen – und alle können sofort loslegen!\nDer Eintritt ist frei. Keine Anmeldung erforderlich. Also einfach vorbeikommen im Jugend-\, Kultur- und Bürgerzentrums „Zweite Heimat“\, Mittelstraße 7 in Höhr-Grenzhausen – mitspielen und einen entspannten Nachmittag genießen. Infos unter info@juz-zweiteheimat.de oder telefonisch unter 02624/7257. Gemeinsam spielen\, lachen und entdecken – wir freuen uns auf euch!
URL:https://juz-zweiteheimat.de/event/spielenachmittag-fuer-familien-am-05-februar-2026/
LOCATION:Jugend-\, Kultur- und Bürgerzentrum “Zweite Heimat”\, Mittelstraße 7\, Höhr-Grenzhausen\, Rheinland-Pfalz\, 56203\, Germany
CATEGORIES:Für Familien
ATTACH;FMTTYPE=image/jpeg:https://juz-zweiteheimat.de/wp-content/uploads/2026/01/2026-02-05-Familien-Spielenachmittag-1.jpg
ORGANIZER;CN="Jugend-%2C Kultur- und B%C3%BCrgerzentrum 'Zweite Heimat'":MAILTO:info@juz-zweiteheimat.de
END:VEVENT
BEGIN:VEVENT
DTSTART;TZID=Europe/Berlin:20260207T200000
DTEND;TZID=Europe/Berlin:20260207T200000
DTSTAMP:20260419T231518
CREATED:20251108T090602Z
LAST-MODIFIED:20260126T124212Z
UID:10000425-1770494400-1770494400@juz-zweiteheimat.de
SUMMARY:Lulo Reinhardt Accoustic Lounge feat. Max Clouth am 07. Februar 2026
DESCRIPTION:Mit der „Lulo Reinhardt Acoustic Lounge“ bedient das Jugend-\, Kultur- und Bürgerzentrum “Zweite Heimat” in Höhr-Grenzhausen seit Jahren ein erfolgreiches Konzert-Format\, das Musikliebhaberinnen und Musikliebhaber regelmäßig mit handgemachter\, authentischer Live-Musik begeistert. Der international renommierte Gitarrist Lulo Reinhardt lädt hierfür befreundete Künstlerinnen und Künstler aus unterschiedlichen musikalischen Genres ein\, um gemeinsam auf der Bühne zu stehen und ihre Musik in einem offenen\, lebendigen Austausch zu präsentieren. \n“Jedes Konzert ist auf seine eigene Art und Weise einmalig.” \nDie Atmosphäre der Accoustic Lounge ist persönlich und nah – hier geht es nicht um große Bühnenproduktionen\, sondern um das gemeinsame Erleben von Musik in ihrer reinsten Form. Jeder Abend ist einzigartig: Mal steht virtuoser Gypsy-Jazz im Mittelpunkt\, mal Latin-Grooves\, mal Singer-Songwriter-Klänge oder Weltmusik. \nLulo Reinhardt\, Enkel des legendären Django Reinhardt\, gilt als einer der wichtigsten Vertreter des modernen Gypsy-Swing. Mit seinem unverwechselbaren Stil\, der Einflüsse aus Jazz\, Flamenco und Weltmusik vereint\, begeistert er seit Jahren ein internationales Publikum. In der “Zweiten Heimat” präsentiert er sich in seiner persönlichsten Form – als Gastgeber\, Musiker und Geschichtenerzähler. \nZu Gast an diesem Abend: Max ClouthDer Frankfurter Gitarrist Max Clouth verbindet Einflüsse aus Jazz\, Rock und indischer Musik zu einem ganz eigenen\, atmosphärischen Sound. Mit seinem warmen Ton und seiner feinfühligen Improvisationskunst schafft er Klanglandschaften zwischen meditativer Tiefe und rhythmischer Energie. In der Acoustic Lounge trifft er auf Lulo Reinhardt und eröffnet neue musikalische Räume zwischen Orient und Okzident – ein spannendes Aufeinandertreffen zweier außergewöhnlicher Gitarristen. \n \nAm Samstag\, 07. Februar 2026 um 20.00 Uhr im Jugend-\, Kultur- und Bürgerzentrum “Zweite Heimat”\, Mittelstraße 7 in 56203 Höhr-Grenzhausen. Eine Ticketreservierung ist nur online möglich. Die Tickets kosten im VVK: 22\,- Euro\, an der AK: 24\,- Euro. \nNach der Reservierung vermerken wir Ihren Namen auf unserer Vorverkaufsliste. Sie zahlen den Eintritt an der Abendkasse vor Ort. Freie Platzwahl. Wir freuen uns auf Ihren Besuch! \nKartenreservierungBitte aktiviere JavaScript in deinem Browser\, um dieses Formular fertigzustellen.VeranstaltungstitelAnzahl der Karten *12345678910Name *Telefon *E-Mail *StraßePLZ/OrtVerbindliche Reservierung *Mit Absenden Ihrer Reservierung über unser Onlineformular erklären Sie sich mit der verbindlichen Buchung der ausgewählten Tickets einverstanden. Bitte beachten Sie\, dass Ihre Reservierung zahlungspflichtig ist und nach erfolgreicher Bestätigung nicht mehr kostenfrei storniert werden kann.NewsletterJa\, ich möchte den Newsletter mit regelmäßigen Informationen über Veranstaltungen des Jugend- und Kulturzentrum "Zweite Heimat" erhalten.Datenschutz *Mit dem Absenden Ihrer Anfrage erklären Sie sich mit der Verarbeitung Ihrer angegebenen Daten zum Zweck der Bearbeitung Ihrer Anfrage einverstanden.https://www.juz-zweiteheimat.de/datenschutzerklaerungJetzt reservieren
URL:https://juz-zweiteheimat.de/event/lulo-reinhardt-accoustic-lounge-feat-max-clouth-am-07-februar-2026/
LOCATION:Jugend-\, Kultur- und Bürgerzentrum “Zweite Heimat”\, Mittelstraße 7\, Höhr-Grenzhausen\, Rheinland-Pfalz\, 56203\, Germany
CATEGORIES:Konzert
ATTACH;FMTTYPE=image/png:https://juz-zweiteheimat.de/wp-content/uploads/2023/08/Lulo_Reinhardt_2022.png
ORGANIZER;CN="Jugend-%2C Kultur- und B%C3%BCrgerzentrum 'Zweite Heimat'":MAILTO:info@juz-zweiteheimat.de
END:VEVENT
BEGIN:VEVENT
DTSTART;TZID=Europe/Berlin:20260212T140000
DTEND;TZID=Europe/Berlin:20260212T160000
DTSTAMP:20260419T231518
CREATED:20260202T144603Z
LAST-MODIFIED:20260202T144603Z
UID:10000459-1770904800-1770912000@juz-zweiteheimat.de
SUMMARY:Spielbar - Das "Gute-Laune-Spiel-Angebot" für SeniorInnen
DESCRIPTION:
URL:https://juz-zweiteheimat.de/event/spielbar-das-gute-laune-spiel-angebot-fuer-seniorinnen/
LOCATION:Jugend-\, Kultur- und Bürgerzentrum “Zweite Heimat”\, Mittelstraße 7\, Höhr-Grenzhausen\, Rheinland-Pfalz\, 56203\, Germany
ATTACH;FMTTYPE=image/jpeg:https://juz-zweiteheimat.de/wp-content/uploads/2026/01/2026-02-Spiel-Bar.jpg
ORGANIZER;CN="Jugend-%2C Kultur- und B%C3%BCrgerzentrum 'Zweite Heimat'":MAILTO:info@juz-zweiteheimat.de
END:VEVENT
BEGIN:VEVENT
DTSTART;TZID=Europe/Berlin:20260221T160000
DTEND;TZID=Europe/Berlin:20260221T230000
DTSTAMP:20260419T231518
CREATED:20250702T121503Z
LAST-MODIFIED:20260217T135709Z
UID:10000407-1771689600-1771714800@juz-zweiteheimat.de
SUMMARY:Kreiszockerfest am 21. Februar 2026
DESCRIPTION:Gaming pur beim vierten „Kreiszockerfest“ \nViertes Kreiszockerfest in Höhr-Grenzhausen – Gaming pur für Jugendliche \nAm Samstag\, den 21. Februar 2026\, verwandelt sich das Jugend-\, Kultur- und Bürgerzentrum „Zweite Heimat“ in Höhr-Grenzhausen wieder in ein Paradies für Gaming-Fans. Von 16 bis 23 Uhr erwartet Jugendliche ab 12 Jahren ein abwechslungsreiches Programm voller Spiele\, Action und Kreativität – und das alles bei freiem Eintritt. \nIn unserem Minecraft-Netzwerk können Besucher gemeinsam bauen\, entdecken und spannende Abenteuer erleben. Wer lieber tanzt\, ist bei Just Dance genau richtig und kann im Tanzsaal eigene Choreografien ausprobieren. Kreativität und Schnelligkeit lassen sich zudem bei Scribble IO auf Tablets unter Beweis stellen. \nFür Fans klassischer Spiele bieten wir Kicker\, Flipper\, Airhockey und eine große Auswahl an Brettspielen. Im Konsolenbereich und im Zockerzelt kann nach Herzenslust gezockt werden\, während an der Tablet-Station „Space Team“ gemeinsames Chaos-Management gefragt ist. \nWer sich für kreative Medien interessiert\, kann mit der 360-Grad-Kamera die Welt in vollem Umfang entdecken und Kurzfilme erstellen. Beim Green-Screen wird jeder selbst zum Teil der Action und in der Carrera-Arena dürft ihr euch heiße Rennduelle liefern. \nFür das leibliche Wohl ist gesorgt – Snacks und Getränke stehen bereit\, damit alle Besucher gestärkt weiterspielen können. \nDas Kreiszockerfest ist eine Veranstaltung der Jugendpflegen des Westerwaldkreises und bietet Jugendlichen die einmalige Gelegenheit\, Gaming und Kreativität und in einem großen\, spannenden Event zu erleben. \nAm Samstag\, 21. Februar 2026 von 16:00–23:00 Uhr im Jugend-\, Kultur- und Bürgerzentrum „Zweite Heimat“\, Mittelstraße 7\, Höhr-Grenzhausen. Weitere Informationen findet man auch unter www.juz-zweiteheimat.de. Der Eintritt sowie alle Angebote sind kostenfrei\, und für Essen und Getränke zu günstigen Preisen ist ebenfalls gesorgt.
URL:https://juz-zweiteheimat.de/event/kreiszockerfest-am-21-februar-2026/
LOCATION:Jugend-\, Kultur- und Bürgerzentrum “Zweite Heimat”\, Mittelstraße 7\, Höhr-Grenzhausen\, Rheinland-Pfalz\, 56203\, Germany
CATEGORIES:Für Jugendliche,Für Kinder
ATTACH;FMTTYPE=image/jpeg:https://juz-zweiteheimat.de/wp-content/uploads/2026/01/Plakat-Kreiszockerfest-2026-web.jpg
END:VEVENT
BEGIN:VEVENT
DTSTART;TZID=Europe/Berlin:20260226T170000
DTEND;TZID=Europe/Berlin:20260226T190000
DTSTAMP:20260419T231518
CREATED:20260126T102610Z
LAST-MODIFIED:20260226T095019Z
UID:10000452-1772125200-1772132400@juz-zweiteheimat.de
SUMMARY:Kinderdisco - Glow in the dark am 26. Februar 2026
DESCRIPTION:Tanzen\, Lachen\, Leuchten!\nLeuchtende Neonfarben\, bunte Lichter\, Musik und jede Menge Spaß: Am Donnerstag\, 26. Februar 2026\, findet im Jugend-\, Kultur- und Bürgerzentrum „Zweite Heimat“ die Kinderdisco „Glow in the Dark“ für Kinder von 7 bis 12 Jahren statt. Ab 17:00 Uhr wird der große Saal zum Treffpunkt für kleine Tanzfans; die Disco endet um 19:00 Uhr. Das Motto „Glow in the Dark“ sorgt für ein besonderes Highlight: Im Dunkeln leuchten Neonfarben\, Accessoires und kreative Schminke besonders intensiv. Gerne können alle Kinder in leuchtender Neon-Farbe erscheinen und passende Accessoires tragen. Auf die kleinen Partygäste warten unter anderem eine Neon-Tattoo-Ecke\, Cocktail- und Candybar\, Musikquiz\, Dance Battles sowie eine Fotostation für unvergessliche Erinnerungen. Für die passende Musik sorgt der engagierte Ehrenamts-DJ Max. Während die Kinder ausgelassen feiern\, können Eltern zwei entspannte Stunden genießen. \nDer Eintritt ist kostenlos\, die Plätze sind jedoch begrenzt. \nDie „Zweite Heimat“ freut sich auf viele kleine Gäste\, die zwei Stunden lang tanzen\, lachen und im Neonlicht strahlen möchten. \nDie Kinderdisco ist zur Zeit vollständig ausgebucht.
URL:https://juz-zweiteheimat.de/event/kinderdisco-glow-in-the-dark-am-26-februar-2026/
LOCATION:Jugend-\, Kultur- und Bürgerzentrum “Zweite Heimat”\, Mittelstraße 7\, Höhr-Grenzhausen\, Rheinland-Pfalz\, 56203\, Germany
CATEGORIES:Für Kinder
ATTACH;FMTTYPE=image/jpeg:https://juz-zweiteheimat.de/wp-content/uploads/2026/01/2026-02-26-Kinderdisco-Glow-in-the-dark-2.jpg
ORGANIZER;CN="Jugend-%2C Kultur- und B%C3%BCrgerzentrum 'Zweite Heimat'":MAILTO:info@juz-zweiteheimat.de
END:VEVENT
BEGIN:VEVENT
DTSTART;TZID=Europe/Berlin:20260227T200000
DTEND;TZID=Europe/Berlin:20260227T200000
DTSTAMP:20260419T231518
CREATED:20241217T142138Z
LAST-MODIFIED:20260126T124306Z
UID:10000369-1772222400-1772222400@juz-zweiteheimat.de
SUMMARY:Daniel Helfrich - "Trennkost ist kein Abschiedsessen" am 27. Februar 2026
DESCRIPTION:Was wäre passiert\, wenn Adam sich von Eva getrennt hätte? Wäre uns allen dadurch viel erspart geblieben? Oder wie trennt sich eigentlich ein Informatiker? Durch Steuerung – Alt – Entfernen? In seinem neuen Programm „Trennkost ist kein Abschiedsessen“ befreit Daniel Helfrich das Thema „Trennung“ von seinem schlechten Ruf und entdeckt darin vor allem eines: riesengroßen Spaß. Helfrichs Trennungsgedanken können vielfältiger Natur sein: Ob Partner\, Essen\, Müll oder\, wie in Van Goghs Fall\, vom eigenen Ohr. In diesem Programm wird jede Form der Trennung köstlich zelebriert. Nichts bleibt dem humorvollsten Trennungsexperten seit Heinrich dem 8. verborgen. Denn eigentlich macht Trennen so richtig Spaß\, wenn man nicht gerade ein Paar-Tattoo besitzt. „Trennkost ist kein Abschiedsessen“ ist ein Programm über Mütter\, die auf Handys starren\, moderne Männer\, missglückte Kommunikation und weitere „Erste-Welt-Probleme“. Ein geistreiches Programm nicht nur für Petersiliensafttrinker und Bambusbecherbesitzer\, sondern auch für Menschen mit nicht ganz ernst gemeinten Trennungsabsichten oder übertriebener Trennungsangst. Ein Programm für alle\, die Lust auf urkomische Lieder und gehobenen Blödsinn haben. In seinem fünften Programm deutet uns Daniel Helfrich die Trennungszeichen der Zeit und offenbart\, was in seinem Musiker-leben Musik-erleben bedeutet. Sich selbst wie gewohnt virtuos am Klavier begleitend durchstreift er vielfältigste Musikstile und zeigt\, wie man unfallfrei durch Konsumfalltüren fällt\, denn seine Pointen besitzen immer einen doppelten Boden. Skurriles gesellschaftskritisches Klavierkabarett mit absoluter Lachgarantie\, das Sie auch musikalisch mitreißen wird. „Trennkost ist kein Abschiedsessen“. Guten Appetit. \nAm Freitag\, 27. Februar 2026 um 20 Uhr im Jugend-\, Kultur- und Bürgerzentrum “Zweite Heimat”\, Mittelstraße 7 in Höhr-Grenzhausen. Karten sind erhältlich unter www.juz-zweiteheimat.de und kosten im VVK: 22\,- Euro\, an der AK: 25\,- Euro. \nNach der Reservierung vermerken wir Ihren Namen auf unserer Vorverkaufsliste. Sie zahlen den Eintritt an der Abendkasse vor Ort. Freie Platzwahl. Wir freuen uns auf Ihren Besuch! \nKartenreservierungBitte aktiviere JavaScript in deinem Browser\, um dieses Formular fertigzustellen.VeranstaltungstitelAnzahl der Karten *12345678910Name *Telefon *E-Mail *StraßePLZ/OrtVerbindliche Reservierung *Mit Absenden Ihrer Reservierung über unser Onlineformular erklären Sie sich mit der verbindlichen Buchung der ausgewählten Tickets einverstanden. Bitte beachten Sie\, dass Ihre Reservierung zahlungspflichtig ist und nach erfolgreicher Bestätigung nicht mehr kostenfrei storniert werden kann.NewsletterJa\, ich möchte den Newsletter mit regelmäßigen Informationen über Veranstaltungen des Jugend- und Kulturzentrum "Zweite Heimat" erhalten.Datenschutz *Mit dem Absenden Ihrer Anfrage erklären Sie sich mit der Verarbeitung Ihrer angegebenen Daten zum Zweck der Bearbeitung Ihrer Anfrage einverstanden.https://www.juz-zweiteheimat.de/datenschutzerklaerungJetzt reservieren
URL:https://juz-zweiteheimat.de/event/daniel-helfrich-trennkost-ist-kein-abschiedsessen-am-27-februar-2026/
LOCATION:Jugend-\, Kultur- und Bürgerzentrum “Zweite Heimat”\, Mittelstraße 7\, Höhr-Grenzhausen\, Rheinland-Pfalz\, 56203\, Germany
CATEGORIES:Kabarett,Musik
ATTACH;FMTTYPE=image/jpeg:https://juz-zweiteheimat.de/wp-content/uploads/2024/12/Daniel-Helfrich-Pressefoto-1-2-1-scaled-1.jpg
ORGANIZER;CN="Jugend-%2C Kultur- und B%C3%BCrgerzentrum 'Zweite Heimat'":MAILTO:info@juz-zweiteheimat.de
END:VEVENT
END:VCALENDAR