BEGIN:VCALENDAR
VERSION:2.0
PRODID:-//Jugend-, Kultur- und Bürgerzentrum &quot;Zweite Heimat&quot; - ECPv6.15.20//NONSGML v1.0//EN
CALSCALE:GREGORIAN
METHOD:PUBLISH
X-WR-CALNAME:Jugend-, Kultur- und Bürgerzentrum &quot;Zweite Heimat&quot;
X-ORIGINAL-URL:https://juz-zweiteheimat.de
X-WR-CALDESC:Veranstaltungen für Jugend-, Kultur- und Bürgerzentrum &quot;Zweite Heimat&quot;
REFRESH-INTERVAL;VALUE=DURATION:PT1H
X-Robots-Tag:noindex
X-PUBLISHED-TTL:PT1H
BEGIN:VTIMEZONE
TZID:Europe/Berlin
BEGIN:DAYLIGHT
TZOFFSETFROM:+0100
TZOFFSETTO:+0200
TZNAME:CEST
DTSTART:20250330T010000
END:DAYLIGHT
BEGIN:STANDARD
TZOFFSETFROM:+0200
TZOFFSETTO:+0100
TZNAME:CET
DTSTART:20251026T010000
END:STANDARD
BEGIN:DAYLIGHT
TZOFFSETFROM:+0100
TZOFFSETTO:+0200
TZNAME:CEST
DTSTART:20260329T010000
END:DAYLIGHT
BEGIN:STANDARD
TZOFFSETFROM:+0200
TZOFFSETTO:+0100
TZNAME:CET
DTSTART:20261025T010000
END:STANDARD
BEGIN:DAYLIGHT
TZOFFSETFROM:+0100
TZOFFSETTO:+0200
TZNAME:CEST
DTSTART:20270328T010000
END:DAYLIGHT
BEGIN:STANDARD
TZOFFSETFROM:+0200
TZOFFSETTO:+0100
TZNAME:CET
DTSTART:20271031T010000
END:STANDARD
END:VTIMEZONE
BEGIN:VEVENT
DTSTART;TZID=Europe/Berlin:20260602T150000
DTEND;TZID=Europe/Berlin:20260602T180000
DTSTAMP:20260420T004144
CREATED:20260206T114914Z
LAST-MODIFIED:20260206T115017Z
UID:10000471-1780412400-1780423200@juz-zweiteheimat.de
SUMMARY:Repair Café
DESCRIPTION:Das Repair Café in Höhr-Grenzhausen öffnet wieder seine Türen: An jedem ersten Dienstag im Monat\, lädt das ehrenamtliche Team des Repair Cafés in das Jugend-\, Kultur- und Bürgerzentrum „Zweite Heimat“ ein. Zwischen 15:00 und 18:00 Uhr (letzte Annahme um 17:00 Uhr) haben Besucherinnen und Besucher die Möglichkeit\, defekte Alltagsgegenstände mitzubringen und gemeinsam mit erfahrenen Ehrenamtlichen zu reparieren. Unter dem bewährten Motto „Reparieren statt Wegwerfen“ treffen sich Menschen aus der Region\, um kaputten Dingen neues Leben einzuhauchen. Ob Elektrogeräte\, Kleidung\, Kleinmöbel oder Haushaltsgegenstände – vieles lässt sich mit etwas Geduld\, handwerklichem Geschick und fachkundiger Unterstützung wieder instand setzen. Dabei stehen nicht nur Nachhaltigkeit und Ressourcenschonung im Vordergrund\, sondern auch der Austausch von Wissen und das Miteinander. „Oft zeigt sich\, dass mit ein paar Handgriffen noch viel zu retten ist – und genau das macht den Reiz unseres Angebots aus.“ \nSeit 2025 findet das Repair Café jeden ersten Dienstag im Monat in der „Zweiten Heimat“ statt und hat sich zu einem festen Treffpunkt für alle Generationen entwickelt. Hier wird geschraubt\, genäht\, gelötet\, gefachsimpelt und gelacht. Auch Gäste ohne Reparaturanliegen sind herzlich willkommen – sei es zum Zuschauen\, zum Austausch oder einfach zum Verweilen bei einer Tasse Kaffee. Das ehrenamtliche Team freut sich auf einen gelungenen Auftakt ins neue Jahr und lädt alle Interessierten herzlich ein vorbeizukommen. Eine Anmeldung ist nicht erforderlich – einfach vorbeischauen und mitmachen! \nWeitere Informationen: www.juz-zweiteheimat.de oder telefonisch unter 02624/7257
URL:https://juz-zweiteheimat.de/event/repair-cafe/2026-06-02/
LOCATION:Jugend-\, Kultur- und Bürgerzentrum “Zweite Heimat”\, Mittelstraße 7\, Höhr-Grenzhausen\, Rheinland-Pfalz\, 56203\, Germany
CATEGORIES:Repair Café
ATTACH;FMTTYPE=image/jpeg:https://juz-zweiteheimat.de/wp-content/uploads/2024/09/RepairCafe_Ankuendigung_monatlich-scaled.jpg
ORGANIZER;CN="Jugend-%2C Kultur- und B%C3%BCrgerzentrum 'Zweite Heimat'":MAILTO:info@juz-zweiteheimat.de
END:VEVENT
BEGIN:VEVENT
DTSTART;TZID=Europe/Berlin:20260606T200000
DTEND;TZID=Europe/Berlin:20260606T230000
DTSTAMP:20260420T004144
CREATED:20251211T200907Z
LAST-MODIFIED:20260126T125150Z
UID:10000447-1780776000-1780786800@juz-zweiteheimat.de
SUMMARY:Naspa‐Open‐Air‐Konzert mit der "Big Band Boden" zum Keramikmarkt am 06. Juni 2026
DESCRIPTION:Die Big Band Boden ist eine 25-köpfige Formation mit Bläsersection\, Rhythmusgruppe und Backgroundchor. Sie spielt Swing-Klassiker und bekannte Pop-\, Rock- und Soul-Hits in authentischen Live-Arrangements. Mit ihrer energiegeladenen Performance sorgt sie für eine mitreißende Partyatmosphäre und bringen das Publikum zum Tanzen! \nSamstagabend\, ab 20 Uhr auf dem Laiguegliaplatz. \nMit freundlicher Unterstützung der Nassauischen Sparkasse.
URL:https://juz-zweiteheimat.de/event/naspa%e2%80%90open%e2%80%90air%e2%80%90konzert-mit-der-big-band-boden-zum-keramikmarkt-am-06-juni-2026/
LOCATION:Laigueglia-Platz\, Laigueglia-Platz\, Höhr-Grenzhausen\, 56203\, Deutschland
CATEGORIES:Freier Eintritt,Konzert,Musik,Open Air
ATTACH;FMTTYPE=image/jpeg:https://juz-zweiteheimat.de/wp-content/uploads/2025/03/Big-Band-Boden.jpg
END:VEVENT
BEGIN:VEVENT
DTSTART;TZID=Europe/Berlin:20260610T193000
DTEND;TZID=Europe/Berlin:20260610T213000
DTSTAMP:20260420T004144
CREATED:20251125T120622Z
LAST-MODIFIED:20260126T125157Z
UID:10000439-1781119800-1781127000@juz-zweiteheimat.de
SUMMARY:"Treffpunkt Kannofen" mit dem Jadeherz am 10. Juni 2026
DESCRIPTION:Die beliebte Konzertreihe „Treffpunkt Kannofen“ findet auch im Sommer 2026 am neuen Jugend-\, Kultur- und Bürgerzentrum “Zweite Heimat” mitten in der Innenstadt von Höhr-Grenzhausen statt. Mit einer einzigartigen Mischung aus regionalen Bands\, guter Musik und geselligem Beisammensein – bei kostenfreiem Eintritt und inmitten einer besonderen Atmosphäre im großen Amphitheater – dürfen sich alle Besucher auf einen musikalischen Sommer 2026 freuen. \nDie Konzerte werden natürlich weiter Open Air\, im wunderschönen Amphitheater (wir haben Sitzkissen) unter freiem Himmel\, ausgetragen. Bei schlechtem Wetter finden die Konzerte auch statt\, dann an gleicher Adresse indoor im Saal. Beides sind die perfekten Orte für die beliebte Veranstaltungsreihe. Das Musikprogramm bleibt abwechslungsreich und vielfältig: Von Pop über Rock bis hin zu Jazz ist für jeden Musikgeschmack etwas dabei. Die Konzerte finden an ausgewählten Terminen statt\, der Beginn ist immer um 19.30 Uhr. \nNeben der Musik steht beim „Treffpunkt Kannofen” auch die Geselligkeit im Vordergrund. Hier treffen sich Freunde\, Nachbarn und Besucher aus der Region\, um gemeinsam einen wunderbaren Sommerabend zu genießen. Bei kühlen Getränken und einer leckeren Bratwurst vom Restaurant „Till Eulenspiegel“ lässt es sich wunderbar verweilen und der musikalischen Unterhaltung lauschen. \nDie neue „Zweite Heimat“ bietet dabei die perfekte Kulisse für einen stimmungsvollen Abend und freut sich darauf\, Gäste aus der Region und darüber hinaus willkommen zu heißen. Der „Treffpunkt Kannofen“ ist ein Event\, das man sich nicht entgehen lassen sollte. \nAdresse: „Zweite Heimat“\, Mittelstraße 7\, 56203 Höhr-Grenzhausen. Der Eintritt ist frei. Für das leibliche Wohl sorgt das Team vom Restaurant „Till Eulenspiegel“. Bei schlechtem Wetter findet die Veranstaltung an der gleichen Adresse im Saal statt. \n\n“Jadeherz” \nJade ist ein Schmuckstein\, der seit Tausenden von Jahren Herzen schneller schlagen lässt. So wie die Musik. Ricarda Bosse und Peter Bongard wissen\, wie’s sich anfühlt\, wenn Klänge das Herz davontragen. Für beide ist die Musik Herzenssache. Ricarda Bosse aus Limburg hat mit ihrer Stimme Musicals Glanz verliehen. Peter Bongard aus dem Westerwald liebt die Freiheit und Energie des Jazz und des Souls. Als Jadeherz erzählen die Sängerin und der Pianist Liebes-Geschichten mit Klängen und Worten nach: Geschichten vom Kennenlernen\, Verlieben\, vom Zusammensein und Trennen\, von Leidenschaft und Schmerzen\, vom Aufstehen und Weiterl(i)eben. Mit bekannten Songs\, die durch kurze Texte miteinander verwoben werden. Zeitlos-schöne Liebeslieder – leuchtend wie Jade\, verletzlich wie ein Herz. \nGenießen Sie einen Abend mit Lieblings- und Liebessongs von Adele\, Lady Gaga\, Gloria Gaynor\, Stevie Wonder und vielen anderen – verwoben mit Texten über das stärkste Gefühl der Welt. \nAm Mittwoch\, 10. Juni 2026 um 19.30 Uhr – Eintritt frei!
URL:https://juz-zweiteheimat.de/event/treffpunkt-kannofen-mit-dem-jadeherz-am-10-juni-2026/
LOCATION:Jugend-\, Kultur- und Bürgerzentrum “Zweite Heimat”\, Mittelstraße 7\, Höhr-Grenzhausen\, Rheinland-Pfalz\, 56203\, Germany
CATEGORIES:Freier Eintritt,Konzert,Open Air
ATTACH;FMTTYPE=image/jpeg:https://juz-zweiteheimat.de/wp-content/uploads/2024/12/Jadeherz-4-web.jpg
ORGANIZER;CN="Jugend-%2C Kultur- und B%C3%BCrgerzentrum 'Zweite Heimat'":MAILTO:info@juz-zweiteheimat.de
END:VEVENT
BEGIN:VEVENT
DTSTART;TZID=Europe/Berlin:20260612T200000
DTEND;TZID=Europe/Berlin:20260612T200000
DTSTAMP:20260420T004144
CREATED:20250405T142929Z
LAST-MODIFIED:20260126T125219Z
UID:10000391-1781294400-1781294400@juz-zweiteheimat.de
SUMMARY:JAN PREUß -  Der (V)Erzieher "Baueckenverbot" am 12. Juni 2026
DESCRIPTION:Jetzt gibt’s Baueckenverbot!  \nDie Kitas und Schulen sind personell am Limit\, Eltern kommen mit eigenartigen Ansprüchen\, Kinder drehen immer mehr durch\, sind überfordert\, sollen gleichzeitig aber auch jede Entscheidung selber treffen. Gibt es da überhaupt noch was zu lachen? \nUnd ob! Das zeigt der bekannteste (V)ERZIEHER Deutschlands in seiner dritten Show “Baueckenverbot” erneut bundesweit. \nJan Preuß spricht aus\, was andere Pädagogen sich oft nicht mal zu denken trauen. Er zeigt\, warum Kinder entgegen jeder Theorie sehr wohl Ironie verstehen\, wie man Eltern gut kontert und auch wie absurd einige Regeln im pädagogischen Alltag wirklich sind. \nGleichzeitig stellt er aber auch ernste Fragen: Wie viele Erzieher gibt es in 20 Jahren wirklich noch? Wo sind wir voller Hoffnung\, gute Menschen zu erschaffen und schlagen uns mit unserer eigenen Doppelmoral? Aber keine Sorge\, auch hier findet der (V)ERZIEHER passende\, lustige Antworten. Mit Humor lässt sich dieser Job ja auch viel besser ertragen. \n\nAm Freitag\, 12. Juni 2026 um 20 Uhr im Jugend-\, Kultur- und Bürgerzentrum “Zweite Heimat”\, Mittelstr. 7 in Höhr-Grenzhausen. Karten sind erhältlich unter www.juz-zweiteheimat.de und kosten im VVK: 23\,- Euro\, an der AK: 25\,- Euro. \nNach der Reservierung vermerken wir Ihren Namen auf unserer Vorverkaufsliste. Sie zahlen den Eintritt an der Abendkasse vor Ort. Freie Platzwahl. Wir freuen uns auf Ihren Besuch! \nDIE VERANSTALTUNG IST AUSVERKAUFT. GERNE VERMERKEN WIR IHREN NAMEN UND DIE GEWÜNSCHTE ANZAHL AN TICKETS AUF EINER WARTELISTE. SOLLTEN WIEDER TICKETS VERFÜGBAR SEIN\, INFORMIEREN WIR SIE GERNE. SENDEN SIE UNS DAFÜR BITTE EINE EMAIL MIT IHREM NAMEN\, IHRER TELEFONNUMMER UND DER GEWÜNSCHTEN ANZAHL AN TICKETS AN INFO@JUZ-ZWEITEHEIMAT.DE 
URL:https://juz-zweiteheimat.de/event/jan-preuss-der-verzieher-baueckenverbot-am-12-juni-2026/
LOCATION:Jugend-\, Kultur- und Bürgerzentrum “Zweite Heimat”\, Mittelstraße 7\, Höhr-Grenzhausen\, Rheinland-Pfalz\, 56203\, Germany
CATEGORIES:Comedy
ATTACH;FMTTYPE=image/jpeg:https://juz-zweiteheimat.de/wp-content/uploads/2025/04/Jan-Preuss-Baueckenverbot-web.jpg
ORGANIZER;CN="Jugend-%2C Kultur- und B%C3%BCrgerzentrum 'Zweite Heimat'":MAILTO:info@juz-zweiteheimat.de
END:VEVENT
BEGIN:VEVENT
DTSTART;TZID=Europe/Berlin:20260620T200000
DTEND;TZID=Europe/Berlin:20260620T200000
DTSTAMP:20260420T004144
CREATED:20251108T091329Z
LAST-MODIFIED:20260126T125241Z
UID:10000428-1781985600-1781985600@juz-zweiteheimat.de
SUMMARY:Lulo Reinhardt Accoustic Lounge feat. Menna Mulugeta & The Harp am 20. Juni 2026
DESCRIPTION:Mit der „Lulo Reinhardt Acoustic Lounge“ bedient das Jugend-\, Kultur- und Bürgerzentrum “Zweite Heimat” in Höhr-Grenzhausen seit Jahren ein erfolgreiches Konzert-Format\, das Musikliebhaberinnen und Musikliebhaber regelmäßig mit handgemachter\, authentischer Live-Musik begeistert. Der international renommierte Gitarrist Lulo Reinhardt lädt hierfür befreundete Künstlerinnen und Künstler aus unterschiedlichen musikalischen Genres ein\, um gemeinsam auf der Bühne zu stehen und ihre Musik in einem offenen\, lebendigen Austausch zu präsentieren. \n“Jedes Konzert ist auf seine eigene Art und Weise einmalig.” \nDie Atmosphäre der Accoustic Lounge ist persönlich und nah – hier geht es nicht um große Bühnenproduktionen\, sondern um das gemeinsame Erleben von Musik in ihrer reinsten Form. Jeder Abend ist einzigartig: Mal steht virtuoser Gypsy-Jazz im Mittelpunkt\, mal Latin-Grooves\, mal Singer-Songwriter-Klänge oder Weltmusik. \nLulo Reinhardt\, Enkel des legendären Django Reinhardt\, gilt als einer der wichtigsten Vertreter des modernen Gypsy-Swing. Mit seinem unverwechselbaren Stil\, der Einflüsse aus Jazz\, Flamenco und Weltmusik vereint\, begeistert er seit Jahren ein internationales Publikum. In der “Zweiten Heimat” präsentiert er sich in seiner persönlichsten Form – als Gastgeber\, Musiker und Geschichtenerzähler. \nZu Gast an diesem Abend: Menna Mulugeta & The HarpMenna Mulugeta\, bekannt aus „The Voice of Germany“\, beeindruckt mit ihrer außergewöhnlichen Stimme\, die mühelos zwischen Soul\, Pop und Weltmusik wechselt. Gemeinsam mit der Harfenistin The Harp entsteht ein besonderer Klangzauber aus sanften Saiten und kraftvollen Melodien. Zusammen mit Lulo Reinhardt entfalten die beiden Künstlerinnen eine Atmosphäre voller Gefühl\, Energie und musikalischer Tiefe. \n \nAm Samstag\, 20. Juni 2026 um 20.00 Uhr im Jugend-\, Kultur- und Bürgerzentrum “Zweite Heimat”\, Mittelstraße 7 in 56203 Höhr-Grenzhausen. Eine Ticketreservierung ist nur online möglich. Die Tickets kosten im VVK: 22\,- Euro\, an der AK: 24\,- Euro. \nNach der Reservierung vermerken wir Ihren Namen auf unserer Vorverkaufsliste. Sie zahlen den Eintritt an der Abendkasse vor Ort. Freie Platzwahl. Wir freuen uns auf Ihren Besuch! \nKartenreservierungBitte aktiviere JavaScript in deinem Browser\, um dieses Formular fertigzustellen.VeranstaltungstitelAnzahl der Karten *12345678910Name *Telefon *E-Mail *StraßePLZ/OrtVerbindliche Reservierung *Mit Absenden Ihrer Reservierung über unser Onlineformular erklären Sie sich mit der verbindlichen Buchung der ausgewählten Tickets einverstanden. Bitte beachten Sie\, dass Ihre Reservierung zahlungspflichtig ist und nach erfolgreicher Bestätigung nicht mehr kostenfrei storniert werden kann.NewsletterJa\, ich möchte den Newsletter mit regelmäßigen Informationen über Veranstaltungen des Jugend- und Kulturzentrum "Zweite Heimat" erhalten.Datenschutz *Mit dem Absenden Ihrer Anfrage erklären Sie sich mit der Verarbeitung Ihrer angegebenen Daten zum Zweck der Bearbeitung Ihrer Anfrage einverstanden.https://www.juz-zweiteheimat.de/datenschutzerklaerungJetzt reservieren
URL:https://juz-zweiteheimat.de/event/lulo-reinhardt-accoustic-lounge-feat-menna-mulugeta-the-harp-am-20-juni-2026/
LOCATION:Jugend-\, Kultur- und Bürgerzentrum “Zweite Heimat”\, Mittelstraße 7\, Höhr-Grenzhausen\, Rheinland-Pfalz\, 56203\, Germany
CATEGORIES:Konzert
ATTACH;FMTTYPE=image/png:https://juz-zweiteheimat.de/wp-content/uploads/2023/08/Lulo_Reinhardt_2022.png
ORGANIZER;CN="Jugend-%2C Kultur- und B%C3%BCrgerzentrum 'Zweite Heimat'":MAILTO:info@juz-zweiteheimat.de
END:VEVENT
BEGIN:VEVENT
DTSTART;TZID=Europe/Berlin:20260621T093000
DTEND;TZID=Europe/Berlin:20260621T120000
DTSTAMP:20260420T004144
CREATED:20251125T104700Z
LAST-MODIFIED:20251125T110049Z
UID:10000438-1782034200-1782043200@juz-zweiteheimat.de
SUMMARY:Höhr-Grenzhausen frühstückt 2026
DESCRIPTION:Höhr-Grenzhausen frühstückt! … und Hilgert\, Hillscheid\, Kammerforst und Grenzau auch! \nHöhr-Grenzhäuser aufgepasst: Am Sonntag\, den 21. Juni 2026 ab 09.30 Uhr lädt das Jugend-\, Kultur- und Bürgerzentrum „Zweite Heimat“ die ganze Verbandsgemeinde zum Frühstück ein. Und dafür müssen Sie nicht einmal weit laufen\, es findet nämlich genau vor IHRER Haustür statt. In den vergangenen Jahren haben regelmäßig über 2000 Bürger/innen an der Aktion teilgenommen und wir freuen uns auch in diesem Jahr wieder über zahlreiche Frühstückstafeln in den Straßen und Gärten von Höhr-Grenzhausen. \nFrühstücken zu Hause\, allein\, das kann jeder. Warum nicht einmal Familie und Freunde einladen und das Frühstück vor das Haus verlegen? Machen Sie mit allen Nachbarn die Straße zu einer großen Frühstücksmeile! Schlemmen\, Leute treffen und kennenlernen\, einfach mal miteinander ins Gespräch kommen… und die Lebendigkeit und Lebensfreude in Höhr-Grenzhausen erleben! Das ist das Motto von „Höhr-Grenzhausen frühstückt“. \nAls besonderes Bonbon bringt das Team der “Zweiten Heimat” nicht nur allen\, die sich bis zum 16. Juni 2026 anmelden ein Gratis-Brötchenpaket vorbei\, sondern die größte Frühstücksgesellschaft gewinnt einen Präsentkorb im Wert von 50€! \nEin Foto Ihrer Frühstücksgesellschaft (bitte am Veranstaltungstag per E-Mail an info@juz-zweiteheimat.de zusenden) bringt Sie zudem in unsere Frühstücksfotogalerie. Alles\, was wir benötigen\, ist Ihre Adresse\, Telefonnummer und die Anzahl der Teilnehmer. \nAnmeldungen an das Jugend-\, Kultur- und Bürgerzentrum “Zweite Heimat”\, Tel.: 02624/7257 oder via E-Mail an info@juz-zweiteheimat.de oder über das Anmeldeformular. \nAnmeldung Höhr-Grenzhausen frühstücktBitte aktiviere JavaScript in deinem Browser\, um dieses Formular fertigzustellen.Vor- und Nachname des Ansprechpartners *E-Mail *Telefon *An welcher Adresse frühstücken Sie? *Bitte Straße mit Hausnummer und Ort mit PLZ angebenInformationen zur Örtlichkeit - wo genau finden wir Sie? *Bitte beschreiben Sie uns hier\, wo Sie frühstücken werden\, z.B. im Hof\, Vorgarten\, Carport\, etc.Wieviele Personen frühstücken an Ihrer Adresse *StraßensperrungenDatenschutz *Mit dem Absenden Ihrer Anfrage erklären Sie sich mit der Verarbeitung Ihrer angegebenen Daten zum Zweck der Bearbeitung Ihrer Anfrage einverstanden.https://www.juz-zweiteheimat.de/datenschutzerklaerungJetzt anmelden
URL:https://juz-zweiteheimat.de/event/hoehr-grenzhausen-fruehstueckt-2026/
LOCATION:Höhr-Grenzhausen\, Höhr-Grenzhausen\, 56203\, Deutschland
ATTACH;FMTTYPE=image/jpeg:https://juz-zweiteheimat.de/wp-content/uploads/2025/11/Hoehr-Grenzhausen-fruehstueckt-2026-Save-the-Date-web-scaled.jpg
ORGANIZER;CN="Jugend-%2C Kultur- und B%C3%BCrgerzentrum 'Zweite Heimat'":MAILTO:info@juz-zweiteheimat.de
END:VEVENT
BEGIN:VEVENT
DTSTART;TZID=Europe/Berlin:20260624T193000
DTEND;TZID=Europe/Berlin:20260624T213000
DTSTAMP:20260420T004144
CREATED:20251125T121150Z
LAST-MODIFIED:20251125T121150Z
UID:10000440-1782329400-1782336600@juz-zweiteheimat.de
SUMMARY:"Treffpunkt Kannofen" mit Rivers feat. Gerd Stein am 24. Juni 2026
DESCRIPTION:Die beliebte Konzertreihe „Treffpunkt Kannofen“ findet auch im Sommer 2026 am neuen Jugend-\, Kultur- und Bürgerzentrum “Zweite Heimat” mitten in der Innenstadt von Höhr-Grenzhausen statt. Mit einer einzigartigen Mischung aus regionalen Bands\, guter Musik und geselligem Beisammensein – bei kostenfreiem Eintritt und inmitten einer besonderen Atmosphäre im großen Amphitheater – dürfen sich alle Besucher auf einen musikalischen Sommer 2026 freuen. \nDie Konzerte werden natürlich weiter Open Air\, im wunderschönen Amphitheater (wir haben Sitzkissen) unter freiem Himmel\, ausgetragen. Bei schlechtem Wetter finden die Konzerte auch statt\, dann an gleicher Adresse indoor im Saal. Beides sind die perfekten Orte für die beliebte Veranstaltungsreihe. Das Musikprogramm bleibt abwechslungsreich und vielfältig: Von Pop über Rock bis hin zu Jazz ist für jeden Musikgeschmack etwas dabei. Die Konzerte finden an ausgewählten Terminen statt\, der Beginn ist immer um 19.30 Uhr. \nNeben der Musik steht beim „Treffpunkt Kannofen” auch die Geselligkeit im Vordergrund. Hier treffen sich Freunde\, Nachbarn und Besucher aus der Region\, um gemeinsam einen wunderbaren Sommerabend zu genießen. Bei kühlen Getränken und einer leckeren Bratwurst vom Restaurant „Till Eulenspiegel“ lässt es sich wunderbar verweilen und der musikalischen Unterhaltung lauschen. \nDie neue „Zweite Heimat“ bietet dabei die perfekte Kulisse für einen stimmungsvollen Abend und freut sich darauf\, Gäste aus der Region und darüber hinaus willkommen zu heißen. Der „Treffpunkt Kannofen“ ist ein Event\, das man sich nicht entgehen lassen sollte. \nAdresse: „Zweite Heimat“\, Mittelstraße 7\, 56203 Höhr-Grenzhausen. Der Eintritt ist frei. Für das leibliche Wohl sorgt das Team vom Restaurant „Till Eulenspiegel“. Bei schlechtem Wetter findet die Veranstaltung an der gleichen Adresse im Saal statt. \n\n \nDie Lahnsteiner Band RIVERS steht schon seit ihrem Bestehen im Jahr 2019 für ein kluges Konzept zur Vermischung von musikalischen Stilen. Würde man ein Genre bemühen wollen\, wäre „Americana“ die übergreifende Idee; jedoch sehr weit gefasst. Country und Folk\, aber auch Blues und Soul-Elemente finden sich im Programm von RIVERS. Die wunderbaren Stimmen von Sophie Marquet\, Greta Bartz\, Anne Mohrs und Michèle Kristin Gärtner tragen die Songs genussvoll zwei-\, drei-\, oder auch 4-stimmig vor. Eingebettet in die behutsame und gleichwohl virtuose Begleitung von Gerd Steins Gitarre und Jürgen Hierses Kontrabass bekommen die Songs aus dem Great American Songbook einen ganz besonderen Glanz. Für den einfühlsamen Groove sorgt seit kurzem Jürgens Sohn Florian an den Cajon-Drums aufs trefflichste. Fazit: fettes Frauen-Vokal-Brett\, unplugged \nDie Sängerinnen Sophie Marquet\, Greta Bartz\, Anne Mohrs und Michèle Kristin Gärtner verdienten sich die musikalischen Sporen in der Talentschmiede von Christoph Streit. Sie brillierten in verschiedensten Formationen wie Sinking Saloon\, Chorizonte usw. \nJürgen Hierse ist für sein groovy Bassspiel im Rhein-Lahn-Mosel-Delta bestens bekannt und gut beschäftigt bei Gruenspan\, Willi Küppers Trio\, Highball Blues Connection.\nDer Gitarrist Gerd Stein spielte Latin mit Lulo Reinhardt\, Jazz mit Thomas Anders\, Blues mit Ron Williams.\nFlorian Hierse ist ein cool-versierter Nachwuchsdrummer\, tätig vornehmlich in der Würzburger und auch Koblenzer Szene. \nAm Mittwoch\, 24. Juni 2026 um 19.30 Uhr – Eintritt frei!
URL:https://juz-zweiteheimat.de/event/treffpunkt-kannofen-mit-rivers-feat-gerd-stein-am-24-juni-2026/
LOCATION:Jugend-\, Kultur- und Bürgerzentrum “Zweite Heimat”\, Mittelstraße 7\, Höhr-Grenzhausen\, Rheinland-Pfalz\, 56203\, Germany
ATTACH;FMTTYPE=image/jpeg:https://juz-zweiteheimat.de/wp-content/uploads/2024/12/Rivers-2025.jpg
ORGANIZER;CN="Jugend-%2C Kultur- und B%C3%BCrgerzentrum 'Zweite Heimat'":MAILTO:info@juz-zweiteheimat.de
END:VEVENT
END:VCALENDAR