BEGIN:VCALENDAR
VERSION:2.0
PRODID:-//Jugend-, Kultur- und Bürgerzentrum &quot;Zweite Heimat&quot; - ECPv6.15.20//NONSGML v1.0//EN
CALSCALE:GREGORIAN
METHOD:PUBLISH
X-ORIGINAL-URL:https://juz-zweiteheimat.de
X-WR-CALDESC:Veranstaltungen für Jugend-, Kultur- und Bürgerzentrum &quot;Zweite Heimat&quot;
REFRESH-INTERVAL;VALUE=DURATION:PT1H
X-Robots-Tag:noindex
X-PUBLISHED-TTL:PT1H
BEGIN:VTIMEZONE
TZID:Europe/Berlin
BEGIN:DAYLIGHT
TZOFFSETFROM:+0100
TZOFFSETTO:+0200
TZNAME:CEST
DTSTART:20250330T010000
END:DAYLIGHT
BEGIN:STANDARD
TZOFFSETFROM:+0200
TZOFFSETTO:+0100
TZNAME:CET
DTSTART:20251026T010000
END:STANDARD
BEGIN:DAYLIGHT
TZOFFSETFROM:+0100
TZOFFSETTO:+0200
TZNAME:CEST
DTSTART:20260329T010000
END:DAYLIGHT
BEGIN:STANDARD
TZOFFSETFROM:+0200
TZOFFSETTO:+0100
TZNAME:CET
DTSTART:20261025T010000
END:STANDARD
BEGIN:DAYLIGHT
TZOFFSETFROM:+0100
TZOFFSETTO:+0200
TZNAME:CEST
DTSTART:20270328T010000
END:DAYLIGHT
BEGIN:STANDARD
TZOFFSETFROM:+0200
TZOFFSETTO:+0100
TZNAME:CET
DTSTART:20271031T010000
END:STANDARD
END:VTIMEZONE
BEGIN:VEVENT
DTSTART;TZID=Europe/Berlin:20260901T150000
DTEND;TZID=Europe/Berlin:20260901T180000
DTSTAMP:20260420T111449
CREATED:20260206T114914Z
LAST-MODIFIED:20260206T115017Z
UID:10000472-1788274800-1788285600@juz-zweiteheimat.de
SUMMARY:Repair Café
DESCRIPTION:Das Repair Café in Höhr-Grenzhausen öffnet wieder seine Türen: An jedem ersten Dienstag im Monat\, lädt das ehrenamtliche Team des Repair Cafés in das Jugend-\, Kultur- und Bürgerzentrum „Zweite Heimat“ ein. Zwischen 15:00 und 18:00 Uhr (letzte Annahme um 17:00 Uhr) haben Besucherinnen und Besucher die Möglichkeit\, defekte Alltagsgegenstände mitzubringen und gemeinsam mit erfahrenen Ehrenamtlichen zu reparieren. Unter dem bewährten Motto „Reparieren statt Wegwerfen“ treffen sich Menschen aus der Region\, um kaputten Dingen neues Leben einzuhauchen. Ob Elektrogeräte\, Kleidung\, Kleinmöbel oder Haushaltsgegenstände – vieles lässt sich mit etwas Geduld\, handwerklichem Geschick und fachkundiger Unterstützung wieder instand setzen. Dabei stehen nicht nur Nachhaltigkeit und Ressourcenschonung im Vordergrund\, sondern auch der Austausch von Wissen und das Miteinander. „Oft zeigt sich\, dass mit ein paar Handgriffen noch viel zu retten ist – und genau das macht den Reiz unseres Angebots aus.“ \nSeit 2025 findet das Repair Café jeden ersten Dienstag im Monat in der „Zweiten Heimat“ statt und hat sich zu einem festen Treffpunkt für alle Generationen entwickelt. Hier wird geschraubt\, genäht\, gelötet\, gefachsimpelt und gelacht. Auch Gäste ohne Reparaturanliegen sind herzlich willkommen – sei es zum Zuschauen\, zum Austausch oder einfach zum Verweilen bei einer Tasse Kaffee. Das ehrenamtliche Team freut sich auf einen gelungenen Auftakt ins neue Jahr und lädt alle Interessierten herzlich ein vorbeizukommen. Eine Anmeldung ist nicht erforderlich – einfach vorbeischauen und mitmachen! \nWeitere Informationen: www.juz-zweiteheimat.de oder telefonisch unter 02624/7257
URL:https://juz-zweiteheimat.de/event/repair-cafe/2026-09-01/
LOCATION:Jugend-\, Kultur- und Bürgerzentrum “Zweite Heimat”\, Mittelstraße 7\, Höhr-Grenzhausen\, Rheinland-Pfalz\, 56203\, Germany
CATEGORIES:Repair Café
ATTACH;FMTTYPE=image/jpeg:https://juz-zweiteheimat.de/wp-content/uploads/2024/09/RepairCafe_Ankuendigung_monatlich-scaled.jpg
ORGANIZER;CN="Jugend-%2C Kultur- und B%C3%BCrgerzentrum 'Zweite Heimat'":MAILTO:info@juz-zweiteheimat.de
END:VEVENT
BEGIN:VEVENT
DTSTART;TZID=Europe/Berlin:20260905T200000
DTEND;TZID=Europe/Berlin:20260905T200000
DTSTAMP:20260420T111449
CREATED:20251124T133446Z
LAST-MODIFIED:20260126T125259Z
UID:10000435-1788638400-1788638400@juz-zweiteheimat.de
SUMMARY:Handwerker Peters „Lachkräfte-Mangel | Abhilfe für Baustelle & Leben“ am 05. September 2026
DESCRIPTION:Die ultimative Handwerker-Comedy – normal sollte das halten! \nHandwerker Peters\, kurz HP\, ist der Gewinner des Contests „Neuer ComedyStar aus Rheinland-Pfalz“. Vom Publikum dazu gewählt und mit seiner eigenen Serie bei RPR1. zu hören\, bringt er Humor dorthin\, wo er am dringendsten gebraucht wird: auf die Baustelle und ins Leben. Denn während überall über Fachkräfte-Mangel geklagt wird\, herrscht in Deutschland vor allem eines: Lachkräfte-Mangel. Warum sind so viele Menschen schlecht gelaunt oder gleich hysterisch? HP zeigt\, wie man mit ein bisschen Werkzeug\, gesundem Menschenverstand und guter Laune die Schlaglöcher des Alltags glätten kann. Mit seinem Rundum-Tutorial für Herz und Hirn erklärt er endlich\, wie Handwerker wirklich ticken – warum sie theoretisch alles können\, praktisch alles reparieren und trotzdem erst nach dem vierten Anruf vorbeikommen. Der Eifeler Comedyblitz begeistert Publikum und Medien gleichermaßen: TV-Auftritte unter anderem bei WDR\, SWR und ARD\, Radiocomedy bei RPR1 und SWR3\, ausgezeichnet als „Comedian & Kabarettist des Jahres“ (Deutsches Künstlermagazin). Seine Sketch-Serie ist ein Social-Media-Hit mit über acht Millionen Aufrufen auf Instagram\, TikTok und Facebook. \nPressestimmen:\n„Diese Handwerker-Comedy ist eine fernsehreife Show der Spitzenklasse.“ – Rhein-Zeitung\n„Ein wahres Gagfeuerwerk.“ – Westfälische Nachrichten\n„Brillantes Kabarett- und Comedyprogramm mit Themen aus dem Leben\, bei denen sich jeder wiederfindet.“ – Blick aktuell \nAm Samstag\, 05. September 2026 um 20 Uhr im Jugend-\, Kultur- und Bürgerzentrum “Zweite Heimat”\, Mittelstraße 7 in Höhr-Grenzhausen. Karten sind erhältlich unter www.juz-zweiteheimat.de und kosten im VVK: 23\,- Euro\, an der AK: 25\,- Euro. \nNach der Reservierung vermerken wir Ihren Namen auf unserer Vorverkaufsliste. Sie zahlen den Eintritt an der Abendkasse vor Ort. Freie Platzwahl. Wir freuen uns auf Ihren Besuch! \nKartenreservierungBitte aktiviere JavaScript in deinem Browser\, um dieses Formular fertigzustellen.VeranstaltungstitelAnzahl der Karten *12345678910Name *Telefon *E-Mail *StraßePLZ/OrtVerbindliche Reservierung *Mit Absenden Ihrer Reservierung über unser Onlineformular erklären Sie sich mit der verbindlichen Buchung der ausgewählten Tickets einverstanden. Bitte beachten Sie\, dass Ihre Reservierung zahlungspflichtig ist und nach erfolgreicher Bestätigung nicht mehr kostenfrei storniert werden kann.NewsletterJa\, ich möchte den Newsletter mit regelmäßigen Informationen über Veranstaltungen des Jugend- und Kulturzentrum "Zweite Heimat" erhalten.Datenschutz *Mit dem Absenden Ihrer Anfrage erklären Sie sich mit der Verarbeitung Ihrer angegebenen Daten zum Zweck der Bearbeitung Ihrer Anfrage einverstanden.https://www.juz-zweiteheimat.de/datenschutzerklaerungJetzt reservieren
URL:https://juz-zweiteheimat.de/event/handwerker-peters-lachkraefte-mangel-abhilfe-fuer-baustelle-leben-am-05-september-2026/
LOCATION:Jugend-\, Kultur- und Bürgerzentrum “Zweite Heimat”\, Mittelstraße 7\, Höhr-Grenzhausen\, Rheinland-Pfalz\, 56203\, Germany
CATEGORIES:Comedy
ATTACH;FMTTYPE=image/jpeg:https://juz-zweiteheimat.de/wp-content/uploads/2025/11/Handwerker-Peters-Lachkraeftemangel-Werbebild-A6-R.jpg
ORGANIZER;CN="Jugend-%2C Kultur- und B%C3%BCrgerzentrum 'Zweite Heimat'":MAILTO:info@juz-zweiteheimat.de
END:VEVENT
BEGIN:VEVENT
DTSTART;TZID=Europe/Berlin:20260912T110000
DTEND;TZID=Europe/Berlin:20260912T140000
DTSTAMP:20260420T111449
CREATED:20251106T150545Z
LAST-MODIFIED:20260126T125304Z
UID:10000424-1789210800-1789221600@juz-zweiteheimat.de
SUMMARY:Frauensachenflohmarkt am 12. September 2026
DESCRIPTION:Weitere Infos folgen!
URL:https://juz-zweiteheimat.de/event/frauensachenflohmarkt-am-12-september-2026/
LOCATION:Aula der Ernst-Barlach-Realschule plus\, Am Scheidberg 2\, Höhr-Grenzhausen\, 56203\, Deutschland
CATEGORIES:Für Erwachsene
ATTACH;FMTTYPE=image/jpeg:https://juz-zweiteheimat.de/wp-content/uploads/2022/05/Frauensachen-web.jpg
ORGANIZER;CN="Jugend-%2C Kultur- und B%C3%BCrgerzentrum 'Zweite Heimat'":MAILTO:info@juz-zweiteheimat.de
END:VEVENT
BEGIN:VEVENT
DTSTART;TZID=Europe/Berlin:20260918T200000
DTEND;TZID=Europe/Berlin:20260918T200000
DTSTAMP:20260420T111449
CREATED:20250925T105345Z
LAST-MODIFIED:20260126T125321Z
UID:10000421-1789761600-1789761600@juz-zweiteheimat.de
SUMMARY:Peter Vollmer - Comedy & Kabarett "Frauen verblühen\, Männer verduften – die Jubiläums-Show" am 18. September 2026
DESCRIPTION:Kabarettist und Comedian Peter Vollmer kommt diesmal mit einem ganz besonderen Programm zu uns: Anlass ist die Tatsache\, dass er seit sage und schreibe 40 Jahren auf der Kabarettbühne steht! Richtig: Seine ersten Pointen hat er noch in Stein gemeißelt. Zur Jubiläumsfeier präsentiert er aber nicht einfach nur ein „Best of“\, nein – er betrachtet die Höhe- und Wendepunkte im Leben der heute 60jährigen und bestaunt zusammen mit seinem Publikum die dramatischen Veränderungen die wir – und er selbst – in den vergangenen 40 Jahren erlebt und durchgemacht haben. Außerdem weiß er\, dass es auch für einen Veteranen wie ihn noch grandiose Zukunftsaussichten gibt: Als Casting-Kandidat bei „Deutschland sucht den grauen Star“. Oder eben mit einem Job im Museum. Als Nachtwächter? Nein. Als Ausstellungsstück. Und wenn Sie dann schließlich die „guten alten Zeiten“ wiederhaben wollen\, dann ist er Ihnen gerne behilflich – und sammelt am Ende des Programms Ihre Smartphones ein. \nAm Freitag\, 18. September 2026 um 20 Uhr im Jugend-\, Kultur- und Bürgerzentrum “Zweite Heimat” in Höhr-Grenzhausen. Eine Ticketreservierung ist nur online möglich. Die Tickets kosten im VVK: 22\,- Euro\, an der AK: 24\,- Euro. \nNach der Reservierung vermerken wir Ihren Namen auf unserer Vorverkaufsliste. Sie zahlen den Eintritt an der Abendkasse vor Ort. Freie Platzwahl. Wir freuen uns auf Ihren Besuch! \nKartenreservierungBitte aktiviere JavaScript in deinem Browser\, um dieses Formular fertigzustellen.VeranstaltungstitelAnzahl der Karten *12345678910Name *Telefon *E-Mail *StraßePLZ/OrtVerbindliche Reservierung *Mit Absenden Ihrer Reservierung über unser Onlineformular erklären Sie sich mit der verbindlichen Buchung der ausgewählten Tickets einverstanden. Bitte beachten Sie\, dass Ihre Reservierung zahlungspflichtig ist und nach erfolgreicher Bestätigung nicht mehr kostenfrei storniert werden kann.NewsletterJa\, ich möchte den Newsletter mit regelmäßigen Informationen über Veranstaltungen des Jugend- und Kulturzentrum "Zweite Heimat" erhalten.Datenschutz *Mit dem Absenden Ihrer Anfrage erklären Sie sich mit der Verarbeitung Ihrer angegebenen Daten zum Zweck der Bearbeitung Ihrer Anfrage einverstanden.https://www.juz-zweiteheimat.de/datenschutzerklaerungJetzt reservieren
URL:https://juz-zweiteheimat.de/event/peter-vollmer-comedy-kabarett-frauen-verbluehen-maenner-verduften-die-jubilaeums-show-am-18-september-2026/
LOCATION:Jugend-\, Kultur- und Bürgerzentrum “Zweite Heimat”\, Mittelstraße 7\, Höhr-Grenzhausen\, Rheinland-Pfalz\, 56203\, Germany
CATEGORIES:Comedy,Kabarett
ATTACH;FMTTYPE=image/jpeg:https://juz-zweiteheimat.de/wp-content/uploads/2025/09/Peter-Vollmer-DSC_3012-scaled.jpg
ORGANIZER;CN="Jugend-%2C Kultur- und B%C3%BCrgerzentrum 'Zweite Heimat'":MAILTO:info@juz-zweiteheimat.de
END:VEVENT
BEGIN:VEVENT
DTSTART;TZID=Europe/Berlin:20260923T193000
DTEND;TZID=Europe/Berlin:20260923T193000
DTSTAMP:20260420T111449
CREATED:20260203T091959Z
LAST-MODIFIED:20260209T104531Z
UID:10000460-1790191800-1790191800@juz-zweiteheimat.de
SUMMARY:Feierabend-Konzert: "Blues Bändinos" am 23. September 2026
DESCRIPTION:Die Blues Bändinos sind eine Band aus dem Koblenzer Raum mit langjähriger Bühnenerfahrung\, u.A. bei namhaften Veranstaltungen  wie das Südwestfunk Bluesfestival in Lahnstein. Sie zelebrieren kraftvoll  authentisch und voller Gefühl ihren Sound im Sinne der alten Meister. Franzi Krobb (Gesang)\, Thomas Werwatz (Cajon)\, Paul Reichert (Bass)\, Ingolf Hellwig (Rhytmusgitarre)\, Winnie Görg (Hammond-Orgel)\, Thomas Wölflinger (Gitarre) verbinden Tradition mit frischer Energie und Spielfreude. Der Spaß am Blues ist immer wieder spürbar und überträgt sich auf das begeisterte Publikum. Inzwischen hat die Band ihren Platz in der Bluesszene gefunden und ist fest etabliert. \nAuch in diesem Jahr werden die Blues Bändinos an zahlreichen Veranstaltungen teilnehmen und freuen sich sehr auf einen wunderbaren Abend in der “Zweiten Heimat” in Höhr Grenzhausen. \nAm Mittwoch\, 23. September 2026 um 19.30 Uhr im Jugend-\, Kultur- und Bürgerzentrum “Zweite Heimat”\, Mittelstraße 7 in Höhr-Grenzhausen. \nDer Eintritt ist frei. Eine Hutspende ist gerne möglich.
URL:https://juz-zweiteheimat.de/event/konzert-mit-blues-baendinos-am-23-september-2026/
LOCATION:Jugend-\, Kultur- und Bürgerzentrum “Zweite Heimat”\, Mittelstraße 7\, Höhr-Grenzhausen\, Rheinland-Pfalz\, 56203\, Germany
CATEGORIES:Konzert
ATTACH;FMTTYPE=image/jpeg:https://juz-zweiteheimat.de/wp-content/uploads/2026/02/2026-Blues-Baendinos.jpg
ORGANIZER;CN="Jugend-%2C Kultur- und B%C3%BCrgerzentrum 'Zweite Heimat'":MAILTO:info@juz-zweiteheimat.de
END:VEVENT
END:VCALENDAR