BEGIN:VCALENDAR
VERSION:2.0
PRODID:-//Jugend-, Kultur- und Bürgerzentrum &quot;Zweite Heimat&quot; - ECPv6.15.20//NONSGML v1.0//EN
CALSCALE:GREGORIAN
METHOD:PUBLISH
X-ORIGINAL-URL:https://juz-zweiteheimat.de
X-WR-CALDESC:Veranstaltungen für Jugend-, Kultur- und Bürgerzentrum &quot;Zweite Heimat&quot;
REFRESH-INTERVAL;VALUE=DURATION:PT1H
X-Robots-Tag:noindex
X-PUBLISHED-TTL:PT1H
BEGIN:VTIMEZONE
TZID:Europe/Berlin
BEGIN:DAYLIGHT
TZOFFSETFROM:+0100
TZOFFSETTO:+0200
TZNAME:CEST
DTSTART:20250330T010000
END:DAYLIGHT
BEGIN:STANDARD
TZOFFSETFROM:+0200
TZOFFSETTO:+0100
TZNAME:CET
DTSTART:20251026T010000
END:STANDARD
BEGIN:DAYLIGHT
TZOFFSETFROM:+0100
TZOFFSETTO:+0200
TZNAME:CEST
DTSTART:20260329T010000
END:DAYLIGHT
BEGIN:STANDARD
TZOFFSETFROM:+0200
TZOFFSETTO:+0100
TZNAME:CET
DTSTART:20261025T010000
END:STANDARD
BEGIN:DAYLIGHT
TZOFFSETFROM:+0100
TZOFFSETTO:+0200
TZNAME:CEST
DTSTART:20270328T010000
END:DAYLIGHT
BEGIN:STANDARD
TZOFFSETFROM:+0200
TZOFFSETTO:+0100
TZNAME:CET
DTSTART:20271031T010000
END:STANDARD
END:VTIMEZONE
BEGIN:VEVENT
DTSTART;TZID=Europe/Berlin:20261201T150000
DTEND;TZID=Europe/Berlin:20261201T180000
DTSTAMP:20260421T022736
CREATED:20260206T114914Z
LAST-MODIFIED:20260206T115017Z
UID:10000474-1796137200-1796148000@juz-zweiteheimat.de
SUMMARY:Repair Café
DESCRIPTION:Das Repair Café in Höhr-Grenzhausen öffnet wieder seine Türen: An jedem ersten Dienstag im Monat\, lädt das ehrenamtliche Team des Repair Cafés in das Jugend-\, Kultur- und Bürgerzentrum „Zweite Heimat“ ein. Zwischen 15:00 und 18:00 Uhr (letzte Annahme um 17:00 Uhr) haben Besucherinnen und Besucher die Möglichkeit\, defekte Alltagsgegenstände mitzubringen und gemeinsam mit erfahrenen Ehrenamtlichen zu reparieren. Unter dem bewährten Motto „Reparieren statt Wegwerfen“ treffen sich Menschen aus der Region\, um kaputten Dingen neues Leben einzuhauchen. Ob Elektrogeräte\, Kleidung\, Kleinmöbel oder Haushaltsgegenstände – vieles lässt sich mit etwas Geduld\, handwerklichem Geschick und fachkundiger Unterstützung wieder instand setzen. Dabei stehen nicht nur Nachhaltigkeit und Ressourcenschonung im Vordergrund\, sondern auch der Austausch von Wissen und das Miteinander. „Oft zeigt sich\, dass mit ein paar Handgriffen noch viel zu retten ist – und genau das macht den Reiz unseres Angebots aus.“ \nSeit 2025 findet das Repair Café jeden ersten Dienstag im Monat in der „Zweiten Heimat“ statt und hat sich zu einem festen Treffpunkt für alle Generationen entwickelt. Hier wird geschraubt\, genäht\, gelötet\, gefachsimpelt und gelacht. Auch Gäste ohne Reparaturanliegen sind herzlich willkommen – sei es zum Zuschauen\, zum Austausch oder einfach zum Verweilen bei einer Tasse Kaffee. Das ehrenamtliche Team freut sich auf einen gelungenen Auftakt ins neue Jahr und lädt alle Interessierten herzlich ein vorbeizukommen. Eine Anmeldung ist nicht erforderlich – einfach vorbeischauen und mitmachen! \nWeitere Informationen: www.juz-zweiteheimat.de oder telefonisch unter 02624/7257
URL:https://juz-zweiteheimat.de/event/repair-cafe/2026-12-01/
LOCATION:Jugend-\, Kultur- und Bürgerzentrum “Zweite Heimat”\, Mittelstraße 7\, Höhr-Grenzhausen\, Rheinland-Pfalz\, 56203\, Germany
CATEGORIES:Repair Café
ATTACH;FMTTYPE=image/jpeg:https://juz-zweiteheimat.de/wp-content/uploads/2024/09/RepairCafe_Ankuendigung_monatlich-scaled.jpg
ORGANIZER;CN="Jugend-%2C Kultur- und B%C3%BCrgerzentrum 'Zweite Heimat'":MAILTO:info@juz-zweiteheimat.de
END:VEVENT
BEGIN:VEVENT
DTSTART;TZID=Europe/Berlin:20261204T080000
DTEND;TZID=Europe/Berlin:20261204T170000
DTSTAMP:20260421T022736
CREATED:20250204T111644Z
LAST-MODIFIED:20260126T125533Z
UID:10000378-1796371200-1796403600@juz-zweiteheimat.de
SUMMARY:Fee Brembeck – "Komm du erst mal aus meinem Alter!" am 04. Dezember 2026
DESCRIPTION:Älterwerden ist anstrengend\, und auch Jungsein macht müde. Gut\, dass Fee Brembeck\, die Kabarettistin\, Autorin\, Poetry Slammerin und Opernsängerin\, mit ihrem neuen Programm generationsübergreifend aufweckt. In diesem tritt sie als Generationenflüsterin auf und verbindet poetische und kluge Gedanken mit Humor und Gesellschaftskritik. Zwischen fossilen Weltbildern\, Klimaklebern und Genderaktivist*innen vermittelt sie\, stellt die drängenden Fragen unserer Zeit und beantwortet sie. Außer sie weiß keine Antwort. Dann stellt sie zumindest neue Fragen! Warum gilt die jüngere Generation als woke\, will aber nicht früh aufstehen? Ab wann ist man ein alter\, weißer Mann und darf man dann trotzdem noch mitspielen? Und wie turnt man die Geschlechterrolle vor- und rückwärts? Selbstironisch\, kritisch\, aber immer liebevoll blickt Fee Brembeck sowohl auf ihre eigene Generation und deren Absurditäten sowie auf die Eigenheiten all derer\, die sich Tickets fürs Kabarett leisten können. Ein Abend für jung und alt\, der auf unvergleichliche Weise Humor mit Gesellschaftskritik verknüpft. Am Ende bleibt einem\, so befindet die Süddeutsche Zeitung\, „keine Wahl\, als sich von dieser Fee verzaubern zu lassen. \n\nAm Freitag\, 04. Dezember 2026 um 20 Uhr im Jugend-\, Kultur- und Bürgerzentrum “Zweite Heimat” in Höhr-Grenzhausen. Der Eintritt kostet 25\,- Euro im VVK\, 28\,- Euro an der Abendkasse. Karten sind erhältlich unter www.juz-zweiteheimat.de \nNach der Reservierung vermerken wir Ihren Namen auf unserer Vorverkaufsliste. Sie zahlen den Eintritt an der Abendkasse vor Ort. Freie Platzwahl. Wir freuen uns auf Ihren Besuch! \nKartenreservierungBitte aktiviere JavaScript in deinem Browser\, um dieses Formular fertigzustellen.VeranstaltungstitelAnzahl der Karten *12345678910Name *Telefon *E-Mail *StraßePLZ/OrtVerbindliche Reservierung *Mit Absenden Ihrer Reservierung über unser Onlineformular erklären Sie sich mit der verbindlichen Buchung der ausgewählten Tickets einverstanden. Bitte beachten Sie\, dass Ihre Reservierung zahlungspflichtig ist und nach erfolgreicher Bestätigung nicht mehr kostenfrei storniert werden kann.NewsletterJa\, ich möchte den Newsletter mit regelmäßigen Informationen über Veranstaltungen des Jugend- und Kulturzentrum "Zweite Heimat" erhalten.Datenschutz *Mit dem Absenden Ihrer Anfrage erklären Sie sich mit der Verarbeitung Ihrer angegebenen Daten zum Zweck der Bearbeitung Ihrer Anfrage einverstanden.https://www.juz-zweiteheimat.de/datenschutzerklaerungJetzt reservieren
URL:https://juz-zweiteheimat.de/event/fee-brembeck-komm-du-erst-mal-aus-meinem-alter-am-04-dezember-2026/
LOCATION:Jugend-\, Kultur- und Bürgerzentrum “Zweite Heimat”\, Mittelstraße 7\, Höhr-Grenzhausen\, Rheinland-Pfalz\, 56203\, Germany
CATEGORIES:Comedy
ATTACH;FMTTYPE=image/jpeg:https://juz-zweiteheimat.de/wp-content/uploads/2025/02/Pressebild_Komm-du-erst-mal-aus-meinem-Alter_cSophie-Wanninger-web.jpg
ORGANIZER;CN="Jugend-%2C Kultur- und B%C3%BCrgerzentrum 'Zweite Heimat'":MAILTO:info@juz-zweiteheimat.de
END:VEVENT
END:VCALENDAR